BEGIN:VCALENDAR
VERSION:2.0
PRODID:-//Epworth UMC - ECPv6.15.20//NONSGML v1.0//EN
CALSCALE:GREGORIAN
METHOD:PUBLISH
X-ORIGINAL-URL:https://epworth.faith
X-WR-CALDESC:Events for Epworth UMC
REFRESH-INTERVAL;VALUE=DURATION:PT1H
X-Robots-Tag:noindex
X-PUBLISHED-TTL:PT1H
BEGIN:VTIMEZONE
TZID:America/New_York
BEGIN:DAYLIGHT
TZOFFSETFROM:-0500
TZOFFSETTO:-0400
TZNAME:EDT
DTSTART:20240310T070000
END:DAYLIGHT
BEGIN:STANDARD
TZOFFSETFROM:-0400
TZOFFSETTO:-0500
TZNAME:EST
DTSTART:20241103T060000
END:STANDARD
BEGIN:DAYLIGHT
TZOFFSETFROM:-0500
TZOFFSETTO:-0400
TZNAME:EDT
DTSTART:20250309T070000
END:DAYLIGHT
BEGIN:STANDARD
TZOFFSETFROM:-0400
TZOFFSETTO:-0500
TZNAME:EST
DTSTART:20251102T060000
END:STANDARD
BEGIN:DAYLIGHT
TZOFFSETFROM:-0500
TZOFFSETTO:-0400
TZNAME:EDT
DTSTART:20260308T070000
END:DAYLIGHT
BEGIN:STANDARD
TZOFFSETFROM:-0400
TZOFFSETTO:-0500
TZNAME:EST
DTSTART:20261101T060000
END:STANDARD
END:VTIMEZONE
BEGIN:VEVENT
DTSTART;TZID=America/New_York:20250930T120000
DTEND;TZID=America/New_York:20250930T140000
DTSTAMP:20260425T091910
CREATED:20231101T154604Z
LAST-MODIFIED:20231101T154604Z
UID:10010551-1759233600-1759240800@epworth.faith
SUMMARY:Staff Meeting (Conference Room)
DESCRIPTION:
URL:https://epworth.faith/event/staff-meeting-conference-room/2025-09-30/
LOCATION:Epworth United Methodist Church\, 19285 Holland Glade Road\, Rehoboth Beach\, DE\, 19971\, United States
CATEGORIES:Church,Staff
ORGANIZER;CN="Vicki Gordy-Stith":MAILTO:vgordy-stith@epworth.faith
END:VEVENT
BEGIN:VEVENT
DTSTART;TZID=America/New_York:20250930T140000
DTEND;TZID=America/New_York:20250930T170000
DTSTAMP:20260425T091910
CREATED:20250709T184523Z
LAST-MODIFIED:20250709T184523Z
UID:10016988-1759240800-1759251600@epworth.faith
SUMMARY:Stitching Group (Branford Room)
DESCRIPTION:
URL:https://epworth.faith/event/stitching-group-branford-room/2025-09-30/
LOCATION:Epworth United Methodist Church\, 19285 Holland Glade Road\, Rehoboth Beach\, DE\, 19971\, United States
CATEGORIES:Church,Groups
END:VEVENT
BEGIN:VEVENT
DTSTART;TZID=America/New_York:20250930T180000
DTEND;TZID=America/New_York:20250930T190000
DTSTAMP:20260425T091910
CREATED:20240905T121346Z
LAST-MODIFIED:20251023T144445Z
UID:10014147-1759255200-1759258800@epworth.faith
SUMMARY:Alanon Meeting (Branford Room)
DESCRIPTION:
URL:https://epworth.faith/event/alanon-meeting-branford-room/2025-09-30/
LOCATION:Epworth United Methodist Church\, 19285 Holland Glade Road\, Rehoboth Beach\, DE\, 19971\, United States
CATEGORIES:Church,Groups
END:VEVENT
BEGIN:VEVENT
DTSTART;TZID=America/New_York:20250930T190000
DTEND;TZID=America/New_York:20250930T200000
DTSTAMP:20260425T091910
CREATED:20240905T121615Z
LAST-MODIFIED:20251023T144756Z
UID:10014199-1759258800-1759262400@epworth.faith
SUMMARY:Alanon Meeting (Baker Room)
DESCRIPTION:
URL:https://epworth.faith/event/alanon-meeting-baker-room/2025-09-30/
LOCATION:Epworth United Methodist Church\, 19285 Holland Glade Road\, Rehoboth Beach\, DE\, 19971\, United States
CATEGORIES:Church,Groups
END:VEVENT
BEGIN:VEVENT
DTSTART;TZID=America/New_York:20250930T190000
DTEND;TZID=America/New_York:20250930T200000
DTSTAMP:20260425T091910
CREATED:20240905T121808Z
LAST-MODIFIED:20251023T145128Z
UID:10014251-1759258800-1759262400@epworth.faith
SUMMARY:AA Meeting (Music Room)
DESCRIPTION:
URL:https://epworth.faith/event/aa-meeting-music-room/2025-09-30/
LOCATION:Epworth United Methodist Church\, 19285 Holland Glade Road\, Rehoboth Beach\, DE\, 19971\, United States
CATEGORIES:Church,Groups
END:VEVENT
BEGIN:VEVENT
DTSTART;TZID=America/New_York:20251001T090000
DTEND;TZID=America/New_York:20251001T113000
DTSTAMP:20260425T091910
CREATED:20241219T172117Z
LAST-MODIFIED:20241219T172120Z
UID:10015280-1759309200-1759318200@epworth.faith
SUMMARY:Yom Kippur Set-Up (Sanctuary)
DESCRIPTION:
URL:https://epworth.faith/event/yom-kippur-set-up-sanctuary-2/
LOCATION:Epworth United Methodist Church\, 19285 Holland Glade Road\, Rehoboth Beach\, DE\, 19971\, United States
CATEGORIES:Church,Facility Rentals,Neighborhood/Community Groups
ORGANIZER;CN="Barry Novich":MAILTO:barryfn@hotmail.com
END:VEVENT
BEGIN:VEVENT
DTSTART;TZID=America/New_York:20251001T100000
DTEND;TZID=America/New_York:20251001T120000
DTSTAMP:20260425T091910
CREATED:20250827T201136Z
LAST-MODIFIED:20250827T201136Z
UID:10017247-1759312800-1759320000@epworth.faith
SUMMARY:Sisters in Christ Meetings (Starnes Room)
DESCRIPTION:
URL:https://epworth.faith/event/sisters-in-christ-meetings-starnes-room/2025-10-01/
LOCATION:Epworth United Methodist Church\, 19285 Holland Glade Road\, Rehoboth Beach\, DE\, 19971\, United States
CATEGORIES:Church,Groups
ORGANIZER;CN="Barbara Hoffman":MAILTO:revbarbarahoffman@gmail.com
END:VEVENT
BEGIN:VEVENT
DTSTART;TZID=America/New_York:20251001T163000
DTEND;TZID=America/New_York:20251001T173000
DTSTAMP:20260425T091910
CREATED:20250528T122948Z
LAST-MODIFIED:20250911T130205Z
UID:10017296-1759336200-1759339800@epworth.faith
SUMMARY:Memorial Bells Practice (Music Room)
DESCRIPTION:
URL:https://epworth.faith/event/memorial-bells-practice-music-room-2/2025-10-01/
LOCATION:Epworth United Methodist Church\, 19285 Holland Glade Road\, Rehoboth Beach\, DE\, 19971\, United States
CATEGORIES:Church,Music
ORGANIZER;CN="Doug Yetter":MAILTO:dyetter@epworth.faith
END:VEVENT
BEGIN:VEVENT
DTSTART;TZID=America/New_York:20251001T173000
DTEND;TZID=America/New_York:20251001T183000
DTSTAMP:20260425T091910
CREATED:20250116T215058Z
LAST-MODIFIED:20250911T132405Z
UID:10017370-1759339800-1759343400@epworth.faith
SUMMARY:Chancel Choir Practice (Music Room)
DESCRIPTION:
URL:https://epworth.faith/event/chancel-choir-practice-music-room-2/2025-10-01/
LOCATION:Epworth United Methodist Church\, 19285 Holland Glade Road\, Rehoboth Beach\, DE\, 19971\, United States
CATEGORIES:Church,Groups
ORGANIZER;CN="Doug Yetter":MAILTO:dyetter@epworth.faith
END:VEVENT
BEGIN:VEVENT
DTSTART;TZID=America/New_York:20251001T183000
DTEND;TZID=America/New_York:20251001T193000
DTSTAMP:20260425T091910
CREATED:20250528T124534Z
LAST-MODIFIED:20250911T132748Z
UID:10017411-1759343400-1759347000@epworth.faith
SUMMARY:Praise Team (Sanctuary)
DESCRIPTION:
URL:https://epworth.faith/event/praise-team-sanctuary/2025-10-01/
LOCATION:Epworth United Methodist Church\, 19285 Holland Glade Road\, Rehoboth Beach\, DE\, 19971\, United States
CATEGORIES:Church,Music
ORGANIZER;CN="Doug Yetter":MAILTO:dyetter@epworth.faith
END:VEVENT
BEGIN:VEVENT
DTSTART;TZID=America/New_York:20251001T183000
DTEND;TZID=America/New_York:20251001T210000
DTSTAMP:20260425T091910
CREATED:20240321T141039Z
LAST-MODIFIED:20240321T141039Z
UID:10012470-1759343400-1759352400@epworth.faith
SUMMARY:ManKind Project (MKP) (Baker Lounge)
DESCRIPTION:
URL:https://epworth.faith/event/mankind-project-mkp-baker-lounge-3/2025-10-01/
LOCATION:Epworth United Methodist Church\, 19285 Holland Glade Road\, Rehoboth Beach\, DE\, 19971\, United States
CATEGORIES:Church,Groups
ORGANIZER;CN="Rick Buske":MAILTO:rick.buske@gmail.com
END:VEVENT
BEGIN:VEVENT
DTSTART;TZID=America/New_York:20251001T183000
DTEND;TZID=America/New_York:20251001T210000
DTSTAMP:20260425T091910
CREATED:20241219T172238Z
LAST-MODIFIED:20241219T172238Z
UID:10015281-1759343400-1759352400@epworth.faith
SUMMARY:Yom Kippur Evening Service (Sanctuary)
DESCRIPTION:
URL:https://epworth.faith/event/yom-kippur-evening-service-sanctuary-2/
LOCATION:Epworth United Methodist Church\, 19285 Holland Glade Road\, Rehoboth Beach\, DE\, 19971\, United States
CATEGORIES:Church,Facility Rentals,Neighborhood/Community Groups
ORGANIZER;CN="Barry Novich":MAILTO:barryfn@hotmail.com
END:VEVENT
BEGIN:VEVENT
DTSTART;TZID=America/New_York:20251001T190000
DTEND;TZID=America/New_York:20251001T203000
DTSTAMP:20260425T091910
CREATED:20250508T141016Z
LAST-MODIFIED:20250508T141016Z
UID:10016036-1759345200-1759350600@epworth.faith
SUMMARY:Duer Small Group (Starnes Room)
DESCRIPTION:
URL:https://epworth.faith/event/duer-small-group-starnes-room/2025-10-01/
LOCATION:Epworth United Methodist Church\, 19285 Holland Glade Road\, Rehoboth Beach\, DE\, 19971\, United States
CATEGORIES:Church,Groups
ORGANIZER;CN="Robin Duer":MAILTO:beachrobin12@aol.com
END:VEVENT
BEGIN:VEVENT
DTSTART;TZID=America/New_York:20251002T090000
DTEND;TZID=America/New_York:20251002T190000
DTSTAMP:20260425T091910
CREATED:20241219T172359Z
LAST-MODIFIED:20241219T172359Z
UID:10015282-1759395600-1759431600@epworth.faith
SUMMARY:Yom Kippur Youth Service (Branford Room)
DESCRIPTION:
URL:https://epworth.faith/event/yom-kippur-youth-service-branford-room/
LOCATION:Epworth United Methodist Church\, 19285 Holland Glade Road\, Rehoboth Beach\, DE\, 19971\, United States
CATEGORIES:Church,Facility Rentals,Neighborhood/Community Groups
ORGANIZER;CN="Barry Novich":MAILTO:barryfn@hotmail.com
END:VEVENT
BEGIN:VEVENT
DTSTART;TZID=America/New_York:20251002T090000
DTEND;TZID=America/New_York:20251002T190000
DTSTAMP:20260425T091910
CREATED:20241219T172520Z
LAST-MODIFIED:20241219T172520Z
UID:10015283-1759395600-1759431600@epworth.faith
SUMMARY:Yom Kippur Youth Activities (Youth Room)
DESCRIPTION:
URL:https://epworth.faith/event/yom-kippur-youth-activities-youth-room-2/
LOCATION:Epworth United Methodist Church\, 19285 Holland Glade Road\, Rehoboth Beach\, DE\, 19971\, United States
CATEGORIES:Church,Facility Rentals,Neighborhood/Community Groups
ORGANIZER;CN="Barry Novich":MAILTO:barryfn@hotmail.com
END:VEVENT
BEGIN:VEVENT
DTSTART;TZID=America/New_York:20251002T093000
DTEND;TZID=America/New_York:20251002T103000
DTSTAMP:20260425T091910
CREATED:20250521T185021Z
LAST-MODIFIED:20260205T141334Z
UID:10016564-1759397400-1759401000@epworth.faith
SUMMARY:Alzheimer/Dementia Support Group (Baker Room)
DESCRIPTION:
URL:https://epworth.faith/event/alzheimer-dementia-support-group-baker-room/2025-10-02/
LOCATION:Epworth United Methodist Church\, 19285 Holland Glade Road\, Rehoboth Beach\, DE\, 19971\, United States
CATEGORIES:Church,Groups
ORGANIZER;CN="Harry Martens":MAILTO:HMartensiii@gmail.com
END:VEVENT
BEGIN:VEVENT
DTSTART;TZID=America/New_York:20251002T100000
DTEND;TZID=America/New_York:20251002T113000
DTSTAMP:20260425T091910
CREATED:20250821T135925Z
LAST-MODIFIED:20250911T133045Z
UID:10017049-1759399200-1759404600@epworth.faith
SUMMARY:Parkinson's Voice Project Choir (Music Room)
DESCRIPTION:
URL:https://epworth.faith/event/parkinsons-voice-project-choir-music-room-2/2025-10-02/
LOCATION:Epworth United Methodist Church\, 19285 Holland Glade Road\, Rehoboth Beach\, DE\, 19971\, United States
CATEGORIES:Church,Groups
ORGANIZER;CN="Doug Yetter":MAILTO:dyetter@epworth.faith
END:VEVENT
BEGIN:VEVENT
DTSTART;TZID=America/New_York:20251002T100000
DTEND;TZID=America/New_York:20251002T190000
DTSTAMP:20260425T091910
CREATED:20241219T172616Z
LAST-MODIFIED:20241219T172616Z
UID:10015284-1759399200-1759431600@epworth.faith
SUMMARY:Yom Kippur Worship (Sanctuary)
DESCRIPTION:
URL:https://epworth.faith/event/yom-kippur-worship-sanctuary-2/
LOCATION:Epworth United Methodist Church\, 19285 Holland Glade Road\, Rehoboth Beach\, DE\, 19971\, United States
CATEGORIES:Church,Facility Rentals,Neighborhood/Community Groups
ORGANIZER;CN="Barry Novich":MAILTO:barryfn@hotmail.com
END:VEVENT
BEGIN:VEVENT
DTSTART;TZID=America/New_York:20251002T110000
DTEND;TZID=America/New_York:20251002T120000
DTSTAMP:20260425T091910
CREATED:20250513T184931Z
LAST-MODIFIED:20260129T210925Z
UID:10016451-1759402800-1759406400@epworth.faith
SUMMARY:Grief Group (Baker Room)
DESCRIPTION:
URL:https://epworth.faith/event/grief-group-baker-room/2025-10-02/
LOCATION:Epworth United Methodist Church\, 19285 Holland Glade Road\, Rehoboth Beach\, DE\, 19971\, United States
ORGANIZER;CN="Vicki Gordy-Stith":MAILTO:vgordy-stith@epworth.faith
END:VEVENT
BEGIN:VEVENT
DTSTART;TZID=America/New_York:20251002T120000
DTEND;TZID=America/New_York:20251002T130000
DTSTAMP:20260425T091910
CREATED:20240905T122329Z
LAST-MODIFIED:20251023T150055Z
UID:10014408-1759406400-1759410000@epworth.faith
SUMMARY:Alanon Meeting (Branford Room)
DESCRIPTION:
URL:https://epworth.faith/event/alanon-meeting-branford-room-3/2025-10-02/
LOCATION:Epworth United Methodist Church\, 19285 Holland Glade Road\, Rehoboth Beach\, DE\, 19971\, United States
CATEGORIES:Church,Groups
END:VEVENT
BEGIN:VEVENT
DTSTART;TZID=America/New_York:20251002T153000
DTEND;TZID=America/New_York:20251002T173000
DTSTAMP:20260425T091910
CREATED:20241219T172727Z
LAST-MODIFIED:20241219T172727Z
UID:10015285-1759419000-1759426200@epworth.faith
SUMMARY:Yom Kippur Set-Up for Break-the-Fast Meal (Fellowship Hall)
DESCRIPTION:
URL:https://epworth.faith/event/yom-kippur-set-up-for-break-the-fast-meal-fellowship-hall-2/
LOCATION:Epworth United Methodist Church\, 19285 Holland Glade Road\, Rehoboth Beach\, DE\, 19971\, United States
CATEGORIES:Church,Facility Rentals,Neighborhood/Community Groups
ORGANIZER;CN="Barry Novich":MAILTO:barryfn@hotmail.com
END:VEVENT
BEGIN:VEVENT
DTSTART;TZID=America/New_York:20251002T190000
DTEND;TZID=America/New_York:20251002T210000
DTSTAMP:20260425T091910
CREATED:20241219T172853Z
LAST-MODIFIED:20241219T172853Z
UID:10015286-1759431600-1759438800@epworth.faith
SUMMARY:Yom Kippur Break-the-Fast Meal (Fellowship Hall)
DESCRIPTION:
URL:https://epworth.faith/event/yom-kippur-break-the-fast-meal-fellowship-hall-3/
LOCATION:Epworth United Methodist Church\, 19285 Holland Glade Road\, Rehoboth Beach\, DE\, 19971\, United States
CATEGORIES:Church,Facility Rentals,Neighborhood/Community Groups
ORGANIZER;CN="Barry Novich":MAILTO:barryfn@hotmail.com
END:VEVENT
BEGIN:VEVENT
DTSTART;TZID=America/New_York:20251002T193000
DTEND;TZID=America/New_York:20251002T203000
DTSTAMP:20260425T091910
CREATED:20240905T122521Z
LAST-MODIFIED:20251023T150301Z
UID:10014460-1759433400-1759437000@epworth.faith
SUMMARY:AA Meeting (Baker Room)
DESCRIPTION:
URL:https://epworth.faith/event/aa-meeting-baker-room/2025-10-02/
LOCATION:Epworth United Methodist Church\, 19285 Holland Glade Road\, Rehoboth Beach\, DE\, 19971\, United States
CATEGORIES:Church,Groups
END:VEVENT
BEGIN:VEVENT
DTSTART;TZID=America/New_York:20251003T100000
DTEND;TZID=America/New_York:20251003T120000
DTSTAMP:20260425T091910
CREATED:20250707T171231Z
LAST-MODIFIED:20250707T171231Z
UID:10016853-1759485600-1759492800@epworth.faith
SUMMARY:Worship Design Set-Up (Sanctuary)
DESCRIPTION:
URL:https://epworth.faith/event/worship-design-set-up-sanctuary/
LOCATION:Epworth United Methodist Church\, 19285 Holland Glade Road\, Rehoboth Beach\, DE\, 19971\, United States
CATEGORIES:Church,Groups
ORGANIZER;CN="Murray Archibald":MAILTO:rma.archibald@gmail.com
END:VEVENT
BEGIN:VEVENT
DTSTART;TZID=America/New_York:20251003T143000
DTEND;TZID=America/New_York:20251003T160000
DTSTAMP:20260425T091910
CREATED:20250827T145757Z
LAST-MODIFIED:20250917T183514Z
UID:10017244-1759501800-1759507200@epworth.faith
SUMMARY:Celebration of Life for John Wolfle (Sanctuary)
DESCRIPTION:
URL:https://epworth.faith/event/celebration-of-life-for-john-wolfle-sanctuary/
LOCATION:Epworth United Methodist Church\, 19285 Holland Glade Road\, Rehoboth Beach\, DE\, 19971\, United States
CATEGORIES:Church,Funerals
END:VEVENT
BEGIN:VEVENT
DTSTART;TZID=America/New_York:20251004T090000
DTEND;TZID=America/New_York:20251004T100000
DTSTAMP:20260425T091910
CREATED:20240905T122704Z
LAST-MODIFIED:20251023T150523Z
UID:10014512-1759568400-1759572000@epworth.faith
SUMMARY:ACA Meeting (Baker Room)
DESCRIPTION:
URL:https://epworth.faith/event/aca-meeting-baker-room/2025-10-04/
LOCATION:Epworth United Methodist Church\, 19285 Holland Glade Road\, Rehoboth Beach\, DE\, 19971\, United States
CATEGORIES:Church,Groups
END:VEVENT
BEGIN:VEVENT
DTSTART;TZID=America/New_York:20251004T090000
DTEND;TZID=America/New_York:20251004T123000
DTSTAMP:20260425T091910
CREATED:20250820T162920Z
LAST-MODIFIED:20250820T162920Z
UID:10017039-1759568400-1759581000@epworth.faith
SUMMARY:The Grande @ Canal Pointe Homeowners Association Meeting (Fellowship Hall)
DESCRIPTION:
URL:https://epworth.faith/event/the-grande-canal-pointe-homeowners-association-meeting-fellowship-hall/
LOCATION:Epworth United Methodist Church\, 19285 Holland Glade Road\, Rehoboth Beach\, DE\, 19971\, United States
CATEGORIES:Church,Facility Rentals,Neighborhood/Community Groups
END:VEVENT
BEGIN:VEVENT
DTSTART;TZID=America/New_York:20251004T100000
DTEND;TZID=America/New_York:20251004T120000
DTSTAMP:20260425T091910
CREATED:20250113T134006Z
LAST-MODIFIED:20250113T134007Z
UID:10015354-1759572000-1759579200@epworth.faith
SUMMARY:Pond's Edge Annual Meeting (Music Room)
DESCRIPTION:
URL:https://epworth.faith/event/ponds-edge-annual-meeting-music-room/
LOCATION:Epworth United Methodist Church\, 19285 Holland Glade Road\, Rehoboth Beach\, DE\, 19971\, United States
CATEGORIES:Church,Facility Rentals,Neighborhood/Community Groups
ORGANIZER;CN="Ann McGinley":MAILTO:AMcGinley@legumnorman.com
END:VEVENT
BEGIN:VEVENT
DTSTART;TZID=America/New_York:20251004T170000
DTEND;TZID=America/New_York:20251004T210000
DTSTAMP:20260425T091910
CREATED:20250317T133017Z
LAST-MODIFIED:20250317T133017Z
UID:10015899-1759597200-1759611600@epworth.faith
SUMMARY:Emmaus Annual Gathering (Fellowship Hall and Kitchen)
DESCRIPTION:
URL:https://epworth.faith/event/emmaus-annual-gathering-fellowship-hall-and-kitchen/
LOCATION:Epworth United Methodist Church\, 19285 Holland Glade Road\, Rehoboth Beach\, DE\, 19971\, United States
CATEGORIES:Church,Groups
ORGANIZER;CN="Robin Duer":MAILTO:beachrobin12@aol.com
END:VEVENT
BEGIN:VEVENT
DTSTART;TZID=America/New_York:20251004T180000
DTEND;TZID=America/New_York:20251004T190000
DTSTAMP:20260425T091910
CREATED:20240905T122918Z
LAST-MODIFIED:20251023T150738Z
UID:10014564-1759600800-1759604400@epworth.faith
SUMMARY:Alanon Meeting (Baker Room)
DESCRIPTION:
URL:https://epworth.faith/event/alanon-meeting-baker-room-2/2025-10-04/
LOCATION:Epworth United Methodist Church\, 19285 Holland Glade Road\, Rehoboth Beach\, DE\, 19971\, United States
CATEGORIES:Church,Groups
END:VEVENT
END:VCALENDAR