BEGIN:VCALENDAR
VERSION:2.0
PRODID:-//Epworth UMC - ECPv6.15.20//NONSGML v1.0//EN
CALSCALE:GREGORIAN
METHOD:PUBLISH
X-ORIGINAL-URL:https://epworth.faith
X-WR-CALDESC:Events for Epworth UMC
REFRESH-INTERVAL;VALUE=DURATION:PT1H
X-Robots-Tag:noindex
X-PUBLISHED-TTL:PT1H
BEGIN:VTIMEZONE
TZID:America/New_York
BEGIN:DAYLIGHT
TZOFFSETFROM:-0500
TZOFFSETTO:-0400
TZNAME:EDT
DTSTART:20230312T070000
END:DAYLIGHT
BEGIN:STANDARD
TZOFFSETFROM:-0400
TZOFFSETTO:-0500
TZNAME:EST
DTSTART:20231105T060000
END:STANDARD
BEGIN:DAYLIGHT
TZOFFSETFROM:-0500
TZOFFSETTO:-0400
TZNAME:EDT
DTSTART:20240310T070000
END:DAYLIGHT
BEGIN:STANDARD
TZOFFSETFROM:-0400
TZOFFSETTO:-0500
TZNAME:EST
DTSTART:20241103T060000
END:STANDARD
BEGIN:DAYLIGHT
TZOFFSETFROM:-0500
TZOFFSETTO:-0400
TZNAME:EDT
DTSTART:20250309T070000
END:DAYLIGHT
BEGIN:STANDARD
TZOFFSETFROM:-0400
TZOFFSETTO:-0500
TZNAME:EST
DTSTART:20251102T060000
END:STANDARD
END:VTIMEZONE
BEGIN:VEVENT
DTSTART;TZID=America/New_York:20241116T090000
DTEND;TZID=America/New_York:20241116T100000
DTSTAMP:20260426T003220
CREATED:20231211T215002Z
LAST-MODIFIED:20231211T215002Z
UID:10011546-1731747600-1731751200@epworth.faith
SUMMARY:ACA (Baker Lounge)
DESCRIPTION:
URL:https://epworth.faith/event/aca-baker-lounge/2024-11-16/
LOCATION:Epworth United Methodist Church\, 19285 Holland Glade Road\, Rehoboth Beach\, DE\, 19971\, United States
CATEGORIES:Facility Rentals,Neighborhood/Community Groups
ORGANIZER;CN="Gail Tarlecky":MAILTO:gr8fulgail@comcast.net
END:VEVENT
BEGIN:VEVENT
DTSTART;TZID=America/New_York:20241116T090000
DTEND;TZID=America/New_York:20241116T110000
DTSTAMP:20260426T003220
CREATED:20241107T203623Z
LAST-MODIFIED:20241107T203952Z
UID:10015174-1731747600-1731754800@epworth.faith
SUMMARY:Choir Practice (Sanctuary)
DESCRIPTION:
URL:https://epworth.faith/event/choir-practice-music-room-2/
LOCATION:Epworth United Methodist Church\, 19285 Holland Glade Road\, Rehoboth Beach\, DE\, 19971\, United States
CATEGORIES:Church,Music
ORGANIZER;CN="Doug Yetter":MAILTO:dyetter@epworth.faith
END:VEVENT
BEGIN:VEVENT
DTSTART;TZID=America/New_York:20241116T090000
DTEND;TZID=America/New_York:20241116T120000
DTSTAMP:20260426T003220
CREATED:20241007T172035Z
LAST-MODIFIED:20241007T172035Z
UID:10015035-1731747600-1731758400@epworth.faith
SUMMARY:Sea Chase HOA Meeting (Music Room)
DESCRIPTION:
URL:https://epworth.faith/event/sea-chase-hoa-meeting-music-room/
LOCATION:Epworth United Methodist Church\, 19285 Holland Glade Road\, Rehoboth Beach\, DE\, 19971\, United States
CATEGORIES:Church,Groups
ORGANIZER;CN="David Hagelin":MAILTO:dmhagelin@gmail.com
END:VEVENT
BEGIN:VEVENT
DTSTART;TZID=America/New_York:20241116T090000
DTEND;TZID=America/New_York:20241116T160000
DTSTAMP:20260426T003220
CREATED:20241001T141451Z
LAST-MODIFIED:20241001T175228Z
UID:10014646-1731747600-1731772800@epworth.faith
SUMMARY:Cornhole Tournament Fundraiser (Fellowship Hall)
DESCRIPTION:
URL:https://epworth.faith/event/community-outreach-fundraiser-fellowship-hall/
LOCATION:Epworth United Methodist Church\, 19285 Holland Glade Road\, Rehoboth Beach\, DE\, 19971\, United States
CATEGORIES:Church,Groups
ORGANIZER;CN="Kim Witmer":MAILTO:kw.witmer@kw.com
END:VEVENT
BEGIN:VEVENT
DTSTART;TZID=America/New_York:20241116T180000
DTEND;TZID=America/New_York:20241116T180000
DTSTAMP:20260426T003220
CREATED:20231211T220725Z
LAST-MODIFIED:20231211T220725Z
UID:10011597-1731780000-1731780000@epworth.faith
SUMMARY:AA (Branford Lounge)
DESCRIPTION:
URL:https://epworth.faith/event/aa-branford-lounge-3/2024-11-16/
LOCATION:Epworth United Methodist Church\, 19285 Holland Glade Road\, Rehoboth Beach\, DE\, 19971\, United States
CATEGORIES:Facility Rentals,Neighborhood/Community Groups
ORGANIZER;CN="Larry Karnbach":MAILTO:aklk22@verizon.net
END:VEVENT
BEGIN:VEVENT
DTSTART;TZID=America/New_York:20241116T180000
DTEND;TZID=America/New_York:20241116T190000
DTSTAMP:20260426T003220
CREATED:20231211T225009Z
LAST-MODIFIED:20231211T225009Z
UID:10011804-1731780000-1731783600@epworth.faith
SUMMARY:ALANON (Bakers' Lounge)
DESCRIPTION:
URL:https://epworth.faith/event/alanon-bakers-lounge/2024-11-16/
LOCATION:Epworth United Methodist Church\, 19285 Holland Glade Road\, Rehoboth Beach\, DE\, 19971\, United States
CATEGORIES:Facility Rentals,Neighborhood/Community Groups
END:VEVENT
BEGIN:VEVENT
DTSTART;TZID=America/New_York:20241117T100000
DTEND;TZID=America/New_York:20241117T110000
DTSTAMP:20260426T003220
CREATED:20230909T152658Z
LAST-MODIFIED:20230909T161232Z
UID:10009072-1731837600-1731841200@epworth.faith
SUMMARY:Blended ASL Worship Service (Sanctuary & Online)
DESCRIPTION:YouTube Livestream\nYouTube ASL Livestream\nFacebook Livestream
URL:https://epworth.faith/event/blended-worship-service-sanctuary-on-line-2/2024-11-17/
LOCATION:Epworth United Methodist Church\, 19285 Holland Glade Road\, Rehoboth Beach\, DE\, 19971\, United States
CATEGORIES:Worship
ORGANIZER;CN="Vicki Gordy-Stith":MAILTO:vgordy-stith@epworth.faith
END:VEVENT
BEGIN:VEVENT
DTSTART;TZID=America/New_York:20241117T111500
DTEND;TZID=America/New_York:20241117T114500
DTSTAMP:20260426T003220
CREATED:20231230T182351Z
LAST-MODIFIED:20231230T182351Z
UID:10012091-1731842100-1731843900@epworth.faith
SUMMARY:Stephen Ministry - Prayer Chapel (Baker Lounge)
DESCRIPTION:
URL:https://epworth.faith/event/stephen-ministry-prayer-chapel-baker-lounge/2024-11-17/
LOCATION:Epworth United Methodist Church\, 19285 Holland Glade Road\, Rehoboth Beach\, DE\, 19971\, United States
CATEGORIES:Church,Groups
ORGANIZER;CN="Val Linder":MAILTO:rovalinder@comcast.net
END:VEVENT
BEGIN:VEVENT
DTSTART;TZID=America/New_York:20241117T113000
DTEND;TZID=America/New_York:20241117T123000
DTSTAMP:20260426T003220
CREATED:20240826T184533Z
LAST-MODIFIED:20240826T184533Z
UID:10014037-1731843000-1731846600@epworth.faith
SUMMARY:Meet Me @ Epworth Group Bible Study (Branford Lounge)
DESCRIPTION:
URL:https://epworth.faith/event/meet-me-epworth-group-bible-study-branford-lounge/2024-11-17/
LOCATION:Epworth United Methodist Church\, 19285 Holland Glade Road\, Rehoboth Beach\, DE\, 19971\, United States
CATEGORIES:Church,Groups
ORGANIZER;CN="Mickie McManamon":MAILTO:mmcmanamon@epworth.faith
END:VEVENT
BEGIN:VEVENT
DTSTART;TZID=America/New_York:20241118T143000
DTEND;TZID=America/New_York:20241118T160000
DTSTAMP:20260426T003220
CREATED:20241009T171620Z
LAST-MODIFIED:20241009T171620Z
UID:10015040-1731940200-1731945600@epworth.faith
SUMMARY:Preschool Board Meeting (Office Conference Room)
DESCRIPTION:
URL:https://epworth.faith/event/preschool-board-meeting-office-conference-room-2/
LOCATION:Epworth United Methodist Church\, 19285 Holland Glade Road\, Rehoboth Beach\, DE\, 19971\, United States
CATEGORIES:Church,Groups
ORGANIZER;CN="Betsy Plowman":MAILTO:bplowman@epworth.faith
END:VEVENT
BEGIN:VEVENT
DTSTART;TZID=America/New_York:20241118T170000
DTEND;TZID=America/New_York:20241118T180000
DTSTAMP:20260426T003220
CREATED:20231211T172903Z
LAST-MODIFIED:20231211T172903Z
UID:10011238-1731949200-1731952800@epworth.faith
SUMMARY:ALANON Newcomers (Bakers Lounge)
DESCRIPTION:
URL:https://epworth.faith/event/alanon-newcomers-bakers-lounge/2024-11-18/
LOCATION:Epworth United Methodist Church\, 19285 Holland Glade Road\, Rehoboth Beach\, DE\, 19971\, United States
CATEGORIES:Facility Rentals,Neighborhood/Community Groups
END:VEVENT
BEGIN:VEVENT
DTSTART;TZID=America/New_York:20241118T180000
DTEND;TZID=America/New_York:20241118T180000
DTSTAMP:20260426T003220
CREATED:20231211T223614Z
LAST-MODIFIED:20231211T223614Z
UID:10011700-1731952800-1731952800@epworth.faith
SUMMARY:ALANON (Branford Lounge)
DESCRIPTION:
URL:https://epworth.faith/event/alanon-branford-lounge-3/2024-11-18/
LOCATION:Epworth United Methodist Church\, 19285 Holland Glade Road\, Rehoboth Beach\, DE\, 19971\, United States
CATEGORIES:Facility Rentals,Neighborhood/Community Groups
END:VEVENT
BEGIN:VEVENT
DTSTART;TZID=America/New_York:20241119T120000
DTEND;TZID=America/New_York:20241119T140000
DTSTAMP:20260426T003220
CREATED:20231101T154604Z
LAST-MODIFIED:20231101T154604Z
UID:10010506-1732017600-1732024800@epworth.faith
SUMMARY:Staff Meeting (Conference Room)
DESCRIPTION:
URL:https://epworth.faith/event/staff-meeting-conference-room/2024-11-19/
LOCATION:Epworth United Methodist Church\, 19285 Holland Glade Road\, Rehoboth Beach\, DE\, 19971\, United States
CATEGORIES:Church,Staff
ORGANIZER;CN="Vicki Gordy-Stith":MAILTO:vgordy-stith@epworth.faith
END:VEVENT
BEGIN:VEVENT
DTSTART;TZID=America/New_York:20241119T180000
DTEND;TZID=America/New_York:20241119T190000
DTSTAMP:20260426T003220
CREATED:20231211T173536Z
LAST-MODIFIED:20231211T174300Z
UID:10011290-1732039200-1732042800@epworth.faith
SUMMARY:ALANON (Branford Lounge)
DESCRIPTION:
URL:https://epworth.faith/event/alanon-11/2024-11-19/
LOCATION:Epworth United Methodist Church\, 19285 Holland Glade Road\, Rehoboth Beach\, DE\, 19971\, United States
CATEGORIES:Facility Rentals,Neighborhood/Community Groups
END:VEVENT
BEGIN:VEVENT
DTSTART;TZID=America/New_York:20241119T180000
DTEND;TZID=America/New_York:20241119T200000
DTSTAMP:20260426T003220
CREATED:20241029T155713Z
LAST-MODIFIED:20241029T160314Z
UID:10015110-1732039200-1732046400@epworth.faith
SUMMARY:Camp Rehoboth Sectional - Music Room
DESCRIPTION:
URL:https://epworth.faith/event/camp-rehoboth-sectional-music-room-3/
LOCATION:Epworth United Methodist Church\, 19285 Holland Glade Road\, Rehoboth Beach\, DE\, 19971\, United States
CATEGORIES:Church,Groups
ORGANIZER;CN="David Scuccimarra":MAILTO:Scuch@aol.com
END:VEVENT
BEGIN:VEVENT
DTSTART;TZID=America/New_York:20241119T190000
DTEND;TZID=America/New_York:20241119T200000
DTSTAMP:20260426T003220
CREATED:20231211T175811Z
LAST-MODIFIED:20231211T175811Z
UID:10011343-1732042800-1732046400@epworth.faith
SUMMARY:AA (Music Room)
DESCRIPTION:
URL:https://epworth.faith/event/aa-music-room/2024-11-19/
LOCATION:Epworth United Methodist Church\, 19285 Holland Glade Road\, Rehoboth Beach\, DE\, 19971\, United States
CATEGORIES:Facility Rentals,Neighborhood/Community Groups
END:VEVENT
BEGIN:VEVENT
DTSTART;TZID=America/New_York:20241119T190000
DTEND;TZID=America/New_York:20241119T200000
DTSTAMP:20260426T003220
CREATED:20231211T224614Z
LAST-MODIFIED:20231211T224614Z
UID:10011753-1732042800-1732046400@epworth.faith
SUMMARY:ALANON (Baker Lounge)
DESCRIPTION:
URL:https://epworth.faith/event/alanon-baker-lounge-5/2024-11-19/
LOCATION:Epworth United Methodist Church\, 19285 Holland Glade Road\, Rehoboth Beach\, DE\, 19971\, United States
CATEGORIES:Facility Rentals,Neighborhood/Community Groups
ORGANIZER;CN="Gail Tarlecky":MAILTO:gr8fulgail@comcast.net
END:VEVENT
BEGIN:VEVENT
DTSTART;TZID=America/New_York:20241120T100000
DTEND;TZID=America/New_York:20241120T120000
DTSTAMP:20260426T003220
CREATED:20240509T205948Z
LAST-MODIFIED:20240509T205948Z
UID:10013426-1732096800-1732104000@epworth.faith
SUMMARY:Sisters in Christ Bible Study (Starnes Room)
DESCRIPTION:
URL:https://epworth.faith/event/sisters-in-christ-bible-study-starnes-room/2024-11-20/
LOCATION:Epworth United Methodist Church\, 19285 Holland Glade Road\, Rehoboth Beach\, DE\, 19971\, United States
CATEGORIES:Church,Groups
ORGANIZER;CN="Susan Jimenez":MAILTO:saj19971@gmail.com
END:VEVENT
BEGIN:VEVENT
DTSTART;TZID=America/New_York:20241120T120000
DTEND;TZID=America/New_York:20241120T140000
DTSTAMP:20260426T003220
CREATED:20241007T120741Z
LAST-MODIFIED:20241007T120741Z
UID:10015034-1732104000-1732111200@epworth.faith
SUMMARY:Fundraising Committee Meeting (Office Conference Room)
DESCRIPTION:
URL:https://epworth.faith/event/fundraising-committee-meeting-office-conference-room-4/
LOCATION:Epworth United Methodist Church\, 19285 Holland Glade Road\, Rehoboth Beach\, DE\, 19971\, United States
CATEGORIES:Church,Groups
ORGANIZER;CN="Linda BenderHilt":MAILTO:lbenderhilt@yahoo.com
END:VEVENT
BEGIN:VEVENT
DTSTART;TZID=America/New_York:20241120T180000
DTEND;TZID=America/New_York:20241120T190000
DTSTAMP:20260426T003220
CREATED:20231211T213445Z
LAST-MODIFIED:20231211T213445Z
UID:10011445-1732125600-1732129200@epworth.faith
SUMMARY:OA (Branford Lounge)
DESCRIPTION:
URL:https://epworth.faith/event/oa-branford-lounge/2024-11-20/
LOCATION:Epworth United Methodist Church\, 19285 Holland Glade Road\, Rehoboth Beach\, DE\, 19971\, United States
CATEGORIES:Facility Rentals,Neighborhood/Community Groups
ORGANIZER;CN="Gail Tarlecky":MAILTO:gr8fulgail@comcast.net
END:VEVENT
BEGIN:VEVENT
DTSTART;TZID=America/New_York:20241120T180000
DTEND;TZID=America/New_York:20241120T190000
DTSTAMP:20260426T003220
CREATED:20231212T170539Z
LAST-MODIFIED:20231212T170539Z
UID:10011869-1732125600-1732129200@epworth.faith
SUMMARY:Memorial Bells Practice (Music Wing)
DESCRIPTION:
URL:https://epworth.faith/event/memorial-bells-practice-music-wing-2/2024-11-20/
LOCATION:Epworth United Methodist Church\, 19285 Holland Glade Road\, Rehoboth Beach\, DE\, 19971\, United States
CATEGORIES:Church,Music
ORGANIZER;CN="Doug Yetter":MAILTO:dyetter@epworth.faith
END:VEVENT
BEGIN:VEVENT
DTSTART;TZID=America/New_York:20241120T183000
DTEND;TZID=America/New_York:20241120T210000
DTSTAMP:20260426T003220
CREATED:20240321T141329Z
LAST-MODIFIED:20240321T141511Z
UID:10012579-1732127400-1732136400@epworth.faith
SUMMARY:ManKind Project (MKP) (Baker Lounge)
DESCRIPTION:
URL:https://epworth.faith/event/mankind-project-mkp-baker-lounge-4/2024-11-20/
LOCATION:Epworth United Methodist Church\, 19285 Holland Glade Road\, Rehoboth Beach\, DE\, 19971\, United States
CATEGORIES:Church,Groups
ORGANIZER;CN="Rick Buske":MAILTO:rick.buske@gmail.com
END:VEVENT
BEGIN:VEVENT
DTSTART;TZID=America/New_York:20241120T190000
DTEND;TZID=America/New_York:20241120T200000
DTSTAMP:20260426T003220
CREATED:20231212T170718Z
LAST-MODIFIED:20231212T170718Z
UID:10011920-1732129200-1732132800@epworth.faith
SUMMARY:Chancel Choir Practice (Music Wing)
DESCRIPTION:
URL:https://epworth.faith/event/chancel-choir-practice-music-wing-2/2024-11-20/
LOCATION:DE
CATEGORIES:Church,Music
END:VEVENT
BEGIN:VEVENT
DTSTART;TZID=America/New_York:20241121T100000
DTEND;TZID=America/New_York:20241121T113000
DTSTAMP:20260426T003220
CREATED:20240807T181916Z
LAST-MODIFIED:20240918T142911Z
UID:10014006-1732183200-1732188600@epworth.faith
SUMMARY:Parkinson Voice Project Choir (Music Room)
DESCRIPTION:
URL:https://epworth.faith/event/parkinson-voice-project-choir-music-room/2024-11-21/
LOCATION:Epworth United Methodist Church\, 19285 Holland Glade Road\, Rehoboth Beach\, DE\, 19971\, United States
CATEGORIES:Church,Groups
ORGANIZER;CN="Doug Yetter":MAILTO:dyetter@epworth.faith
END:VEVENT
BEGIN:VEVENT
DTSTART;TZID=America/New_York:20241121T120000
DTEND;TZID=America/New_York:20241121T130000
DTSTAMP:20260426T003220
CREATED:20231211T214627Z
LAST-MODIFIED:20231211T214627Z
UID:10011496-1732190400-1732194000@epworth.faith
SUMMARY:ALANON (Branford Lounge)
DESCRIPTION:
URL:https://epworth.faith/event/alanon-branford-lounge-2/2024-11-21/
LOCATION:Epworth United Methodist Church\, 19285 Holland Glade Road\, Rehoboth Beach\, DE\, 19971\, United States
CATEGORIES:Facility Rentals,Neighborhood/Community Groups
END:VEVENT
BEGIN:VEVENT
DTSTART;TZID=America/New_York:20241121T123000
DTEND;TZID=America/New_York:20241121T143000
DTSTAMP:20260426T003220
CREATED:20241114T145511Z
LAST-MODIFIED:20241114T145511Z
UID:10015181-1732192200-1732199400@epworth.faith
SUMMARY:Belongings Meeting (Baker Room)
DESCRIPTION:
URL:https://epworth.faith/event/belongings-meeting-baker-room/
LOCATION:Epworth United Methodist Church\, 19285 Holland Glade Road\, Rehoboth Beach\, DE\, 19971\, United States
CATEGORIES:Church,Groups
ORGANIZER;CN="Linda BenderHilt":MAILTO:lbenderhilt@yahoo.com
END:VEVENT
BEGIN:VEVENT
DTSTART;TZID=America/New_York:20241121T183000
DTEND;TZID=America/New_York:20241121T193000
DTSTAMP:20260426T003220
CREATED:20231212T171029Z
LAST-MODIFIED:20231212T171029Z
UID:10011976-1732213800-1732217400@epworth.faith
SUMMARY:Praise Team Practice (Sanctuary)
DESCRIPTION:
URL:https://epworth.faith/event/praise-team-practice-sanctuary-4/2024-11-21/
LOCATION:Epworth United Methodist Church\, 19285 Holland Glade Road\, Rehoboth Beach\, DE\, 19971\, United States
CATEGORIES:Church,Music
ORGANIZER;CN="Doug Yetter":MAILTO:dyetter@epworth.faith
END:VEVENT
BEGIN:VEVENT
DTSTART;TZID=America/New_York:20241121T193000
DTEND;TZID=America/New_York:20241121T203000
DTSTAMP:20260426T003220
CREATED:20231214T170139Z
LAST-MODIFIED:20231214T170223Z
UID:10012029-1732217400-1732221000@epworth.faith
SUMMARY:AA Meeting (Baker Lounge)
DESCRIPTION:
URL:https://epworth.faith/event/aa-meeting-baker-lounge/2024-11-21/
LOCATION:Epworth United Methodist Church\, 19285 Holland Glade Road\, Rehoboth Beach\, DE\, 19971\, United States
CATEGORIES:Church,Facility Rentals
ORGANIZER;CN="Chip Seale":MAILTO:prftbdy4ever@gmail.com
END:VEVENT
BEGIN:VEVENT
DTSTART;TZID=America/New_York:20241122T080000
DTEND;TZID=America/New_York:20241122T120000
DTSTAMP:20260426T003220
CREATED:20241003T180635Z
LAST-MODIFIED:20241003T180635Z
UID:10015032-1732262400-1732276800@epworth.faith
SUMMARY:Preschool Thanksgiving Feast (Fellowship Hall)
DESCRIPTION:
URL:https://epworth.faith/event/preschool-thanksgiving-feast-fellowship-hall/
LOCATION:Epworth United Methodist Church\, 19285 Holland Glade Road\, Rehoboth Beach\, DE\, 19971\, United States
CATEGORIES:Church,Preschool
ORGANIZER;CN="Betsy Plowman":MAILTO:bplowman@epworth.faith
END:VEVENT
BEGIN:VEVENT
DTSTART;TZID=America/New_York:20241123T090000
DTEND;TZID=America/New_York:20241123T100000
DTSTAMP:20260426T003220
CREATED:20231211T215002Z
LAST-MODIFIED:20231211T215002Z
UID:10011547-1732352400-1732356000@epworth.faith
SUMMARY:ACA (Baker Lounge)
DESCRIPTION:
URL:https://epworth.faith/event/aca-baker-lounge/2024-11-23/
LOCATION:Epworth United Methodist Church\, 19285 Holland Glade Road\, Rehoboth Beach\, DE\, 19971\, United States
CATEGORIES:Facility Rentals,Neighborhood/Community Groups
ORGANIZER;CN="Gail Tarlecky":MAILTO:gr8fulgail@comcast.net
END:VEVENT
END:VCALENDAR