BEGIN:VCALENDAR
VERSION:2.0
PRODID:-//Epworth UMC - ECPv6.15.20//NONSGML v1.0//EN
CALSCALE:GREGORIAN
METHOD:PUBLISH
X-ORIGINAL-URL:https://epworth.faith
X-WR-CALDESC:Events for Epworth UMC
REFRESH-INTERVAL;VALUE=DURATION:PT1H
X-Robots-Tag:noindex
X-PUBLISHED-TTL:PT1H
BEGIN:VTIMEZONE
TZID:America/New_York
BEGIN:DAYLIGHT
TZOFFSETFROM:-0500
TZOFFSETTO:-0400
TZNAME:EDT
DTSTART:20230312T070000
END:DAYLIGHT
BEGIN:STANDARD
TZOFFSETFROM:-0400
TZOFFSETTO:-0500
TZNAME:EST
DTSTART:20231105T060000
END:STANDARD
BEGIN:DAYLIGHT
TZOFFSETFROM:-0500
TZOFFSETTO:-0400
TZNAME:EDT
DTSTART:20240310T070000
END:DAYLIGHT
BEGIN:STANDARD
TZOFFSETFROM:-0400
TZOFFSETTO:-0500
TZNAME:EST
DTSTART:20241103T060000
END:STANDARD
BEGIN:DAYLIGHT
TZOFFSETFROM:-0500
TZOFFSETTO:-0400
TZNAME:EDT
DTSTART:20250309T070000
END:DAYLIGHT
BEGIN:STANDARD
TZOFFSETFROM:-0400
TZOFFSETTO:-0500
TZNAME:EST
DTSTART:20251102T060000
END:STANDARD
BEGIN:DAYLIGHT
TZOFFSETFROM:-0500
TZOFFSETTO:-0400
TZNAME:EDT
DTSTART:20260308T070000
END:DAYLIGHT
BEGIN:STANDARD
TZOFFSETFROM:-0400
TZOFFSETTO:-0500
TZNAME:EST
DTSTART:20261101T060000
END:STANDARD
END:VTIMEZONE
BEGIN:VEVENT
DTSTART;TZID=America/New_York:20241223T170000
DTEND;TZID=America/New_York:20241223T180000
DTSTAMP:20260426T003212
CREATED:20231211T172903Z
LAST-MODIFIED:20231211T172903Z
UID:10011243-1734973200-1734976800@epworth.faith
SUMMARY:ALANON Newcomers (Bakers Lounge)
DESCRIPTION:
URL:https://epworth.faith/event/alanon-newcomers-bakers-lounge/2024-12-23/
LOCATION:Epworth United Methodist Church\, 19285 Holland Glade Road\, Rehoboth Beach\, DE\, 19971\, United States
CATEGORIES:Facility Rentals,Neighborhood/Community Groups
END:VEVENT
BEGIN:VEVENT
DTSTART;TZID=America/New_York:20241223T180000
DTEND;TZID=America/New_York:20241223T180000
DTSTAMP:20260426T003212
CREATED:20231211T223614Z
LAST-MODIFIED:20231211T223614Z
UID:10011705-1734976800-1734976800@epworth.faith
SUMMARY:ALANON (Branford Lounge)
DESCRIPTION:
URL:https://epworth.faith/event/alanon-branford-lounge-3/2024-12-23/
LOCATION:Epworth United Methodist Church\, 19285 Holland Glade Road\, Rehoboth Beach\, DE\, 19971\, United States
CATEGORIES:Facility Rentals,Neighborhood/Community Groups
END:VEVENT
BEGIN:VEVENT
DTSTART;TZID=America/New_York:20241224T120000
DTEND;TZID=America/New_York:20241224T140000
DTSTAMP:20260426T003212
CREATED:20231101T154604Z
LAST-MODIFIED:20231101T154604Z
UID:10010511-1735041600-1735048800@epworth.faith
SUMMARY:Staff Meeting (Conference Room)
DESCRIPTION:
URL:https://epworth.faith/event/staff-meeting-conference-room/2024-12-24/
LOCATION:Epworth United Methodist Church\, 19285 Holland Glade Road\, Rehoboth Beach\, DE\, 19971\, United States
CATEGORIES:Church,Staff
ORGANIZER;CN="Vicki Gordy-Stith":MAILTO:vgordy-stith@epworth.faith
END:VEVENT
BEGIN:VEVENT
DTSTART;TZID=America/New_York:20241224T180000
DTEND;TZID=America/New_York:20241224T190000
DTSTAMP:20260426T003212
CREATED:20231211T173536Z
LAST-MODIFIED:20231211T174300Z
UID:10011295-1735063200-1735066800@epworth.faith
SUMMARY:ALANON (Branford Lounge)
DESCRIPTION:
URL:https://epworth.faith/event/alanon-11/2024-12-24/
LOCATION:Epworth United Methodist Church\, 19285 Holland Glade Road\, Rehoboth Beach\, DE\, 19971\, United States
CATEGORIES:Facility Rentals,Neighborhood/Community Groups
END:VEVENT
BEGIN:VEVENT
DTSTART;TZID=America/New_York:20241224T190000
DTEND;TZID=America/New_York:20241224T200000
DTSTAMP:20260426T003212
CREATED:20231211T175811Z
LAST-MODIFIED:20231211T175811Z
UID:10011348-1735066800-1735070400@epworth.faith
SUMMARY:AA (Music Room)
DESCRIPTION:
URL:https://epworth.faith/event/aa-music-room/2024-12-24/
LOCATION:Epworth United Methodist Church\, 19285 Holland Glade Road\, Rehoboth Beach\, DE\, 19971\, United States
CATEGORIES:Facility Rentals,Neighborhood/Community Groups
END:VEVENT
BEGIN:VEVENT
DTSTART;TZID=America/New_York:20241224T190000
DTEND;TZID=America/New_York:20241224T200000
DTSTAMP:20260426T003212
CREATED:20231211T224614Z
LAST-MODIFIED:20231211T224614Z
UID:10011758-1735066800-1735070400@epworth.faith
SUMMARY:ALANON (Baker Lounge)
DESCRIPTION:
URL:https://epworth.faith/event/alanon-baker-lounge-5/2024-12-24/
LOCATION:Epworth United Methodist Church\, 19285 Holland Glade Road\, Rehoboth Beach\, DE\, 19971\, United States
CATEGORIES:Facility Rentals,Neighborhood/Community Groups
ORGANIZER;CN="Gail Tarlecky":MAILTO:gr8fulgail@comcast.net
END:VEVENT
BEGIN:VEVENT
DTSTART;TZID=America/New_York:20241225T100000
DTEND;TZID=America/New_York:20241225T120000
DTSTAMP:20260426T003212
CREATED:20240509T205948Z
LAST-MODIFIED:20240509T205948Z
UID:10013431-1735120800-1735128000@epworth.faith
SUMMARY:Sisters in Christ Bible Study (Starnes Room)
DESCRIPTION:
URL:https://epworth.faith/event/sisters-in-christ-bible-study-starnes-room/2024-12-25/
LOCATION:Epworth United Methodist Church\, 19285 Holland Glade Road\, Rehoboth Beach\, DE\, 19971\, United States
CATEGORIES:Church,Groups
ORGANIZER;CN="Susan Jimenez":MAILTO:saj19971@gmail.com
END:VEVENT
BEGIN:VEVENT
DTSTART;TZID=America/New_York:20241225T190000
DTEND;TZID=America/New_York:20241225T200000
DTSTAMP:20260426T003212
CREATED:20231212T170718Z
LAST-MODIFIED:20231212T170718Z
UID:10011925-1735153200-1735156800@epworth.faith
SUMMARY:Chancel Choir Practice (Music Wing)
DESCRIPTION:
URL:https://epworth.faith/event/chancel-choir-practice-music-wing-2/2024-12-25/
LOCATION:DE
CATEGORIES:Church,Music
END:VEVENT
BEGIN:VEVENT
DTSTART;TZID=America/New_York:20241226T193000
DTEND;TZID=America/New_York:20241226T203000
DTSTAMP:20260426T003212
CREATED:20231214T170139Z
LAST-MODIFIED:20231214T170223Z
UID:10012034-1735241400-1735245000@epworth.faith
SUMMARY:AA Meeting (Baker Lounge)
DESCRIPTION:
URL:https://epworth.faith/event/aa-meeting-baker-lounge/2024-12-26/
LOCATION:Epworth United Methodist Church\, 19285 Holland Glade Road\, Rehoboth Beach\, DE\, 19971\, United States
CATEGORIES:Church,Facility Rentals
ORGANIZER;CN="Chip Seale":MAILTO:prftbdy4ever@gmail.com
END:VEVENT
BEGIN:VEVENT
DTSTART;TZID=America/New_York:20241228T180000
DTEND;TZID=America/New_York:20241228T190000
DTSTAMP:20260426T003212
CREATED:20231211T225009Z
LAST-MODIFIED:20231211T225009Z
UID:10011810-1735408800-1735412400@epworth.faith
SUMMARY:ALANON (Bakers' Lounge)
DESCRIPTION:
URL:https://epworth.faith/event/alanon-bakers-lounge/2024-12-28/
LOCATION:Epworth United Methodist Church\, 19285 Holland Glade Road\, Rehoboth Beach\, DE\, 19971\, United States
CATEGORIES:Facility Rentals,Neighborhood/Community Groups
END:VEVENT
BEGIN:VEVENT
DTSTART;TZID=America/New_York:20241229T100000
DTEND;TZID=America/New_York:20241229T110000
DTSTAMP:20260426T003212
CREATED:20230909T152658Z
LAST-MODIFIED:20230909T161232Z
UID:10009078-1735466400-1735470000@epworth.faith
SUMMARY:Blended ASL Worship Service (Sanctuary & Online)
DESCRIPTION:YouTube Livestream\nYouTube ASL Livestream\nFacebook Livestream
URL:https://epworth.faith/event/blended-worship-service-sanctuary-on-line-2/2024-12-29/
LOCATION:Epworth United Methodist Church\, 19285 Holland Glade Road\, Rehoboth Beach\, DE\, 19971\, United States
CATEGORIES:Worship
ORGANIZER;CN="Vicki Gordy-Stith":MAILTO:vgordy-stith@epworth.faith
END:VEVENT
BEGIN:VEVENT
DTSTART;TZID=America/New_York:20241229T111500
DTEND;TZID=America/New_York:20241229T114500
DTSTAMP:20260426T003212
CREATED:20231230T182351Z
LAST-MODIFIED:20231230T182351Z
UID:10012097-1735470900-1735472700@epworth.faith
SUMMARY:Stephen Ministry - Prayer Chapel (Baker Lounge)
DESCRIPTION:
URL:https://epworth.faith/event/stephen-ministry-prayer-chapel-baker-lounge/2024-12-29/
LOCATION:Epworth United Methodist Church\, 19285 Holland Glade Road\, Rehoboth Beach\, DE\, 19971\, United States
CATEGORIES:Church,Groups
ORGANIZER;CN="Val Linder":MAILTO:rovalinder@comcast.net
END:VEVENT
BEGIN:VEVENT
DTSTART;TZID=America/New_York:20241229T113000
DTEND;TZID=America/New_York:20241229T123000
DTSTAMP:20260426T003212
CREATED:20240826T184533Z
LAST-MODIFIED:20240826T184533Z
UID:10014043-1735471800-1735475400@epworth.faith
SUMMARY:Meet Me @ Epworth Group Bible Study (Branford Lounge)
DESCRIPTION:
URL:https://epworth.faith/event/meet-me-epworth-group-bible-study-branford-lounge/2024-12-29/
LOCATION:Epworth United Methodist Church\, 19285 Holland Glade Road\, Rehoboth Beach\, DE\, 19971\, United States
CATEGORIES:Church,Groups
ORGANIZER;CN="Mickie McManamon":MAILTO:mmcmanamon@epworth.faith
END:VEVENT
BEGIN:VEVENT
DTSTART;TZID=America/New_York:20241230T170000
DTEND;TZID=America/New_York:20241230T180000
DTSTAMP:20260426T003212
CREATED:20231211T172903Z
LAST-MODIFIED:20231211T172903Z
UID:10011244-1735578000-1735581600@epworth.faith
SUMMARY:ALANON Newcomers (Bakers Lounge)
DESCRIPTION:
URL:https://epworth.faith/event/alanon-newcomers-bakers-lounge/2024-12-30/
LOCATION:Epworth United Methodist Church\, 19285 Holland Glade Road\, Rehoboth Beach\, DE\, 19971\, United States
CATEGORIES:Facility Rentals,Neighborhood/Community Groups
END:VEVENT
BEGIN:VEVENT
DTSTART;TZID=America/New_York:20241230T180000
DTEND;TZID=America/New_York:20241230T180000
DTSTAMP:20260426T003212
CREATED:20231211T223614Z
LAST-MODIFIED:20231211T223614Z
UID:10011706-1735581600-1735581600@epworth.faith
SUMMARY:ALANON (Branford Lounge)
DESCRIPTION:
URL:https://epworth.faith/event/alanon-branford-lounge-3/2024-12-30/
LOCATION:Epworth United Methodist Church\, 19285 Holland Glade Road\, Rehoboth Beach\, DE\, 19971\, United States
CATEGORIES:Facility Rentals,Neighborhood/Community Groups
END:VEVENT
BEGIN:VEVENT
DTSTART;TZID=America/New_York:20241231T120000
DTEND;TZID=America/New_York:20241231T140000
DTSTAMP:20260426T003212
CREATED:20231101T154604Z
LAST-MODIFIED:20231101T154604Z
UID:10010512-1735646400-1735653600@epworth.faith
SUMMARY:Staff Meeting (Conference Room)
DESCRIPTION:
URL:https://epworth.faith/event/staff-meeting-conference-room/2024-12-31/
LOCATION:Epworth United Methodist Church\, 19285 Holland Glade Road\, Rehoboth Beach\, DE\, 19971\, United States
CATEGORIES:Church,Staff
ORGANIZER;CN="Vicki Gordy-Stith":MAILTO:vgordy-stith@epworth.faith
END:VEVENT
BEGIN:VEVENT
DTSTART;TZID=America/New_York:20241231T180000
DTEND;TZID=America/New_York:20241231T190000
DTSTAMP:20260426T003212
CREATED:20231211T173536Z
LAST-MODIFIED:20231211T174300Z
UID:10011296-1735668000-1735671600@epworth.faith
SUMMARY:ALANON (Branford Lounge)
DESCRIPTION:
URL:https://epworth.faith/event/alanon-11/2024-12-31/
LOCATION:Epworth United Methodist Church\, 19285 Holland Glade Road\, Rehoboth Beach\, DE\, 19971\, United States
CATEGORIES:Facility Rentals,Neighborhood/Community Groups
END:VEVENT
BEGIN:VEVENT
DTSTART;TZID=America/New_York:20241231T190000
DTEND;TZID=America/New_York:20241231T200000
DTSTAMP:20260426T003212
CREATED:20231211T175811Z
LAST-MODIFIED:20231211T175811Z
UID:10011349-1735671600-1735675200@epworth.faith
SUMMARY:AA (Music Room)
DESCRIPTION:
URL:https://epworth.faith/event/aa-music-room/2024-12-31/
LOCATION:Epworth United Methodist Church\, 19285 Holland Glade Road\, Rehoboth Beach\, DE\, 19971\, United States
CATEGORIES:Facility Rentals,Neighborhood/Community Groups
END:VEVENT
BEGIN:VEVENT
DTSTART;TZID=America/New_York:20250101T100000
DTEND;TZID=America/New_York:20250101T120000
DTSTAMP:20260426T003212
CREATED:20240509T205948Z
LAST-MODIFIED:20240509T205948Z
UID:10013432-1735725600-1735732800@epworth.faith
SUMMARY:Sisters in Christ Bible Study (Starnes Room)
DESCRIPTION:
URL:https://epworth.faith/event/sisters-in-christ-bible-study-starnes-room/2025-01-01/
LOCATION:Epworth United Methodist Church\, 19285 Holland Glade Road\, Rehoboth Beach\, DE\, 19971\, United States
CATEGORIES:Church,Groups
ORGANIZER;CN="Susan Jimenez":MAILTO:saj19971@gmail.com
END:VEVENT
BEGIN:VEVENT
DTSTART;TZID=America/New_York:20250101T183000
DTEND;TZID=America/New_York:20250101T210000
DTSTAMP:20260426T003212
CREATED:20240321T141039Z
LAST-MODIFIED:20240321T141039Z
UID:10012461-1735756200-1735765200@epworth.faith
SUMMARY:ManKind Project (MKP) (Baker Lounge)
DESCRIPTION:
URL:https://epworth.faith/event/mankind-project-mkp-baker-lounge-3/2025-01-01/
LOCATION:Epworth United Methodist Church\, 19285 Holland Glade Road\, Rehoboth Beach\, DE\, 19971\, United States
CATEGORIES:Church,Groups
ORGANIZER;CN="Rick Buske":MAILTO:rick.buske@gmail.com
END:VEVENT
BEGIN:VEVENT
DTSTART;TZID=America/New_York:20250101T190000
DTEND;TZID=America/New_York:20250101T200000
DTSTAMP:20260426T003212
CREATED:20231212T170718Z
LAST-MODIFIED:20231212T170718Z
UID:10011926-1735758000-1735761600@epworth.faith
SUMMARY:Chancel Choir Practice (Music Wing)
DESCRIPTION:
URL:https://epworth.faith/event/chancel-choir-practice-music-wing-2/2025-01-01/
LOCATION:DE
CATEGORIES:Church,Music
END:VEVENT
BEGIN:VEVENT
DTSTART;TZID=America/New_York:20250102T120000
DTEND;TZID=America/New_York:20250102T130000
DTSTAMP:20260426T003212
CREATED:20240905T122329Z
LAST-MODIFIED:20251023T150055Z
UID:10014369-1735819200-1735822800@epworth.faith
SUMMARY:Alanon Meeting (Branford Room)
DESCRIPTION:
URL:https://epworth.faith/event/alanon-meeting-branford-room-3/2025-01-02/
LOCATION:Epworth United Methodist Church\, 19285 Holland Glade Road\, Rehoboth Beach\, DE\, 19971\, United States
CATEGORIES:Church,Groups
END:VEVENT
BEGIN:VEVENT
DTSTART;TZID=America/New_York:20250102T193000
DTEND;TZID=America/New_York:20250102T203000
DTSTAMP:20260426T003212
CREATED:20240905T122521Z
LAST-MODIFIED:20251023T150301Z
UID:10014421-1735846200-1735849800@epworth.faith
SUMMARY:AA Meeting (Baker Room)
DESCRIPTION:
URL:https://epworth.faith/event/aa-meeting-baker-room/2025-01-02/
LOCATION:Epworth United Methodist Church\, 19285 Holland Glade Road\, Rehoboth Beach\, DE\, 19971\, United States
CATEGORIES:Church,Groups
END:VEVENT
BEGIN:VEVENT
DTSTART;TZID=America/New_York:20250104T090000
DTEND;TZID=America/New_York:20250104T100000
DTSTAMP:20260426T003212
CREATED:20240905T122704Z
LAST-MODIFIED:20251023T150523Z
UID:10014473-1735981200-1735984800@epworth.faith
SUMMARY:ACA Meeting (Baker Room)
DESCRIPTION:
URL:https://epworth.faith/event/aca-meeting-baker-room/2025-01-04/
LOCATION:Epworth United Methodist Church\, 19285 Holland Glade Road\, Rehoboth Beach\, DE\, 19971\, United States
CATEGORIES:Church,Groups
END:VEVENT
BEGIN:VEVENT
DTSTART;TZID=America/New_York:20250104T180000
DTEND;TZID=America/New_York:20250104T190000
DTSTAMP:20260426T003212
CREATED:20240905T122918Z
LAST-MODIFIED:20251023T150738Z
UID:10014525-1736013600-1736017200@epworth.faith
SUMMARY:Alanon Meeting (Baker Room)
DESCRIPTION:
URL:https://epworth.faith/event/alanon-meeting-baker-room-2/2025-01-04/
LOCATION:Epworth United Methodist Church\, 19285 Holland Glade Road\, Rehoboth Beach\, DE\, 19971\, United States
CATEGORIES:Church,Groups
END:VEVENT
BEGIN:VEVENT
DTSTART;TZID=America/New_York:20250104T180000
DTEND;TZID=America/New_York:20250104T190000
DTSTAMP:20260426T003212
CREATED:20240905T123154Z
LAST-MODIFIED:20251023T152520Z
UID:10014577-1736013600-1736017200@epworth.faith
SUMMARY:AA Meeting (Branford Room)
DESCRIPTION:
URL:https://epworth.faith/event/aa-meeting-branford-room/2025-01-04/
LOCATION:Epworth United Methodist Church\, 19285 Holland Glade Road\, Rehoboth Beach\, DE\, 19971\, United States
CATEGORIES:Church,Groups
END:VEVENT
BEGIN:VEVENT
DTSTART;TZID=America/New_York:20250105T100000
DTEND;TZID=America/New_York:20250105T110000
DTSTAMP:20260426T003212
CREATED:20230909T152658Z
LAST-MODIFIED:20230909T161232Z
UID:10009079-1736071200-1736074800@epworth.faith
SUMMARY:Blended ASL Worship Service (Sanctuary & Online)
DESCRIPTION:YouTube Livestream\nYouTube ASL Livestream\nFacebook Livestream
URL:https://epworth.faith/event/blended-worship-service-sanctuary-on-line-2/2025-01-05/
LOCATION:Epworth United Methodist Church\, 19285 Holland Glade Road\, Rehoboth Beach\, DE\, 19971\, United States
CATEGORIES:Worship
ORGANIZER;CN="Vicki Gordy-Stith":MAILTO:vgordy-stith@epworth.faith
END:VEVENT
BEGIN:VEVENT
DTSTART;TZID=America/New_York:20250105T111500
DTEND;TZID=America/New_York:20250105T114500
DTSTAMP:20260426T003212
CREATED:20241120T193843Z
LAST-MODIFIED:20241120T193843Z
UID:10015186-1736075700-1736077500@epworth.faith
SUMMARY:Stephen Ministry Prayer Chapel (Baker Room)
DESCRIPTION:
URL:https://epworth.faith/event/stephen-ministry-prayer-chapel-baker-room/2025-01-05/
LOCATION:Epworth United Methodist Church\, 19285 Holland Glade Road\, Rehoboth Beach\, DE\, 19971\, United States
CATEGORIES:Church,Groups
END:VEVENT
BEGIN:VEVENT
DTSTART;TZID=America/New_York:20250105T113000
DTEND;TZID=America/New_York:20250105T123000
DTSTAMP:20260426T003212
CREATED:20240826T184533Z
LAST-MODIFIED:20240826T184533Z
UID:10014044-1736076600-1736080200@epworth.faith
SUMMARY:Meet Me @ Epworth Group Bible Study (Branford Lounge)
DESCRIPTION:
URL:https://epworth.faith/event/meet-me-epworth-group-bible-study-branford-lounge/2025-01-05/
LOCATION:Epworth United Methodist Church\, 19285 Holland Glade Road\, Rehoboth Beach\, DE\, 19971\, United States
CATEGORIES:Church,Groups
ORGANIZER;CN="Mickie McManamon":MAILTO:mmcmanamon@epworth.faith
END:VEVENT
BEGIN:VEVENT
DTSTART;TZID=America/New_York:20250106T170000
DTEND;TZID=America/New_York:20250106T180000
DTSTAMP:20260426T003212
CREATED:20240905T122003Z
LAST-MODIFIED:20251023T143906Z
UID:10014265-1736182800-1736186400@epworth.faith
SUMMARY:Alanon Newcomers (Baker Room)
DESCRIPTION:
URL:https://epworth.faith/event/alanon-newcomers-baker-room/2025-01-06/
LOCATION:Epworth United Methodist Church\, 19285 Holland Glade Road\, Rehoboth Beach\, DE\, 19971\, United States
CATEGORIES:Church,Groups
END:VEVENT
END:VCALENDAR