BEGIN:VCALENDAR
VERSION:2.0
PRODID:-//Epworth UMC - ECPv6.15.20//NONSGML v1.0//EN
CALSCALE:GREGORIAN
METHOD:PUBLISH
X-ORIGINAL-URL:https://epworth.faith
X-WR-CALDESC:Events for Epworth UMC
REFRESH-INTERVAL;VALUE=DURATION:PT1H
X-Robots-Tag:noindex
X-PUBLISHED-TTL:PT1H
BEGIN:VTIMEZONE
TZID:America/New_York
BEGIN:DAYLIGHT
TZOFFSETFROM:-0500
TZOFFSETTO:-0400
TZNAME:EDT
DTSTART:20240310T070000
END:DAYLIGHT
BEGIN:STANDARD
TZOFFSETFROM:-0400
TZOFFSETTO:-0500
TZNAME:EST
DTSTART:20241103T060000
END:STANDARD
BEGIN:DAYLIGHT
TZOFFSETFROM:-0500
TZOFFSETTO:-0400
TZNAME:EDT
DTSTART:20250309T070000
END:DAYLIGHT
BEGIN:STANDARD
TZOFFSETFROM:-0400
TZOFFSETTO:-0500
TZNAME:EST
DTSTART:20251102T060000
END:STANDARD
BEGIN:DAYLIGHT
TZOFFSETFROM:-0500
TZOFFSETTO:-0400
TZNAME:EDT
DTSTART:20260308T070000
END:DAYLIGHT
BEGIN:STANDARD
TZOFFSETFROM:-0400
TZOFFSETTO:-0500
TZNAME:EST
DTSTART:20261101T060000
END:STANDARD
END:VTIMEZONE
BEGIN:VEVENT
DTSTART;TZID=America/New_York:20250608T100000
DTEND;TZID=America/New_York:20250608T110000
DTSTAMP:20260425T232005
CREATED:20230909T152658Z
LAST-MODIFIED:20230909T161232Z
UID:10009101-1749376800-1749380400@epworth.faith
SUMMARY:Blended ASL Worship Service (Sanctuary & Online)
DESCRIPTION:YouTube Livestream\nYouTube ASL Livestream\nFacebook Livestream
URL:https://epworth.faith/event/blended-worship-service-sanctuary-on-line-2/2025-06-08/
LOCATION:Epworth United Methodist Church\, 19285 Holland Glade Road\, Rehoboth Beach\, DE\, 19971\, United States
CATEGORIES:Worship
ORGANIZER;CN="Vicki Gordy-Stith":MAILTO:vgordy-stith@epworth.faith
END:VEVENT
BEGIN:VEVENT
DTSTART;TZID=America/New_York:20250608T110000
DTEND;TZID=America/New_York:20250608T124500
DTSTAMP:20260425T232005
CREATED:20250303T202501Z
LAST-MODIFIED:20250303T202548Z
UID:10015570-1749380400-1749386700@epworth.faith
SUMMARY:Flower Ministry for Arrangements (Starnes Room)
DESCRIPTION:
URL:https://epworth.faith/event/flower-ministry-for-arrangements-starnes-room/2025-06-08/
LOCATION:Epworth United Methodist Church\, 19285 Holland Glade Road\, Rehoboth Beach\, DE\, 19971\, United States
CATEGORIES:Church,Groups
ORGANIZER;CN="Val Linder":MAILTO:rovalinder@comcast.net
END:VEVENT
BEGIN:VEVENT
DTSTART;TZID=America/New_York:20250608T111500
DTEND;TZID=America/New_York:20250608T114500
DTSTAMP:20260425T232005
CREATED:20241120T193843Z
LAST-MODIFIED:20241120T193843Z
UID:10015208-1749381300-1749383100@epworth.faith
SUMMARY:Stephen Ministry Prayer Chapel (Baker Room)
DESCRIPTION:
URL:https://epworth.faith/event/stephen-ministry-prayer-chapel-baker-room/2025-06-08/
LOCATION:Epworth United Methodist Church\, 19285 Holland Glade Road\, Rehoboth Beach\, DE\, 19971\, United States
CATEGORIES:Church,Groups
END:VEVENT
BEGIN:VEVENT
DTSTART;TZID=America/New_York:20250609T130000
DTEND;TZID=America/New_York:20250609T150000
DTSTAMP:20260425T232005
CREATED:20250304T204328Z
LAST-MODIFIED:20250514T204550Z
UID:10015823-1749474000-1749481200@epworth.faith
SUMMARY:Wings Meeting (Baker Room)
DESCRIPTION:
URL:https://epworth.faith/event/wings-meeting-baker-room-2/2025-06-09/
LOCATION:Epworth United Methodist Church\, 19285 Holland Glade Road\, Rehoboth Beach\, DE\, 19971\, United States
CATEGORIES:Church,Groups
ORGANIZER;CN="Lauren Stayton":MAILTO:laurenstayton@gmail.com
END:VEVENT
BEGIN:VEVENT
DTSTART;TZID=America/New_York:20250609T170000
DTEND;TZID=America/New_York:20250609T180000
DTSTAMP:20260425T232005
CREATED:20240905T122003Z
LAST-MODIFIED:20251023T143906Z
UID:10014287-1749488400-1749492000@epworth.faith
SUMMARY:Alanon Newcomers (Baker Room)
DESCRIPTION:
URL:https://epworth.faith/event/alanon-newcomers-baker-room/2025-06-09/
LOCATION:Epworth United Methodist Church\, 19285 Holland Glade Road\, Rehoboth Beach\, DE\, 19971\, United States
CATEGORIES:Church,Groups
END:VEVENT
BEGIN:VEVENT
DTSTART;TZID=America/New_York:20250609T180000
DTEND;TZID=America/New_York:20250609T190000
DTSTAMP:20260425T232005
CREATED:20240905T122138Z
LAST-MODIFIED:20251023T144119Z
UID:10014339-1749492000-1749495600@epworth.faith
SUMMARY:Alanon Meeting (Branford Room)
DESCRIPTION:
URL:https://epworth.faith/event/alanon-meeting-branford-room-2/2025-06-09/
LOCATION:Epworth United Methodist Church\, 19285 Holland Glade Road\, Rehoboth Beach\, DE\, 19971\, United States
CATEGORIES:Church,Groups
END:VEVENT
BEGIN:VEVENT
DTSTART;TZID=America/New_York:20250609T183000
DTEND;TZID=America/New_York:20250609T203000
DTSTAMP:20260425T232005
CREATED:20240716T191227Z
LAST-MODIFIED:20240716T191227Z
UID:10013982-1749493800-1749501000@epworth.faith
SUMMARY:Camp Rehoboth Dress Rehearsal (Sanctuary & Music Room)
DESCRIPTION:
URL:https://epworth.faith/event/camp-rehoboth-dress-rehearsal-sanctuary-music-room-4/
LOCATION:Epworth United Methodist Church\, 19285 Holland Glade Road\, Rehoboth Beach\, DE\, 19971\, United States
CATEGORIES:Church,Concerts,Facility Rentals
ORGANIZER;CN="David Scuccimarra":MAILTO:Scuch@aol.com
END:VEVENT
BEGIN:VEVENT
DTSTART;TZID=America/New_York:20250610T120000
DTEND;TZID=America/New_York:20250610T140000
DTSTAMP:20260425T232005
CREATED:20231101T154604Z
LAST-MODIFIED:20231101T154604Z
UID:10010535-1749556800-1749564000@epworth.faith
SUMMARY:Staff Meeting (Conference Room)
DESCRIPTION:
URL:https://epworth.faith/event/staff-meeting-conference-room/2025-06-10/
LOCATION:Epworth United Methodist Church\, 19285 Holland Glade Road\, Rehoboth Beach\, DE\, 19971\, United States
CATEGORIES:Church,Staff
ORGANIZER;CN="Vicki Gordy-Stith":MAILTO:vgordy-stith@epworth.faith
END:VEVENT
BEGIN:VEVENT
DTSTART;TZID=America/New_York:20250610T180000
DTEND;TZID=America/New_York:20250610T190000
DTSTAMP:20260425T232005
CREATED:20240905T121346Z
LAST-MODIFIED:20251023T144445Z
UID:10014131-1749578400-1749582000@epworth.faith
SUMMARY:Alanon Meeting (Branford Room)
DESCRIPTION:
URL:https://epworth.faith/event/alanon-meeting-branford-room/2025-06-10/
LOCATION:Epworth United Methodist Church\, 19285 Holland Glade Road\, Rehoboth Beach\, DE\, 19971\, United States
CATEGORIES:Church,Groups
END:VEVENT
BEGIN:VEVENT
DTSTART;TZID=America/New_York:20250610T190000
DTEND;TZID=America/New_York:20250610T200000
DTSTAMP:20260425T232005
CREATED:20240905T121615Z
LAST-MODIFIED:20251023T144756Z
UID:10014183-1749582000-1749585600@epworth.faith
SUMMARY:Alanon Meeting (Baker Room)
DESCRIPTION:
URL:https://epworth.faith/event/alanon-meeting-baker-room/2025-06-10/
LOCATION:Epworth United Methodist Church\, 19285 Holland Glade Road\, Rehoboth Beach\, DE\, 19971\, United States
CATEGORIES:Church,Groups
END:VEVENT
BEGIN:VEVENT
DTSTART;TZID=America/New_York:20250610T190000
DTEND;TZID=America/New_York:20250610T200000
DTSTAMP:20260425T232005
CREATED:20240905T121808Z
LAST-MODIFIED:20251023T145128Z
UID:10014235-1749582000-1749585600@epworth.faith
SUMMARY:AA Meeting (Music Room)
DESCRIPTION:
URL:https://epworth.faith/event/aa-meeting-music-room/2025-06-10/
LOCATION:Epworth United Methodist Church\, 19285 Holland Glade Road\, Rehoboth Beach\, DE\, 19971\, United States
CATEGORIES:Church,Groups
END:VEVENT
BEGIN:VEVENT
DTSTART;TZID=America/New_York:20250611T173000
DTEND;TZID=America/New_York:20250611T183000
DTSTAMP:20260425T232005
CREATED:20250116T215058Z
LAST-MODIFIED:20250911T132405Z
UID:10017354-1749663000-1749666600@epworth.faith
SUMMARY:Chancel Choir Practice (Music Room)
DESCRIPTION:
URL:https://epworth.faith/event/chancel-choir-practice-music-room-2/2025-06-11/
LOCATION:Epworth United Methodist Church\, 19285 Holland Glade Road\, Rehoboth Beach\, DE\, 19971\, United States
CATEGORIES:Church,Groups
ORGANIZER;CN="Doug Yetter":MAILTO:dyetter@epworth.faith
END:VEVENT
BEGIN:VEVENT
DTSTART;TZID=America/New_York:20250611T173000
DTEND;TZID=America/New_York:20250611T183000
DTSTAMP:20260425T232005
CREATED:20250116T215324Z
LAST-MODIFIED:20250528T122635Z
UID:10016597-1749663000-1749666600@epworth.faith
SUMMARY:Memorial Bells Practice (Music Room)
DESCRIPTION:
URL:https://epworth.faith/event/memorial-bells-practice-music-room/2025-06-11/
LOCATION:Epworth United Methodist Church\, 19285 Holland Glade Road\, Rehoboth Beach\, DE\, 19971\, United States
CATEGORIES:Church,Music
ORGANIZER;CN="Doug Yetter":MAILTO:dyetter@epworth.faith
END:VEVENT
BEGIN:VEVENT
DTSTART;TZID=America/New_York:20250612T090000
DTEND;TZID=America/New_York:20250612T113000
DTSTAMP:20260425T232005
CREATED:20250513T184157Z
LAST-MODIFIED:20250513T184157Z
UID:10016428-1749718800-1749727800@epworth.faith
SUMMARY:BOOM Meeting (Branford Room)
DESCRIPTION:
URL:https://epworth.faith/event/boom-meeting-branford-room/
LOCATION:Epworth United Methodist Church\, 19285 Holland Glade Road\, Rehoboth Beach\, DE\, 19971\, United States
CATEGORIES:Church,Groups
ORGANIZER;CN="Vicki Gordy-Stith":MAILTO:vgordy-stith@epworth.faith
END:VEVENT
BEGIN:VEVENT
DTSTART;TZID=America/New_York:20250612T090000
DTEND;TZID=America/New_York:20250612T130000
DTSTAMP:20260425T232005
CREATED:20250611T190537Z
LAST-MODIFIED:20250611T190537Z
UID:10016818-1749718800-1749733200@epworth.faith
SUMMARY:Reserve Kitchen for Team 5
DESCRIPTION:
URL:https://epworth.faith/event/reserve-kitchen-for-team-5/
LOCATION:Epworth United Methodist Church\, 19285 Holland Glade Road\, Rehoboth Beach\, DE\, 19971\, United States
CATEGORIES:Church,Groups
END:VEVENT
BEGIN:VEVENT
DTSTART;TZID=America/New_York:20250612T093000
DTEND;TZID=America/New_York:20250612T103000
DTSTAMP:20260425T232005
CREATED:20250521T185021Z
LAST-MODIFIED:20260205T141334Z
UID:10016548-1749720600-1749724200@epworth.faith
SUMMARY:Alzheimer/Dementia Support Group (Baker Room)
DESCRIPTION:
URL:https://epworth.faith/event/alzheimer-dementia-support-group-baker-room/2025-06-12/
LOCATION:Epworth United Methodist Church\, 19285 Holland Glade Road\, Rehoboth Beach\, DE\, 19971\, United States
CATEGORIES:Church,Groups
ORGANIZER;CN="Harry Martens":MAILTO:HMartensiii@gmail.com
END:VEVENT
BEGIN:VEVENT
DTSTART;TZID=America/New_York:20250612T100000
DTEND;TZID=America/New_York:20250612T110000
DTSTAMP:20260425T232005
CREATED:20250429T134301Z
LAST-MODIFIED:20250609T183810Z
UID:10016020-1749722400-1749726000@epworth.faith
SUMMARY:New Life Committee Meeting (Office Conference Room)
DESCRIPTION:
URL:https://epworth.faith/event/new-life-committee-meeting-baker-room/
LOCATION:Epworth United Methodist Church\, 19285 Holland Glade Road\, Rehoboth Beach\, DE\, 19971\, United States
CATEGORIES:Church,LRAC
END:VEVENT
BEGIN:VEVENT
DTSTART;TZID=America/New_York:20250612T100000
DTEND;TZID=America/New_York:20250612T113000
DTSTAMP:20260425T232005
CREATED:20250513T185955Z
LAST-MODIFIED:20250513T185955Z
UID:10016469-1749722400-1749727800@epworth.faith
SUMMARY:Parkinson's Voice Project Choir (Music Room)
DESCRIPTION:
URL:https://epworth.faith/event/parkinsons-voice-project-choir-music-room/2025-06-12/
LOCATION:Epworth United Methodist Church\, 19285 Holland Glade Road\, Rehoboth Beach\, DE\, 19971\, United States
CATEGORIES:Church,Groups
ORGANIZER;CN="Doug Yetter":MAILTO:dyetter@epworth.faith
END:VEVENT
BEGIN:VEVENT
DTSTART;TZID=America/New_York:20250612T110000
DTEND;TZID=America/New_York:20250612T120000
DTSTAMP:20260425T232005
CREATED:20250513T184931Z
LAST-MODIFIED:20260129T210925Z
UID:10016435-1749726000-1749729600@epworth.faith
SUMMARY:Grief Group (Baker Room)
DESCRIPTION:
URL:https://epworth.faith/event/grief-group-baker-room/2025-06-12/
LOCATION:Epworth United Methodist Church\, 19285 Holland Glade Road\, Rehoboth Beach\, DE\, 19971\, United States
ORGANIZER;CN="Vicki Gordy-Stith":MAILTO:vgordy-stith@epworth.faith
END:VEVENT
BEGIN:VEVENT
DTSTART;TZID=America/New_York:20250612T120000
DTEND;TZID=America/New_York:20250612T130000
DTSTAMP:20260425T232005
CREATED:20240905T122329Z
LAST-MODIFIED:20251023T150055Z
UID:10014392-1749729600-1749733200@epworth.faith
SUMMARY:Alanon Meeting (Branford Room)
DESCRIPTION:
URL:https://epworth.faith/event/alanon-meeting-branford-room-3/2025-06-12/
LOCATION:Epworth United Methodist Church\, 19285 Holland Glade Road\, Rehoboth Beach\, DE\, 19971\, United States
CATEGORIES:Church,Groups
END:VEVENT
BEGIN:VEVENT
DTSTART;TZID=America/New_York:20250612T193000
DTEND;TZID=America/New_York:20250612T203000
DTSTAMP:20260425T232005
CREATED:20240905T122521Z
LAST-MODIFIED:20251023T150301Z
UID:10014444-1749756600-1749760200@epworth.faith
SUMMARY:AA Meeting (Baker Room)
DESCRIPTION:
URL:https://epworth.faith/event/aa-meeting-baker-room/2025-06-12/
LOCATION:Epworth United Methodist Church\, 19285 Holland Glade Road\, Rehoboth Beach\, DE\, 19971\, United States
CATEGORIES:Church,Groups
END:VEVENT
BEGIN:VEVENT
DTSTART;TZID=America/New_York:20250613T180000
DTEND;TZID=America/New_York:20250613T220000
DTSTAMP:20260425T232005
CREATED:20240716T184440Z
LAST-MODIFIED:20240716T184442Z
UID:10013978-1749837600-1749852000@epworth.faith
SUMMARY:Camp Rehoboth Chorus Concert (Sanctuary & Music Room)
DESCRIPTION:
URL:https://epworth.faith/event/camp-rehoboth-chorus-concert-sanctuary-music-room-5/2025-06-13/
LOCATION:Epworth United Methodist Church\, 19285 Holland Glade Road\, Rehoboth Beach\, DE\, 19971\, United States
CATEGORIES:Church,Concerts,Facility Rentals
ORGANIZER;CN="David Scuccimarra":MAILTO:Scuch@aol.com
END:VEVENT
BEGIN:VEVENT
DTSTART;TZID=America/New_York:20250614T090000
DTEND;TZID=America/New_York:20250614T100000
DTSTAMP:20260425T232005
CREATED:20240905T122704Z
LAST-MODIFIED:20251023T150523Z
UID:10014496-1749891600-1749895200@epworth.faith
SUMMARY:ACA Meeting (Baker Room)
DESCRIPTION:
URL:https://epworth.faith/event/aca-meeting-baker-room/2025-06-14/
LOCATION:Epworth United Methodist Church\, 19285 Holland Glade Road\, Rehoboth Beach\, DE\, 19971\, United States
CATEGORIES:Church,Groups
END:VEVENT
BEGIN:VEVENT
DTSTART;TZID=America/New_York:20250614T180000
DTEND;TZID=America/New_York:20250614T190000
DTSTAMP:20260425T232005
CREATED:20240905T122918Z
LAST-MODIFIED:20251023T150738Z
UID:10014548-1749924000-1749927600@epworth.faith
SUMMARY:Alanon Meeting (Baker Room)
DESCRIPTION:
URL:https://epworth.faith/event/alanon-meeting-baker-room-2/2025-06-14/
LOCATION:Epworth United Methodist Church\, 19285 Holland Glade Road\, Rehoboth Beach\, DE\, 19971\, United States
CATEGORIES:Church,Groups
END:VEVENT
BEGIN:VEVENT
DTSTART;TZID=America/New_York:20250614T180000
DTEND;TZID=America/New_York:20250614T190000
DTSTAMP:20260425T232005
CREATED:20240905T123154Z
LAST-MODIFIED:20251023T152520Z
UID:10014600-1749924000-1749927600@epworth.faith
SUMMARY:AA Meeting (Branford Room)
DESCRIPTION:
URL:https://epworth.faith/event/aa-meeting-branford-room/2025-06-14/
LOCATION:Epworth United Methodist Church\, 19285 Holland Glade Road\, Rehoboth Beach\, DE\, 19971\, United States
CATEGORIES:Church,Groups
END:VEVENT
BEGIN:VEVENT
DTSTART;TZID=America/New_York:20250614T180000
DTEND;TZID=America/New_York:20250614T220000
DTSTAMP:20260425T232005
CREATED:20240716T184440Z
LAST-MODIFIED:20240716T184442Z
UID:10013979-1749924000-1749938400@epworth.faith
SUMMARY:Camp Rehoboth Chorus Concert (Sanctuary & Music Room)
DESCRIPTION:
URL:https://epworth.faith/event/camp-rehoboth-chorus-concert-sanctuary-music-room-5/2025-06-14/
LOCATION:Epworth United Methodist Church\, 19285 Holland Glade Road\, Rehoboth Beach\, DE\, 19971\, United States
CATEGORIES:Church,Concerts,Facility Rentals
ORGANIZER;CN="David Scuccimarra":MAILTO:Scuch@aol.com
END:VEVENT
BEGIN:VEVENT
DTSTART;TZID=America/New_York:20250615T100000
DTEND;TZID=America/New_York:20250615T110000
DTSTAMP:20260425T232005
CREATED:20230909T152658Z
LAST-MODIFIED:20230909T161232Z
UID:10009102-1749981600-1749985200@epworth.faith
SUMMARY:Blended ASL Worship Service (Sanctuary & Online)
DESCRIPTION:YouTube Livestream\nYouTube ASL Livestream\nFacebook Livestream
URL:https://epworth.faith/event/blended-worship-service-sanctuary-on-line-2/2025-06-15/
LOCATION:Epworth United Methodist Church\, 19285 Holland Glade Road\, Rehoboth Beach\, DE\, 19971\, United States
CATEGORIES:Worship
ORGANIZER;CN="Vicki Gordy-Stith":MAILTO:vgordy-stith@epworth.faith
END:VEVENT
BEGIN:VEVENT
DTSTART;TZID=America/New_York:20250615T110000
DTEND;TZID=America/New_York:20250615T120000
DTSTAMP:20260425T232005
CREATED:20250213T171024Z
LAST-MODIFIED:20250320T165437Z
UID:10015911-1749985200-1749988800@epworth.faith
SUMMARY:Coffee Conversation - After Service (Fellowship Hall)
DESCRIPTION:
URL:https://epworth.faith/event/coffee-conversation-after-service-fellowship-hall-2/2025-06-15/
LOCATION:Epworth United Methodist Church\, 19285 Holland Glade Road\, Rehoboth Beach\, DE\, 19971\, United States
CATEGORIES:Church,Worship
ORGANIZER;CN="Vicki Gordy-Stith":MAILTO:vgordy-stith@epworth.faith
END:VEVENT
BEGIN:VEVENT
DTSTART;TZID=America/New_York:20250615T110000
DTEND;TZID=America/New_York:20250615T124500
DTSTAMP:20260425T232005
CREATED:20250303T202501Z
LAST-MODIFIED:20250303T202548Z
UID:10015571-1749985200-1749991500@epworth.faith
SUMMARY:Flower Ministry for Arrangements (Starnes Room)
DESCRIPTION:
URL:https://epworth.faith/event/flower-ministry-for-arrangements-starnes-room/2025-06-15/
LOCATION:Epworth United Methodist Church\, 19285 Holland Glade Road\, Rehoboth Beach\, DE\, 19971\, United States
CATEGORIES:Church,Groups
ORGANIZER;CN="Val Linder":MAILTO:rovalinder@comcast.net
END:VEVENT
BEGIN:VEVENT
DTSTART;TZID=America/New_York:20250615T111500
DTEND;TZID=America/New_York:20250615T114500
DTSTAMP:20260425T232005
CREATED:20241120T193843Z
LAST-MODIFIED:20241120T193843Z
UID:10015209-1749986100-1749987900@epworth.faith
SUMMARY:Stephen Ministry Prayer Chapel (Baker Room)
DESCRIPTION:
URL:https://epworth.faith/event/stephen-ministry-prayer-chapel-baker-room/2025-06-15/
LOCATION:Epworth United Methodist Church\, 19285 Holland Glade Road\, Rehoboth Beach\, DE\, 19971\, United States
CATEGORIES:Church,Groups
END:VEVENT
END:VCALENDAR