BEGIN:VCALENDAR
VERSION:2.0
PRODID:-//Epworth UMC - ECPv6.15.20//NONSGML v1.0//EN
CALSCALE:GREGORIAN
METHOD:PUBLISH
X-WR-CALNAME:Epworth UMC
X-ORIGINAL-URL:https://epworth.faith
X-WR-CALDESC:Events for Epworth UMC
REFRESH-INTERVAL;VALUE=DURATION:PT1H
X-Robots-Tag:noindex
X-PUBLISHED-TTL:PT1H
BEGIN:VTIMEZONE
TZID:America/New_York
BEGIN:DAYLIGHT
TZOFFSETFROM:-0500
TZOFFSETTO:-0400
TZNAME:EDT
DTSTART:20240310T070000
END:DAYLIGHT
BEGIN:STANDARD
TZOFFSETFROM:-0400
TZOFFSETTO:-0500
TZNAME:EST
DTSTART:20241103T060000
END:STANDARD
BEGIN:DAYLIGHT
TZOFFSETFROM:-0500
TZOFFSETTO:-0400
TZNAME:EDT
DTSTART:20250309T070000
END:DAYLIGHT
BEGIN:STANDARD
TZOFFSETFROM:-0400
TZOFFSETTO:-0500
TZNAME:EST
DTSTART:20251102T060000
END:STANDARD
BEGIN:DAYLIGHT
TZOFFSETFROM:-0500
TZOFFSETTO:-0400
TZNAME:EDT
DTSTART:20260308T070000
END:DAYLIGHT
BEGIN:STANDARD
TZOFFSETFROM:-0400
TZOFFSETTO:-0500
TZNAME:EST
DTSTART:20261101T060000
END:STANDARD
END:VTIMEZONE
BEGIN:VEVENT
DTSTART;TZID=America/New_York:20250807T093000
DTEND;TZID=America/New_York:20250807T103000
DTSTAMP:20260425T112748
CREATED:20250521T185021Z
LAST-MODIFIED:20260205T141334Z
UID:10016556-1754559000-1754562600@epworth.faith
SUMMARY:Alzheimer/Dementia Support Group (Baker Room)
DESCRIPTION:
URL:https://epworth.faith/event/alzheimer-dementia-support-group-baker-room/2025-08-07/
LOCATION:Epworth United Methodist Church\, 19285 Holland Glade Road\, Rehoboth Beach\, DE\, 19971\, United States
CATEGORIES:Church,Groups
ORGANIZER;CN="Harry Martens":MAILTO:HMartensiii@gmail.com
END:VEVENT
BEGIN:VEVENT
DTSTART;TZID=America/New_York:20250807T110000
DTEND;TZID=America/New_York:20250807T120000
DTSTAMP:20260425T112748
CREATED:20250513T184931Z
LAST-MODIFIED:20260129T210925Z
UID:10016443-1754564400-1754568000@epworth.faith
SUMMARY:Grief Group (Baker Room)
DESCRIPTION:
URL:https://epworth.faith/event/grief-group-baker-room/2025-08-07/
LOCATION:Epworth United Methodist Church\, 19285 Holland Glade Road\, Rehoboth Beach\, DE\, 19971\, United States
ORGANIZER;CN="Vicki Gordy-Stith":MAILTO:vgordy-stith@epworth.faith
END:VEVENT
BEGIN:VEVENT
DTSTART;TZID=America/New_York:20250807T120000
DTEND;TZID=America/New_York:20250807T130000
DTSTAMP:20260425T112748
CREATED:20240905T122329Z
LAST-MODIFIED:20251023T150055Z
UID:10014400-1754568000-1754571600@epworth.faith
SUMMARY:Alanon Meeting (Branford Room)
DESCRIPTION:
URL:https://epworth.faith/event/alanon-meeting-branford-room-3/2025-08-07/
LOCATION:Epworth United Methodist Church\, 19285 Holland Glade Road\, Rehoboth Beach\, DE\, 19971\, United States
CATEGORIES:Church,Groups
END:VEVENT
BEGIN:VEVENT
DTSTART;TZID=America/New_York:20250807T170000
DTEND;TZID=America/New_York:20250807T203000
DTSTAMP:20260425T112748
CREATED:20250618T190523Z
LAST-MODIFIED:20250618T190523Z
UID:10016824-1754586000-1754598600@epworth.faith
SUMMARY:Vacation Bible School (Youth Room\, Music Room & Preschool #1)
DESCRIPTION:
URL:https://epworth.faith/event/vacation-bible-school-youth-room-music-room-preschool-1/2025-08-07/
LOCATION:Epworth United Methodist Church\, 19285 Holland Glade Road\, Rehoboth Beach\, DE\, 19971\, United States
CATEGORIES:Church,Youth
ORGANIZER;CN="Gwen Osborne":MAILTO:gosborne@epworth.faith
END:VEVENT
BEGIN:VEVENT
DTSTART;TZID=America/New_York:20250807T193000
DTEND;TZID=America/New_York:20250807T203000
DTSTAMP:20260425T112748
CREATED:20240905T122521Z
LAST-MODIFIED:20251023T150301Z
UID:10014452-1754595000-1754598600@epworth.faith
SUMMARY:AA Meeting (Baker Room)
DESCRIPTION:
URL:https://epworth.faith/event/aa-meeting-baker-room/2025-08-07/
LOCATION:Epworth United Methodist Church\, 19285 Holland Glade Road\, Rehoboth Beach\, DE\, 19971\, United States
CATEGORIES:Church,Groups
END:VEVENT
BEGIN:VEVENT
DTSTART;TZID=America/New_York:20250808T170000
DTEND;TZID=America/New_York:20250808T203000
DTSTAMP:20260425T112748
CREATED:20250618T190523Z
LAST-MODIFIED:20250618T190523Z
UID:10016825-1754672400-1754685000@epworth.faith
SUMMARY:Vacation Bible School (Youth Room\, Music Room & Preschool #1)
DESCRIPTION:
URL:https://epworth.faith/event/vacation-bible-school-youth-room-music-room-preschool-1/2025-08-08/
LOCATION:Epworth United Methodist Church\, 19285 Holland Glade Road\, Rehoboth Beach\, DE\, 19971\, United States
CATEGORIES:Church,Youth
ORGANIZER;CN="Gwen Osborne":MAILTO:gosborne@epworth.faith
END:VEVENT
BEGIN:VEVENT
DTSTART;TZID=America/New_York:20250809T090000
DTEND;TZID=America/New_York:20250809T100000
DTSTAMP:20260425T112748
CREATED:20240905T122704Z
LAST-MODIFIED:20251023T150523Z
UID:10014504-1754730000-1754733600@epworth.faith
SUMMARY:ACA Meeting (Baker Room)
DESCRIPTION:
URL:https://epworth.faith/event/aca-meeting-baker-room/2025-08-09/
LOCATION:Epworth United Methodist Church\, 19285 Holland Glade Road\, Rehoboth Beach\, DE\, 19971\, United States
CATEGORIES:Church,Groups
END:VEVENT
BEGIN:VEVENT
DTSTART;TZID=America/New_York:20250809T180000
DTEND;TZID=America/New_York:20250809T190000
DTSTAMP:20260425T112748
CREATED:20240905T122918Z
LAST-MODIFIED:20251023T150738Z
UID:10014556-1754762400-1754766000@epworth.faith
SUMMARY:Alanon Meeting (Baker Room)
DESCRIPTION:
URL:https://epworth.faith/event/alanon-meeting-baker-room-2/2025-08-09/
LOCATION:Epworth United Methodist Church\, 19285 Holland Glade Road\, Rehoboth Beach\, DE\, 19971\, United States
CATEGORIES:Church,Groups
END:VEVENT
BEGIN:VEVENT
DTSTART;TZID=America/New_York:20250809T180000
DTEND;TZID=America/New_York:20250809T190000
DTSTAMP:20260425T112748
CREATED:20240905T123154Z
LAST-MODIFIED:20251023T152520Z
UID:10014608-1754762400-1754766000@epworth.faith
SUMMARY:AA Meeting (Branford Room)
DESCRIPTION:
URL:https://epworth.faith/event/aa-meeting-branford-room/2025-08-09/
LOCATION:Epworth United Methodist Church\, 19285 Holland Glade Road\, Rehoboth Beach\, DE\, 19971\, United States
CATEGORIES:Church,Groups
END:VEVENT
BEGIN:VEVENT
DTSTART;TZID=America/New_York:20250810T100000
DTEND;TZID=America/New_York:20250810T110000
DTSTAMP:20260425T112748
CREATED:20230909T152658Z
LAST-MODIFIED:20230909T161232Z
UID:10009110-1754820000-1754823600@epworth.faith
SUMMARY:Blended ASL Worship Service (Sanctuary & Online)
DESCRIPTION:YouTube Livestream\nYouTube ASL Livestream\nFacebook Livestream
URL:https://epworth.faith/event/blended-worship-service-sanctuary-on-line-2/2025-08-10/
LOCATION:Epworth United Methodist Church\, 19285 Holland Glade Road\, Rehoboth Beach\, DE\, 19971\, United States
CATEGORIES:Worship
ORGANIZER;CN="Vicki Gordy-Stith":MAILTO:vgordy-stith@epworth.faith
END:VEVENT
BEGIN:VEVENT
DTSTART;TZID=America/New_York:20250810T110000
DTEND;TZID=America/New_York:20250810T124500
DTSTAMP:20260425T112748
CREATED:20250303T202501Z
LAST-MODIFIED:20250303T202548Z
UID:10015579-1754823600-1754829900@epworth.faith
SUMMARY:Flower Ministry for Arrangements (Starnes Room)
DESCRIPTION:
URL:https://epworth.faith/event/flower-ministry-for-arrangements-starnes-room/2025-08-10/
LOCATION:Epworth United Methodist Church\, 19285 Holland Glade Road\, Rehoboth Beach\, DE\, 19971\, United States
CATEGORIES:Church,Groups
ORGANIZER;CN="Val Linder":MAILTO:rovalinder@comcast.net
END:VEVENT
BEGIN:VEVENT
DTSTART;TZID=America/New_York:20250810T111500
DTEND;TZID=America/New_York:20250810T114500
DTSTAMP:20260425T112748
CREATED:20241120T193843Z
LAST-MODIFIED:20241120T193843Z
UID:10015217-1754824500-1754826300@epworth.faith
SUMMARY:Stephen Ministry Prayer Chapel (Baker Room)
DESCRIPTION:
URL:https://epworth.faith/event/stephen-ministry-prayer-chapel-baker-room/2025-08-10/
LOCATION:Epworth United Methodist Church\, 19285 Holland Glade Road\, Rehoboth Beach\, DE\, 19971\, United States
CATEGORIES:Church,Groups
END:VEVENT
BEGIN:VEVENT
DTSTART;TZID=America/New_York:20250811T090000
DTEND;TZID=America/New_York:20250811T123000
DTSTAMP:20260425T112748
CREATED:20250804T171549Z
LAST-MODIFIED:20250804T171549Z
UID:10017025-1754902800-1754915400@epworth.faith
SUMMARY:Funeral Services for Diane Cooper (Sanctuary)
DESCRIPTION:
URL:https://epworth.faith/event/funeral-services-for-diane-cooper-sanctuary/
LOCATION:Epworth United Methodist Church\, 19285 Holland Glade Road\, Rehoboth Beach\, DE\, 19971\, United States
CATEGORIES:Church,Funerals
END:VEVENT
BEGIN:VEVENT
DTSTART;TZID=America/New_York:20250811T170000
DTEND;TZID=America/New_York:20250811T180000
DTSTAMP:20260425T112748
CREATED:20240905T122003Z
LAST-MODIFIED:20251023T143906Z
UID:10014296-1754931600-1754935200@epworth.faith
SUMMARY:Alanon Newcomers (Baker Room)
DESCRIPTION:
URL:https://epworth.faith/event/alanon-newcomers-baker-room/2025-08-11/
LOCATION:Epworth United Methodist Church\, 19285 Holland Glade Road\, Rehoboth Beach\, DE\, 19971\, United States
CATEGORIES:Church,Groups
END:VEVENT
BEGIN:VEVENT
DTSTART;TZID=America/New_York:20250811T180000
DTEND;TZID=America/New_York:20250811T190000
DTSTAMP:20260425T112748
CREATED:20240905T122138Z
LAST-MODIFIED:20251023T144119Z
UID:10014348-1754935200-1754938800@epworth.faith
SUMMARY:Alanon Meeting (Branford Room)
DESCRIPTION:
URL:https://epworth.faith/event/alanon-meeting-branford-room-2/2025-08-11/
LOCATION:Epworth United Methodist Church\, 19285 Holland Glade Road\, Rehoboth Beach\, DE\, 19971\, United States
CATEGORIES:Church,Groups
END:VEVENT
BEGIN:VEVENT
DTSTART;TZID=America/New_York:20250812T100000
DTEND;TZID=America/New_York:20250812T120000
DTSTAMP:20260425T112748
CREATED:20250707T172912Z
LAST-MODIFIED:20250707T172912Z
UID:10016854-1754992800-1755000000@epworth.faith
SUMMARY:Cemetary Board Meeting (Office Conference Room)
DESCRIPTION:
URL:https://epworth.faith/event/cemetary-board-meeting-office-conference-room/
LOCATION:Epworth United Methodist Church\, 19285 Holland Glade Road\, Rehoboth Beach\, DE\, 19971\, United States
CATEGORIES:Church,Groups
END:VEVENT
BEGIN:VEVENT
DTSTART;TZID=America/New_York:20250812T120000
DTEND;TZID=America/New_York:20250812T140000
DTSTAMP:20260425T112748
CREATED:20231101T154604Z
LAST-MODIFIED:20231101T154604Z
UID:10010544-1755000000-1755007200@epworth.faith
SUMMARY:Staff Meeting (Conference Room)
DESCRIPTION:
URL:https://epworth.faith/event/staff-meeting-conference-room/2025-08-12/
LOCATION:Epworth United Methodist Church\, 19285 Holland Glade Road\, Rehoboth Beach\, DE\, 19971\, United States
CATEGORIES:Church,Staff
ORGANIZER;CN="Vicki Gordy-Stith":MAILTO:vgordy-stith@epworth.faith
END:VEVENT
BEGIN:VEVENT
DTSTART;TZID=America/New_York:20250812T140000
DTEND;TZID=America/New_York:20250812T170000
DTSTAMP:20260425T112748
CREATED:20250709T184523Z
LAST-MODIFIED:20250709T184523Z
UID:10016981-1755007200-1755018000@epworth.faith
SUMMARY:Stitching Group (Branford Room)
DESCRIPTION:
URL:https://epworth.faith/event/stitching-group-branford-room/2025-08-12/
LOCATION:Epworth United Methodist Church\, 19285 Holland Glade Road\, Rehoboth Beach\, DE\, 19971\, United States
CATEGORIES:Church,Groups
END:VEVENT
BEGIN:VEVENT
DTSTART;TZID=America/New_York:20250812T180000
DTEND;TZID=America/New_York:20250812T190000
DTSTAMP:20260425T112748
CREATED:20240905T121346Z
LAST-MODIFIED:20251023T144445Z
UID:10014140-1755021600-1755025200@epworth.faith
SUMMARY:Alanon Meeting (Branford Room)
DESCRIPTION:
URL:https://epworth.faith/event/alanon-meeting-branford-room/2025-08-12/
LOCATION:Epworth United Methodist Church\, 19285 Holland Glade Road\, Rehoboth Beach\, DE\, 19971\, United States
CATEGORIES:Church,Groups
END:VEVENT
BEGIN:VEVENT
DTSTART;TZID=America/New_York:20250812T180000
DTEND;TZID=America/New_York:20250812T200000
DTSTAMP:20260425T112748
CREATED:20250709T125038Z
LAST-MODIFIED:20250709T125038Z
UID:10016857-1755021600-1755028800@epworth.faith
SUMMARY:Trustee Committee Meeting (Zoom)
DESCRIPTION:
URL:https://epworth.faith/event/trustee-committee-meeting-zoom/2025-08-12/
LOCATION:Epworth United Methodist Church\, 19285 Holland Glade Road\, Rehoboth Beach\, DE\, 19971\, United States
ORGANIZER;CN="Tom Lewis":MAILTO:mathguy29@yahoo.com
END:VEVENT
BEGIN:VEVENT
DTSTART;TZID=America/New_York:20250812T190000
DTEND;TZID=America/New_York:20250812T200000
DTSTAMP:20260425T112748
CREATED:20240905T121615Z
LAST-MODIFIED:20251023T144756Z
UID:10014192-1755025200-1755028800@epworth.faith
SUMMARY:Alanon Meeting (Baker Room)
DESCRIPTION:
URL:https://epworth.faith/event/alanon-meeting-baker-room/2025-08-12/
LOCATION:Epworth United Methodist Church\, 19285 Holland Glade Road\, Rehoboth Beach\, DE\, 19971\, United States
CATEGORIES:Church,Groups
END:VEVENT
BEGIN:VEVENT
DTSTART;TZID=America/New_York:20250812T190000
DTEND;TZID=America/New_York:20250812T200000
DTSTAMP:20260425T112748
CREATED:20240905T121808Z
LAST-MODIFIED:20251023T145128Z
UID:10014244-1755025200-1755028800@epworth.faith
SUMMARY:AA Meeting (Music Room)
DESCRIPTION:
URL:https://epworth.faith/event/aa-meeting-music-room/2025-08-12/
LOCATION:Epworth United Methodist Church\, 19285 Holland Glade Road\, Rehoboth Beach\, DE\, 19971\, United States
CATEGORIES:Church,Groups
END:VEVENT
BEGIN:VEVENT
DTSTART;TZID=America/New_York:20250813T110000
DTEND;TZID=America/New_York:20250813T120000
DTSTAMP:20260425T112748
CREATED:20250813T145047Z
LAST-MODIFIED:20250813T145047Z
UID:10017035-1755082800-1755086400@epworth.faith
SUMMARY:Security Meeting (Office Conference Room)
DESCRIPTION:
URL:https://epworth.faith/event/security-meeting-office-conference-room/
LOCATION:Epworth United Methodist Church\, 19285 Holland Glade Road\, Rehoboth Beach\, DE\, 19971\, United States
CATEGORIES:Church,Groups
END:VEVENT
BEGIN:VEVENT
DTSTART;TZID=America/New_York:20250813T140000
DTEND;TZID=America/New_York:20250813T150000
DTSTAMP:20260425T112748
CREATED:20250812T134030Z
LAST-MODIFIED:20250812T134030Z
UID:10017029-1755093600-1755097200@epworth.faith
SUMMARY:HR Meeting (Office Conference Room)
DESCRIPTION:
URL:https://epworth.faith/event/hr-meeting-office-conference-room/
LOCATION:Epworth United Methodist Church\, 19285 Holland Glade Road\, Rehoboth Beach\, DE\, 19971\, United States
CATEGORIES:Church,Groups
END:VEVENT
BEGIN:VEVENT
DTSTART;TZID=America/New_York:20250813T150000
DTEND;TZID=America/New_York:20250813T160000
DTSTAMP:20260425T112748
CREATED:20250812T132826Z
LAST-MODIFIED:20250812T132826Z
UID:10017028-1755097200-1755100800@epworth.faith
SUMMARY:Boys & Girls Club Meeting (Starnes Room)
DESCRIPTION:
URL:https://epworth.faith/event/boys-girls-club-meeting-starnes-room/
LOCATION:Epworth United Methodist Church\, 19285 Holland Glade Road\, Rehoboth Beach\, DE\, 19971\, United States
CATEGORIES:Church,Groups
END:VEVENT
BEGIN:VEVENT
DTSTART;TZID=America/New_York:20250813T173000
DTEND;TZID=America/New_York:20250813T183000
DTSTAMP:20260425T112748
CREATED:20250116T215058Z
LAST-MODIFIED:20250911T132405Z
UID:10017363-1755106200-1755109800@epworth.faith
SUMMARY:Chancel Choir Practice (Music Room)
DESCRIPTION:
URL:https://epworth.faith/event/chancel-choir-practice-music-room-2/2025-08-13/
LOCATION:Epworth United Methodist Church\, 19285 Holland Glade Road\, Rehoboth Beach\, DE\, 19971\, United States
CATEGORIES:Church,Groups
ORGANIZER;CN="Doug Yetter":MAILTO:dyetter@epworth.faith
END:VEVENT
BEGIN:VEVENT
DTSTART;TZID=America/New_York:20250813T173000
DTEND;TZID=America/New_York:20250813T183000
DTSTAMP:20260425T112748
CREATED:20250528T123510Z
LAST-MODIFIED:20250528T123938Z
UID:10016648-1755106200-1755109800@epworth.faith
SUMMARY:Praise Team Practice (Sanctuary)
DESCRIPTION:
URL:https://epworth.faith/event/praise-team-practice-music-room/2025-08-13/
LOCATION:Epworth United Methodist Church\, 19285 Holland Glade Road\, Rehoboth Beach\, DE\, 19971\, United States
CATEGORIES:Church,Music
ORGANIZER;CN="Doug Yetter":MAILTO:dyetter@epworth.faith
END:VEVENT
BEGIN:VEVENT
DTSTART;TZID=America/New_York:20250813T190000
DTEND;TZID=America/New_York:20250813T203000
DTSTAMP:20260425T112748
CREATED:20250619T123546Z
LAST-MODIFIED:20250624T150645Z
UID:10016827-1755111600-1755117000@epworth.faith
SUMMARY:Celtic to Classical Concert (Sanctuary)
DESCRIPTION:
URL:https://epworth.faith/event/celtic-to-classical-concert-sanctuary-concert-time-730pm/
LOCATION:Epworth United Methodist Church\, 19285 Holland Glade Road\, Rehoboth Beach\, DE\, 19971\, United States
CATEGORIES:Church,Concerts,Facility Rentals
ORGANIZER;CN="Sheridan Seyfried":MAILTO:sheridan.seyfried@gmail.com
END:VEVENT
BEGIN:VEVENT
DTSTART;TZID=America/New_York:20250814T093000
DTEND;TZID=America/New_York:20250814T103000
DTSTAMP:20260425T112748
CREATED:20250521T185021Z
LAST-MODIFIED:20260205T141334Z
UID:10016557-1755163800-1755167400@epworth.faith
SUMMARY:Alzheimer/Dementia Support Group (Baker Room)
DESCRIPTION:
URL:https://epworth.faith/event/alzheimer-dementia-support-group-baker-room/2025-08-14/
LOCATION:Epworth United Methodist Church\, 19285 Holland Glade Road\, Rehoboth Beach\, DE\, 19971\, United States
CATEGORIES:Church,Groups
ORGANIZER;CN="Harry Martens":MAILTO:HMartensiii@gmail.com
END:VEVENT
BEGIN:VEVENT
DTSTART;TZID=America/New_York:20250814T110000
DTEND;TZID=America/New_York:20250814T120000
DTSTAMP:20260425T112748
CREATED:20250513T184931Z
LAST-MODIFIED:20260129T210925Z
UID:10016444-1755169200-1755172800@epworth.faith
SUMMARY:Grief Group (Baker Room)
DESCRIPTION:
URL:https://epworth.faith/event/grief-group-baker-room/2025-08-14/
LOCATION:Epworth United Methodist Church\, 19285 Holland Glade Road\, Rehoboth Beach\, DE\, 19971\, United States
ORGANIZER;CN="Vicki Gordy-Stith":MAILTO:vgordy-stith@epworth.faith
END:VEVENT
END:VCALENDAR