BEGIN:VCALENDAR
VERSION:2.0
PRODID:-//Epworth UMC - ECPv6.15.20//NONSGML v1.0//EN
CALSCALE:GREGORIAN
METHOD:PUBLISH
X-ORIGINAL-URL:https://epworth.faith
X-WR-CALDESC:Events for Epworth UMC
REFRESH-INTERVAL;VALUE=DURATION:PT1H
X-Robots-Tag:noindex
X-PUBLISHED-TTL:PT1H
BEGIN:VTIMEZONE
TZID:America/New_York
BEGIN:DAYLIGHT
TZOFFSETFROM:-0500
TZOFFSETTO:-0400
TZNAME:EDT
DTSTART:20240310T070000
END:DAYLIGHT
BEGIN:STANDARD
TZOFFSETFROM:-0400
TZOFFSETTO:-0500
TZNAME:EST
DTSTART:20241103T060000
END:STANDARD
BEGIN:DAYLIGHT
TZOFFSETFROM:-0500
TZOFFSETTO:-0400
TZNAME:EDT
DTSTART:20250309T070000
END:DAYLIGHT
BEGIN:STANDARD
TZOFFSETFROM:-0400
TZOFFSETTO:-0500
TZNAME:EST
DTSTART:20251102T060000
END:STANDARD
BEGIN:DAYLIGHT
TZOFFSETFROM:-0500
TZOFFSETTO:-0400
TZNAME:EDT
DTSTART:20260308T070000
END:DAYLIGHT
BEGIN:STANDARD
TZOFFSETFROM:-0400
TZOFFSETTO:-0500
TZNAME:EST
DTSTART:20261101T060000
END:STANDARD
END:VTIMEZONE
BEGIN:VEVENT
DTSTART;TZID=America/New_York:20251003T143000
DTEND;TZID=America/New_York:20251003T160000
DTSTAMP:20260425T101704
CREATED:20250827T145757Z
LAST-MODIFIED:20250917T183514Z
UID:10017244-1759501800-1759507200@epworth.faith
SUMMARY:Celebration of Life for John Wolfle (Sanctuary)
DESCRIPTION:
URL:https://epworth.faith/event/celebration-of-life-for-john-wolfle-sanctuary/
LOCATION:Epworth United Methodist Church\, 19285 Holland Glade Road\, Rehoboth Beach\, DE\, 19971\, United States
CATEGORIES:Church,Funerals
END:VEVENT
BEGIN:VEVENT
DTSTART;TZID=America/New_York:20251004T090000
DTEND;TZID=America/New_York:20251004T100000
DTSTAMP:20260425T101704
CREATED:20240905T122704Z
LAST-MODIFIED:20251023T150523Z
UID:10014512-1759568400-1759572000@epworth.faith
SUMMARY:ACA Meeting (Baker Room)
DESCRIPTION:
URL:https://epworth.faith/event/aca-meeting-baker-room/2025-10-04/
LOCATION:Epworth United Methodist Church\, 19285 Holland Glade Road\, Rehoboth Beach\, DE\, 19971\, United States
CATEGORIES:Church,Groups
END:VEVENT
BEGIN:VEVENT
DTSTART;TZID=America/New_York:20251004T090000
DTEND;TZID=America/New_York:20251004T123000
DTSTAMP:20260425T101704
CREATED:20250820T162920Z
LAST-MODIFIED:20250820T162920Z
UID:10017039-1759568400-1759581000@epworth.faith
SUMMARY:The Grande @ Canal Pointe Homeowners Association Meeting (Fellowship Hall)
DESCRIPTION:
URL:https://epworth.faith/event/the-grande-canal-pointe-homeowners-association-meeting-fellowship-hall/
LOCATION:Epworth United Methodist Church\, 19285 Holland Glade Road\, Rehoboth Beach\, DE\, 19971\, United States
CATEGORIES:Church,Facility Rentals,Neighborhood/Community Groups
END:VEVENT
BEGIN:VEVENT
DTSTART;TZID=America/New_York:20251004T100000
DTEND;TZID=America/New_York:20251004T120000
DTSTAMP:20260425T101704
CREATED:20250113T134006Z
LAST-MODIFIED:20250113T134007Z
UID:10015354-1759572000-1759579200@epworth.faith
SUMMARY:Pond's Edge Annual Meeting (Music Room)
DESCRIPTION:
URL:https://epworth.faith/event/ponds-edge-annual-meeting-music-room/
LOCATION:Epworth United Methodist Church\, 19285 Holland Glade Road\, Rehoboth Beach\, DE\, 19971\, United States
CATEGORIES:Church,Facility Rentals,Neighborhood/Community Groups
ORGANIZER;CN="Ann McGinley":MAILTO:AMcGinley@legumnorman.com
END:VEVENT
BEGIN:VEVENT
DTSTART;TZID=America/New_York:20251004T170000
DTEND;TZID=America/New_York:20251004T210000
DTSTAMP:20260425T101705
CREATED:20250317T133017Z
LAST-MODIFIED:20250317T133017Z
UID:10015899-1759597200-1759611600@epworth.faith
SUMMARY:Emmaus Annual Gathering (Fellowship Hall and Kitchen)
DESCRIPTION:
URL:https://epworth.faith/event/emmaus-annual-gathering-fellowship-hall-and-kitchen/
LOCATION:Epworth United Methodist Church\, 19285 Holland Glade Road\, Rehoboth Beach\, DE\, 19971\, United States
CATEGORIES:Church,Groups
ORGANIZER;CN="Robin Duer":MAILTO:beachrobin12@aol.com
END:VEVENT
BEGIN:VEVENT
DTSTART;TZID=America/New_York:20251004T180000
DTEND;TZID=America/New_York:20251004T190000
DTSTAMP:20260425T101705
CREATED:20240905T122918Z
LAST-MODIFIED:20251023T150738Z
UID:10014564-1759600800-1759604400@epworth.faith
SUMMARY:Alanon Meeting (Baker Room)
DESCRIPTION:
URL:https://epworth.faith/event/alanon-meeting-baker-room-2/2025-10-04/
LOCATION:Epworth United Methodist Church\, 19285 Holland Glade Road\, Rehoboth Beach\, DE\, 19971\, United States
CATEGORIES:Church,Groups
END:VEVENT
BEGIN:VEVENT
DTSTART;TZID=America/New_York:20251004T180000
DTEND;TZID=America/New_York:20251004T190000
DTSTAMP:20260425T101705
CREATED:20240905T123154Z
LAST-MODIFIED:20251023T152520Z
UID:10014616-1759600800-1759604400@epworth.faith
SUMMARY:AA Meeting (Branford Room)
DESCRIPTION:
URL:https://epworth.faith/event/aa-meeting-branford-room/2025-10-04/
LOCATION:Epworth United Methodist Church\, 19285 Holland Glade Road\, Rehoboth Beach\, DE\, 19971\, United States
CATEGORIES:Church,Groups
END:VEVENT
BEGIN:VEVENT
DTSTART;TZID=America/New_York:20251005T100000
DTEND;TZID=America/New_York:20251005T110000
DTSTAMP:20260425T101705
CREATED:20230909T152658Z
LAST-MODIFIED:20230909T161232Z
UID:10009118-1759658400-1759662000@epworth.faith
SUMMARY:Blended ASL Worship Service (Sanctuary & Online)
DESCRIPTION:YouTube Livestream\nYouTube ASL Livestream\nFacebook Livestream
URL:https://epworth.faith/event/blended-worship-service-sanctuary-on-line-2/2025-10-05/
LOCATION:Epworth United Methodist Church\, 19285 Holland Glade Road\, Rehoboth Beach\, DE\, 19971\, United States
CATEGORIES:Worship
ORGANIZER;CN="Vicki Gordy-Stith":MAILTO:vgordy-stith@epworth.faith
END:VEVENT
BEGIN:VEVENT
DTSTART;TZID=America/New_York:20251005T110000
DTEND;TZID=America/New_York:20251005T124500
DTSTAMP:20260425T101705
CREATED:20250303T202501Z
LAST-MODIFIED:20250303T202548Z
UID:10015587-1759662000-1759668300@epworth.faith
SUMMARY:Flower Ministry for Arrangements (Starnes Room)
DESCRIPTION:
URL:https://epworth.faith/event/flower-ministry-for-arrangements-starnes-room/2025-10-05/
LOCATION:Epworth United Methodist Church\, 19285 Holland Glade Road\, Rehoboth Beach\, DE\, 19971\, United States
CATEGORIES:Church,Groups
ORGANIZER;CN="Val Linder":MAILTO:rovalinder@comcast.net
END:VEVENT
BEGIN:VEVENT
DTSTART;TZID=America/New_York:20251005T111500
DTEND;TZID=America/New_York:20251005T114500
DTSTAMP:20260425T101705
CREATED:20241120T193843Z
LAST-MODIFIED:20241120T193843Z
UID:10015225-1759662900-1759664700@epworth.faith
SUMMARY:Stephen Ministry Prayer Chapel (Baker Room)
DESCRIPTION:
URL:https://epworth.faith/event/stephen-ministry-prayer-chapel-baker-room/2025-10-05/
LOCATION:Epworth United Methodist Church\, 19285 Holland Glade Road\, Rehoboth Beach\, DE\, 19971\, United States
CATEGORIES:Church,Groups
END:VEVENT
BEGIN:VEVENT
DTSTART;TZID=America/New_York:20251006T130000
DTEND;TZID=America/New_York:20251006T150000
DTSTAMP:20260425T101705
CREATED:20250828T141200Z
LAST-MODIFIED:20250828T141200Z
UID:10017283-1759755600-1759762800@epworth.faith
SUMMARY:CCM Meeting - Guest Speaker Paula Waite (Branford Room)
DESCRIPTION:
URL:https://epworth.faith/event/ccm-meeting-guest-speaker-paula-waite-branford-room/
LOCATION:Epworth United Methodist Church\, 19285 Holland Glade Road\, Rehoboth Beach\, DE\, 19971\, United States
CATEGORIES:Church,Groups
ORGANIZER;CN="Mickie McManamon":MAILTO:mmcmanamon@epworth.faith
END:VEVENT
BEGIN:VEVENT
DTSTART;TZID=America/New_York:20251006T170000
DTEND;TZID=America/New_York:20251006T180000
DTSTAMP:20260425T101705
CREATED:20240905T122003Z
LAST-MODIFIED:20251023T143906Z
UID:10014304-1759770000-1759773600@epworth.faith
SUMMARY:Alanon Newcomers (Baker Room)
DESCRIPTION:
URL:https://epworth.faith/event/alanon-newcomers-baker-room/2025-10-06/
LOCATION:Epworth United Methodist Church\, 19285 Holland Glade Road\, Rehoboth Beach\, DE\, 19971\, United States
CATEGORIES:Church,Groups
END:VEVENT
BEGIN:VEVENT
DTSTART;TZID=America/New_York:20251006T180000
DTEND;TZID=America/New_York:20251006T190000
DTSTAMP:20260425T101705
CREATED:20240905T122138Z
LAST-MODIFIED:20251023T144119Z
UID:10014356-1759773600-1759777200@epworth.faith
SUMMARY:Alanon Meeting (Branford Room)
DESCRIPTION:
URL:https://epworth.faith/event/alanon-meeting-branford-room-2/2025-10-06/
LOCATION:Epworth United Methodist Church\, 19285 Holland Glade Road\, Rehoboth Beach\, DE\, 19971\, United States
CATEGORIES:Church,Groups
END:VEVENT
BEGIN:VEVENT
DTSTART;TZID=America/New_York:20251007T120000
DTEND;TZID=America/New_York:20251007T140000
DTSTAMP:20260425T101705
CREATED:20231101T154604Z
LAST-MODIFIED:20231101T154604Z
UID:10010552-1759838400-1759845600@epworth.faith
SUMMARY:Staff Meeting (Conference Room)
DESCRIPTION:
URL:https://epworth.faith/event/staff-meeting-conference-room/2025-10-07/
LOCATION:Epworth United Methodist Church\, 19285 Holland Glade Road\, Rehoboth Beach\, DE\, 19971\, United States
CATEGORIES:Church,Staff
ORGANIZER;CN="Vicki Gordy-Stith":MAILTO:vgordy-stith@epworth.faith
END:VEVENT
BEGIN:VEVENT
DTSTART;TZID=America/New_York:20251007T140000
DTEND;TZID=America/New_York:20251007T170000
DTSTAMP:20260425T101705
CREATED:20250709T184523Z
LAST-MODIFIED:20250709T184523Z
UID:10016989-1759845600-1759856400@epworth.faith
SUMMARY:Stitching Group (Branford Room)
DESCRIPTION:
URL:https://epworth.faith/event/stitching-group-branford-room/2025-10-07/
LOCATION:Epworth United Methodist Church\, 19285 Holland Glade Road\, Rehoboth Beach\, DE\, 19971\, United States
CATEGORIES:Church,Groups
END:VEVENT
BEGIN:VEVENT
DTSTART;TZID=America/New_York:20251007T180000
DTEND;TZID=America/New_York:20251007T190000
DTSTAMP:20260425T101705
CREATED:20240905T121346Z
LAST-MODIFIED:20251023T144445Z
UID:10014148-1759860000-1759863600@epworth.faith
SUMMARY:Alanon Meeting (Branford Room)
DESCRIPTION:
URL:https://epworth.faith/event/alanon-meeting-branford-room/2025-10-07/
LOCATION:Epworth United Methodist Church\, 19285 Holland Glade Road\, Rehoboth Beach\, DE\, 19971\, United States
CATEGORIES:Church,Groups
END:VEVENT
BEGIN:VEVENT
DTSTART;TZID=America/New_York:20251007T180000
DTEND;TZID=America/New_York:20251007T200000
DTSTAMP:20260425T101705
CREATED:20250529T174528Z
LAST-MODIFIED:20250529T174528Z
UID:10016756-1759860000-1759867200@epworth.faith
SUMMARY:SPRC Meeting (Office Conference Room)
DESCRIPTION:
URL:https://epworth.faith/event/sprc-meeting-office-conference-room/2025-10-07/
LOCATION:Epworth United Methodist Church\, 19285 Holland Glade Road\, Rehoboth Beach\, DE\, 19971\, United States
CATEGORIES:Church,Groups
ORGANIZER;CN="Sandy Pierce":MAILTO:sfpierce01@gmail.com
END:VEVENT
BEGIN:VEVENT
DTSTART;TZID=America/New_York:20251007T184500
DTEND;TZID=America/New_York:20251007T200000
DTSTAMP:20260425T101705
CREATED:20250821T173340Z
LAST-MODIFIED:20250821T173340Z
UID:10017062-1759862700-1759867200@epworth.faith
SUMMARY:Faith Friends & Issues Group (Zoom)
DESCRIPTION:
URL:https://epworth.faith/event/faith-friends-issues-group-zoom/2025-10-07/
LOCATION:Epworth United Methodist Church\, 19285 Holland Glade Road\, Rehoboth Beach\, DE\, 19971\, United States
CATEGORIES:Church,Groups
ORGANIZER;CN="Sandy Paulen":MAILTO:sandypaulen@gmail.com
END:VEVENT
BEGIN:VEVENT
DTSTART;TZID=America/New_York:20251007T190000
DTEND;TZID=America/New_York:20251007T200000
DTSTAMP:20260425T101705
CREATED:20240905T121615Z
LAST-MODIFIED:20251023T144756Z
UID:10014200-1759863600-1759867200@epworth.faith
SUMMARY:Alanon Meeting (Baker Room)
DESCRIPTION:
URL:https://epworth.faith/event/alanon-meeting-baker-room/2025-10-07/
LOCATION:Epworth United Methodist Church\, 19285 Holland Glade Road\, Rehoboth Beach\, DE\, 19971\, United States
CATEGORIES:Church,Groups
END:VEVENT
BEGIN:VEVENT
DTSTART;TZID=America/New_York:20251007T190000
DTEND;TZID=America/New_York:20251007T200000
DTSTAMP:20260425T101705
CREATED:20240905T121808Z
LAST-MODIFIED:20251023T145128Z
UID:10014252-1759863600-1759867200@epworth.faith
SUMMARY:AA Meeting (Music Room)
DESCRIPTION:
URL:https://epworth.faith/event/aa-meeting-music-room/2025-10-07/
LOCATION:Epworth United Methodist Church\, 19285 Holland Glade Road\, Rehoboth Beach\, DE\, 19971\, United States
CATEGORIES:Church,Groups
END:VEVENT
BEGIN:VEVENT
DTSTART;TZID=America/New_York:20251008T100000
DTEND;TZID=America/New_York:20251008T120000
DTSTAMP:20260425T101705
CREATED:20250827T201136Z
LAST-MODIFIED:20250827T201136Z
UID:10017248-1759917600-1759924800@epworth.faith
SUMMARY:Sisters in Christ Meetings (Starnes Room)
DESCRIPTION:
URL:https://epworth.faith/event/sisters-in-christ-meetings-starnes-room/2025-10-08/
LOCATION:Epworth United Methodist Church\, 19285 Holland Glade Road\, Rehoboth Beach\, DE\, 19971\, United States
CATEGORIES:Church,Groups
ORGANIZER;CN="Barbara Hoffman":MAILTO:revbarbarahoffman@gmail.com
END:VEVENT
BEGIN:VEVENT
DTSTART;TZID=America/New_York:20251008T130000
DTEND;TZID=America/New_York:20251008T150000
DTSTAMP:20260425T101705
CREATED:20250109T161802Z
LAST-MODIFIED:20250109T161802Z
UID:10015335-1759928400-1759935600@epworth.faith
SUMMARY:Moms Deman Action (Starnes Room)
DESCRIPTION:
URL:https://epworth.faith/event/moms-deman-action-starnes-room/2025-10-08/
LOCATION:Epworth United Methodist Church\, 19285 Holland Glade Road\, Rehoboth Beach\, DE\, 19971\, United States
CATEGORIES:Church,Groups
END:VEVENT
BEGIN:VEVENT
DTSTART;TZID=America/New_York:20251008T163000
DTEND;TZID=America/New_York:20251008T173000
DTSTAMP:20260425T101705
CREATED:20250528T122948Z
LAST-MODIFIED:20250911T130205Z
UID:10017297-1759941000-1759944600@epworth.faith
SUMMARY:Memorial Bells Practice (Music Room)
DESCRIPTION:
URL:https://epworth.faith/event/memorial-bells-practice-music-room-2/2025-10-08/
LOCATION:Epworth United Methodist Church\, 19285 Holland Glade Road\, Rehoboth Beach\, DE\, 19971\, United States
CATEGORIES:Church,Music
ORGANIZER;CN="Doug Yetter":MAILTO:dyetter@epworth.faith
END:VEVENT
BEGIN:VEVENT
DTSTART;TZID=America/New_York:20251008T173000
DTEND;TZID=America/New_York:20251008T183000
DTSTAMP:20260425T101705
CREATED:20250116T215058Z
LAST-MODIFIED:20250911T132405Z
UID:10017371-1759944600-1759948200@epworth.faith
SUMMARY:Chancel Choir Practice (Music Room)
DESCRIPTION:
URL:https://epworth.faith/event/chancel-choir-practice-music-room-2/2025-10-08/
LOCATION:Epworth United Methodist Church\, 19285 Holland Glade Road\, Rehoboth Beach\, DE\, 19971\, United States
CATEGORIES:Church,Groups
ORGANIZER;CN="Doug Yetter":MAILTO:dyetter@epworth.faith
END:VEVENT
BEGIN:VEVENT
DTSTART;TZID=America/New_York:20251008T183000
DTEND;TZID=America/New_York:20251008T193000
DTSTAMP:20260425T101705
CREATED:20250528T124534Z
LAST-MODIFIED:20250911T132748Z
UID:10017412-1759948200-1759951800@epworth.faith
SUMMARY:Praise Team (Sanctuary)
DESCRIPTION:
URL:https://epworth.faith/event/praise-team-sanctuary/2025-10-08/
LOCATION:Epworth United Methodist Church\, 19285 Holland Glade Road\, Rehoboth Beach\, DE\, 19971\, United States
CATEGORIES:Church,Music
ORGANIZER;CN="Doug Yetter":MAILTO:dyetter@epworth.faith
END:VEVENT
BEGIN:VEVENT
DTSTART;TZID=America/New_York:20251008T190000
DTEND;TZID=America/New_York:20251008T203000
DTSTAMP:20260425T101705
CREATED:20250508T141016Z
LAST-MODIFIED:20250508T141016Z
UID:10016037-1759950000-1759955400@epworth.faith
SUMMARY:Duer Small Group (Starnes Room)
DESCRIPTION:
URL:https://epworth.faith/event/duer-small-group-starnes-room/2025-10-08/
LOCATION:Epworth United Methodist Church\, 19285 Holland Glade Road\, Rehoboth Beach\, DE\, 19971\, United States
CATEGORIES:Church,Groups
ORGANIZER;CN="Robin Duer":MAILTO:beachrobin12@aol.com
END:VEVENT
BEGIN:VEVENT
DTSTART;TZID=America/New_York:20251009T093000
DTEND;TZID=America/New_York:20251009T103000
DTSTAMP:20260425T101705
CREATED:20250521T185021Z
LAST-MODIFIED:20260205T141334Z
UID:10016565-1760002200-1760005800@epworth.faith
SUMMARY:Alzheimer/Dementia Support Group (Baker Room)
DESCRIPTION:
URL:https://epworth.faith/event/alzheimer-dementia-support-group-baker-room/2025-10-09/
LOCATION:Epworth United Methodist Church\, 19285 Holland Glade Road\, Rehoboth Beach\, DE\, 19971\, United States
CATEGORIES:Church,Groups
ORGANIZER;CN="Harry Martens":MAILTO:HMartensiii@gmail.com
END:VEVENT
BEGIN:VEVENT
DTSTART;TZID=America/New_York:20251009T100000
DTEND;TZID=America/New_York:20251009T113000
DTSTAMP:20260425T101705
CREATED:20250821T135925Z
LAST-MODIFIED:20250911T133045Z
UID:10017050-1760004000-1760009400@epworth.faith
SUMMARY:Parkinson's Voice Project Choir (Music Room)
DESCRIPTION:
URL:https://epworth.faith/event/parkinsons-voice-project-choir-music-room-2/2025-10-09/
LOCATION:Epworth United Methodist Church\, 19285 Holland Glade Road\, Rehoboth Beach\, DE\, 19971\, United States
CATEGORIES:Church,Groups
ORGANIZER;CN="Doug Yetter":MAILTO:dyetter@epworth.faith
END:VEVENT
BEGIN:VEVENT
DTSTART;TZID=America/New_York:20251009T110000
DTEND;TZID=America/New_York:20251009T120000
DTSTAMP:20260425T101705
CREATED:20250513T184931Z
LAST-MODIFIED:20260129T210925Z
UID:10016452-1760007600-1760011200@epworth.faith
SUMMARY:Grief Group (Baker Room)
DESCRIPTION:
URL:https://epworth.faith/event/grief-group-baker-room/2025-10-09/
LOCATION:Epworth United Methodist Church\, 19285 Holland Glade Road\, Rehoboth Beach\, DE\, 19971\, United States
ORGANIZER;CN="Vicki Gordy-Stith":MAILTO:vgordy-stith@epworth.faith
END:VEVENT
BEGIN:VEVENT
DTSTART;TZID=America/New_York:20251009T120000
DTEND;TZID=America/New_York:20251009T130000
DTSTAMP:20260425T101705
CREATED:20240905T122329Z
LAST-MODIFIED:20251023T150055Z
UID:10014409-1760011200-1760014800@epworth.faith
SUMMARY:Alanon Meeting (Branford Room)
DESCRIPTION:
URL:https://epworth.faith/event/alanon-meeting-branford-room-3/2025-10-09/
LOCATION:Epworth United Methodist Church\, 19285 Holland Glade Road\, Rehoboth Beach\, DE\, 19971\, United States
CATEGORIES:Church,Groups
END:VEVENT
END:VCALENDAR