BEGIN:VCALENDAR
VERSION:2.0
PRODID:-//Epworth UMC - ECPv6.15.20//NONSGML v1.0//EN
CALSCALE:GREGORIAN
METHOD:PUBLISH
X-WR-CALNAME:Epworth UMC
X-ORIGINAL-URL:https://epworth.faith
X-WR-CALDESC:Events for Epworth UMC
REFRESH-INTERVAL;VALUE=DURATION:PT1H
X-Robots-Tag:noindex
X-PUBLISHED-TTL:PT1H
BEGIN:VTIMEZONE
TZID:America/New_York
BEGIN:DAYLIGHT
TZOFFSETFROM:-0500
TZOFFSETTO:-0400
TZNAME:EDT
DTSTART:20240310T070000
END:DAYLIGHT
BEGIN:STANDARD
TZOFFSETFROM:-0400
TZOFFSETTO:-0500
TZNAME:EST
DTSTART:20241103T060000
END:STANDARD
BEGIN:DAYLIGHT
TZOFFSETFROM:-0500
TZOFFSETTO:-0400
TZNAME:EDT
DTSTART:20250309T070000
END:DAYLIGHT
BEGIN:STANDARD
TZOFFSETFROM:-0400
TZOFFSETTO:-0500
TZNAME:EST
DTSTART:20251102T060000
END:STANDARD
BEGIN:DAYLIGHT
TZOFFSETFROM:-0500
TZOFFSETTO:-0400
TZNAME:EDT
DTSTART:20260308T070000
END:DAYLIGHT
BEGIN:STANDARD
TZOFFSETFROM:-0400
TZOFFSETTO:-0500
TZNAME:EST
DTSTART:20261101T060000
END:STANDARD
END:VTIMEZONE
BEGIN:VEVENT
DTSTART;TZID=America/New_York:20251111T140000
DTEND;TZID=America/New_York:20251111T170000
DTSTAMP:20260425T115107
CREATED:20250709T184523Z
LAST-MODIFIED:20250709T184523Z
UID:10016994-1762869600-1762880400@epworth.faith
SUMMARY:Stitching Group (Branford Room)
DESCRIPTION:
URL:https://epworth.faith/event/stitching-group-branford-room/2025-11-11/
LOCATION:Epworth United Methodist Church\, 19285 Holland Glade Road\, Rehoboth Beach\, DE\, 19971\, United States
CATEGORIES:Church,Groups
END:VEVENT
BEGIN:VEVENT
DTSTART;TZID=America/New_York:20251111T180000
DTEND;TZID=America/New_York:20251111T190000
DTSTAMP:20260425T115107
CREATED:20240905T121346Z
LAST-MODIFIED:20251023T144445Z
UID:10014153-1762884000-1762887600@epworth.faith
SUMMARY:Alanon Meeting (Branford Room)
DESCRIPTION:
URL:https://epworth.faith/event/alanon-meeting-branford-room/2025-11-11/
LOCATION:Epworth United Methodist Church\, 19285 Holland Glade Road\, Rehoboth Beach\, DE\, 19971\, United States
CATEGORIES:Church,Groups
END:VEVENT
BEGIN:VEVENT
DTSTART;TZID=America/New_York:20251111T180000
DTEND;TZID=America/New_York:20251111T200000
DTSTAMP:20260425T115107
CREATED:20250709T125038Z
LAST-MODIFIED:20250709T125038Z
UID:10016860-1762884000-1762891200@epworth.faith
SUMMARY:Trustee Committee Meeting (Zoom)
DESCRIPTION:
URL:https://epworth.faith/event/trustee-committee-meeting-zoom/2025-11-11/
LOCATION:Epworth United Methodist Church\, 19285 Holland Glade Road\, Rehoboth Beach\, DE\, 19971\, United States
ORGANIZER;CN="Tom Lewis":MAILTO:mathguy29@yahoo.com
END:VEVENT
BEGIN:VEVENT
DTSTART;TZID=America/New_York:20251111T190000
DTEND;TZID=America/New_York:20251111T200000
DTSTAMP:20260425T115107
CREATED:20240905T121615Z
LAST-MODIFIED:20251023T144756Z
UID:10014205-1762887600-1762891200@epworth.faith
SUMMARY:Alanon Meeting (Baker Room)
DESCRIPTION:
URL:https://epworth.faith/event/alanon-meeting-baker-room/2025-11-11/
LOCATION:Epworth United Methodist Church\, 19285 Holland Glade Road\, Rehoboth Beach\, DE\, 19971\, United States
CATEGORIES:Church,Groups
END:VEVENT
BEGIN:VEVENT
DTSTART;TZID=America/New_York:20251111T190000
DTEND;TZID=America/New_York:20251111T200000
DTSTAMP:20260425T115107
CREATED:20240905T121808Z
LAST-MODIFIED:20251023T145128Z
UID:10014257-1762887600-1762891200@epworth.faith
SUMMARY:AA Meeting (Music Room)
DESCRIPTION:
URL:https://epworth.faith/event/aa-meeting-music-room/2025-11-11/
LOCATION:Epworth United Methodist Church\, 19285 Holland Glade Road\, Rehoboth Beach\, DE\, 19971\, United States
CATEGORIES:Church,Groups
END:VEVENT
BEGIN:VEVENT
DTSTART;VALUE=DATE:20251112
DTEND;VALUE=DATE:20251126
DTSTAMP:20260425T115107
CREATED:20251112T160613Z
LAST-MODIFIED:20251112T160613Z
UID:10020841-1762905600-1764115199@epworth.faith
SUMMARY:Thanksgiving Food Boxes Organization (Starnes Room)
DESCRIPTION:
URL:https://epworth.faith/event/thanksgiving-food-boxes-organization-starnes-room/
LOCATION:Epworth United Methodist Church\, 19285 Holland Glade Road\, Rehoboth Beach\, DE\, 19971\, United States
CATEGORIES:Church,Groups
ORGANIZER;CN="Gwen Osborne":MAILTO:gosborne@epworth.faith
END:VEVENT
BEGIN:VEVENT
DTSTART;TZID=America/New_York:20251112T100000
DTEND;TZID=America/New_York:20251112T120000
DTSTAMP:20260425T115107
CREATED:20250827T201136Z
LAST-MODIFIED:20250827T201136Z
UID:10017253-1762941600-1762948800@epworth.faith
SUMMARY:Sisters in Christ Meetings (Starnes Room)
DESCRIPTION:
URL:https://epworth.faith/event/sisters-in-christ-meetings-starnes-room/2025-11-12/
LOCATION:Epworth United Methodist Church\, 19285 Holland Glade Road\, Rehoboth Beach\, DE\, 19971\, United States
CATEGORIES:Church,Groups
ORGANIZER;CN="Barbara Hoffman":MAILTO:revbarbarahoffman@gmail.com
END:VEVENT
BEGIN:VEVENT
DTSTART;TZID=America/New_York:20251112T100000
DTEND;TZID=America/New_York:20251112T160000
DTSTAMP:20260425T115107
CREATED:20251112T142447Z
LAST-MODIFIED:20251112T142447Z
UID:10020840-1762941600-1762963200@epworth.faith
SUMMARY:Christmas Joy Tags for Giving Tree (Baker Room)
DESCRIPTION:
URL:https://epworth.faith/event/christmas-joy-tags-for-giving-tree-baker-room/
LOCATION:Epworth United Methodist Church\, 19285 Holland Glade Road\, Rehoboth Beach\, DE\, 19971\, United States
CATEGORIES:Church,Groups
ORGANIZER;CN="Sue Brenton":MAILTO:myshadow143@verizon.net
END:VEVENT
BEGIN:VEVENT
DTSTART;TZID=America/New_York:20251112T120000
DTEND;TZID=America/New_York:20251112T140000
DTSTAMP:20260425T115107
CREATED:20251027T181018Z
LAST-MODIFIED:20251027T181018Z
UID:10020822-1762948800-1762956000@epworth.faith
SUMMARY:Fundraising Meeting (Office Conference Room)
DESCRIPTION:
URL:https://epworth.faith/event/fundraising-meeting-office-conference-room/
LOCATION:Epworth United Methodist Church\, 19285 Holland Glade Road\, Rehoboth Beach\, DE\, 19971\, United States
CATEGORIES:Church,Groups
ORGANIZER;CN="Linda BenderHilt":MAILTO:lbenderhilt@yahoo.com
END:VEVENT
BEGIN:VEVENT
DTSTART;TZID=America/New_York:20251112T130000
DTEND;TZID=America/New_York:20251112T150000
DTSTAMP:20260425T115107
CREATED:20250109T161802Z
LAST-MODIFIED:20250109T161802Z
UID:10015336-1762952400-1762959600@epworth.faith
SUMMARY:Moms Deman Action (Starnes Room)
DESCRIPTION:
URL:https://epworth.faith/event/moms-deman-action-starnes-room/2025-11-12/
LOCATION:Epworth United Methodist Church\, 19285 Holland Glade Road\, Rehoboth Beach\, DE\, 19971\, United States
CATEGORIES:Church,Groups
END:VEVENT
BEGIN:VEVENT
DTSTART;TZID=America/New_York:20251112T163000
DTEND;TZID=America/New_York:20251112T173000
DTSTAMP:20260425T115107
CREATED:20250528T122948Z
LAST-MODIFIED:20250911T130205Z
UID:10017302-1762965000-1762968600@epworth.faith
SUMMARY:Memorial Bells Practice (Music Room)
DESCRIPTION:
URL:https://epworth.faith/event/memorial-bells-practice-music-room-2/2025-11-12/
LOCATION:Epworth United Methodist Church\, 19285 Holland Glade Road\, Rehoboth Beach\, DE\, 19971\, United States
CATEGORIES:Church,Music
ORGANIZER;CN="Doug Yetter":MAILTO:dyetter@epworth.faith
END:VEVENT
BEGIN:VEVENT
DTSTART;TZID=America/New_York:20251112T173000
DTEND;TZID=America/New_York:20251112T183000
DTSTAMP:20260425T115107
CREATED:20250116T215058Z
LAST-MODIFIED:20250911T132405Z
UID:10017376-1762968600-1762972200@epworth.faith
SUMMARY:Chancel Choir Practice (Music Room)
DESCRIPTION:
URL:https://epworth.faith/event/chancel-choir-practice-music-room-2/2025-11-12/
LOCATION:Epworth United Methodist Church\, 19285 Holland Glade Road\, Rehoboth Beach\, DE\, 19971\, United States
CATEGORIES:Church,Groups
ORGANIZER;CN="Doug Yetter":MAILTO:dyetter@epworth.faith
END:VEVENT
BEGIN:VEVENT
DTSTART;TZID=America/New_York:20251112T183000
DTEND;TZID=America/New_York:20251112T193000
DTSTAMP:20260425T115107
CREATED:20250528T124534Z
LAST-MODIFIED:20250911T132748Z
UID:10017417-1762972200-1762975800@epworth.faith
SUMMARY:Praise Team (Sanctuary)
DESCRIPTION:
URL:https://epworth.faith/event/praise-team-sanctuary/2025-11-12/
LOCATION:Epworth United Methodist Church\, 19285 Holland Glade Road\, Rehoboth Beach\, DE\, 19971\, United States
CATEGORIES:Church,Music
ORGANIZER;CN="Doug Yetter":MAILTO:dyetter@epworth.faith
END:VEVENT
BEGIN:VEVENT
DTSTART;TZID=America/New_York:20251112T190000
DTEND;TZID=America/New_York:20251112T203000
DTSTAMP:20260425T115107
CREATED:20250508T141016Z
LAST-MODIFIED:20250508T141016Z
UID:10016042-1762974000-1762979400@epworth.faith
SUMMARY:Duer Small Group (Starnes Room)
DESCRIPTION:
URL:https://epworth.faith/event/duer-small-group-starnes-room/2025-11-12/
LOCATION:Epworth United Methodist Church\, 19285 Holland Glade Road\, Rehoboth Beach\, DE\, 19971\, United States
CATEGORIES:Church,Groups
ORGANIZER;CN="Robin Duer":MAILTO:beachrobin12@aol.com
END:VEVENT
BEGIN:VEVENT
DTSTART;TZID=America/New_York:20251113T090000
DTEND;TZID=America/New_York:20251113T130000
DTSTAMP:20260425T115107
CREATED:20251028T195139Z
LAST-MODIFIED:20251028T195139Z
UID:10020830-1763024400-1763038800@epworth.faith
SUMMARY:Baking for Cookie Walk (Kitchen)
DESCRIPTION:
URL:https://epworth.faith/event/baking-for-cookie-walk-kitchen-2/2025-11-13/
LOCATION:Epworth United Methodist Church\, 19285 Holland Glade Road\, Rehoboth Beach\, DE\, 19971\, United States
CATEGORIES:Church,Groups
ORGANIZER;CN="Sue Brenton":MAILTO:myshadow143@verizon.net
END:VEVENT
BEGIN:VEVENT
DTSTART;TZID=America/New_York:20251113T093000
DTEND;TZID=America/New_York:20251113T103000
DTSTAMP:20260425T115107
CREATED:20250521T185021Z
LAST-MODIFIED:20260205T141334Z
UID:10016570-1763026200-1763029800@epworth.faith
SUMMARY:Alzheimer/Dementia Support Group (Baker Room)
DESCRIPTION:
URL:https://epworth.faith/event/alzheimer-dementia-support-group-baker-room/2025-11-13/
LOCATION:Epworth United Methodist Church\, 19285 Holland Glade Road\, Rehoboth Beach\, DE\, 19971\, United States
CATEGORIES:Church,Groups
ORGANIZER;CN="Harry Martens":MAILTO:HMartensiii@gmail.com
END:VEVENT
BEGIN:VEVENT
DTSTART;TZID=America/New_York:20251113T100000
DTEND;TZID=America/New_York:20251113T113000
DTSTAMP:20260425T115107
CREATED:20250821T135925Z
LAST-MODIFIED:20250911T133045Z
UID:10017055-1763028000-1763033400@epworth.faith
SUMMARY:Parkinson's Voice Project Choir (Music Room)
DESCRIPTION:
URL:https://epworth.faith/event/parkinsons-voice-project-choir-music-room-2/2025-11-13/
LOCATION:Epworth United Methodist Church\, 19285 Holland Glade Road\, Rehoboth Beach\, DE\, 19971\, United States
CATEGORIES:Church,Groups
ORGANIZER;CN="Doug Yetter":MAILTO:dyetter@epworth.faith
END:VEVENT
BEGIN:VEVENT
DTSTART;TZID=America/New_York:20251113T100000
DTEND;TZID=America/New_York:20251113T120000
DTSTAMP:20260425T115107
CREATED:20251112T165710Z
LAST-MODIFIED:20251112T165710Z
UID:10020842-1763028000-1763035200@epworth.faith
SUMMARY:Meeting with Lee Ann Walling (Office Conference Room)
DESCRIPTION:
URL:https://epworth.faith/event/meeting-with-lee-ann-walling-office-conference-room/
LOCATION:Epworth United Methodist Church\, 19285 Holland Glade Road\, Rehoboth Beach\, DE\, 19971\, United States
CATEGORIES:Church,Groups
ORGANIZER;CN="Lee Ann Walling":MAILTO:leeawalling@gmail.com
END:VEVENT
BEGIN:VEVENT
DTSTART;TZID=America/New_York:20251113T110000
DTEND;TZID=America/New_York:20251113T120000
DTSTAMP:20260425T115107
CREATED:20250513T184931Z
LAST-MODIFIED:20260129T210925Z
UID:10016457-1763031600-1763035200@epworth.faith
SUMMARY:Grief Group (Baker Room)
DESCRIPTION:
URL:https://epworth.faith/event/grief-group-baker-room/2025-11-13/
LOCATION:Epworth United Methodist Church\, 19285 Holland Glade Road\, Rehoboth Beach\, DE\, 19971\, United States
ORGANIZER;CN="Vicki Gordy-Stith":MAILTO:vgordy-stith@epworth.faith
END:VEVENT
BEGIN:VEVENT
DTSTART;TZID=America/New_York:20251113T120000
DTEND;TZID=America/New_York:20251113T130000
DTSTAMP:20260425T115107
CREATED:20240905T122329Z
LAST-MODIFIED:20251023T150055Z
UID:10014414-1763035200-1763038800@epworth.faith
SUMMARY:Alanon Meeting (Branford Room)
DESCRIPTION:
URL:https://epworth.faith/event/alanon-meeting-branford-room-3/2025-11-13/
LOCATION:Epworth United Methodist Church\, 19285 Holland Glade Road\, Rehoboth Beach\, DE\, 19971\, United States
CATEGORIES:Church,Groups
END:VEVENT
BEGIN:VEVENT
DTSTART;TZID=America/New_York:20251113T120000
DTEND;TZID=America/New_York:20251113T140000
DTSTAMP:20260425T115107
CREATED:20251110T145337Z
LAST-MODIFIED:20251110T145337Z
UID:10020838-1763035200-1763042400@epworth.faith
SUMMARY:Food Ministries Meeting (Office Conference Room)
DESCRIPTION:
URL:https://epworth.faith/event/food-ministries-meeting-office-conference-room-2/
LOCATION:Epworth United Methodist Church\, 19285 Holland Glade Road\, Rehoboth Beach\, DE\, 19971\, United States
CATEGORIES:Church,Groups
ORGANIZER;CN="Mike Tyler":MAILTO:miketylerde@gmail.com
END:VEVENT
BEGIN:VEVENT
DTSTART;TZID=America/New_York:20251113T193000
DTEND;TZID=America/New_York:20251113T203000
DTSTAMP:20260425T115107
CREATED:20240905T122521Z
LAST-MODIFIED:20251023T150301Z
UID:10014466-1763062200-1763065800@epworth.faith
SUMMARY:AA Meeting (Baker Room)
DESCRIPTION:
URL:https://epworth.faith/event/aa-meeting-baker-room/2025-11-13/
LOCATION:Epworth United Methodist Church\, 19285 Holland Glade Road\, Rehoboth Beach\, DE\, 19971\, United States
CATEGORIES:Church,Groups
END:VEVENT
BEGIN:VEVENT
DTSTART;TZID=America/New_York:20251115T090000
DTEND;TZID=America/New_York:20251115T100000
DTSTAMP:20260425T115107
CREATED:20240905T122704Z
LAST-MODIFIED:20251023T150523Z
UID:10014518-1763197200-1763200800@epworth.faith
SUMMARY:ACA Meeting (Baker Room)
DESCRIPTION:
URL:https://epworth.faith/event/aca-meeting-baker-room/2025-11-15/
LOCATION:Epworth United Methodist Church\, 19285 Holland Glade Road\, Rehoboth Beach\, DE\, 19971\, United States
CATEGORIES:Church,Groups
END:VEVENT
BEGIN:VEVENT
DTSTART;TZID=America/New_York:20251115T180000
DTEND;TZID=America/New_York:20251115T190000
DTSTAMP:20260425T115107
CREATED:20240905T122918Z
LAST-MODIFIED:20251023T150738Z
UID:10014570-1763229600-1763233200@epworth.faith
SUMMARY:Alanon Meeting (Baker Room)
DESCRIPTION:
URL:https://epworth.faith/event/alanon-meeting-baker-room-2/2025-11-15/
LOCATION:Epworth United Methodist Church\, 19285 Holland Glade Road\, Rehoboth Beach\, DE\, 19971\, United States
CATEGORIES:Church,Groups
END:VEVENT
BEGIN:VEVENT
DTSTART;TZID=America/New_York:20251115T180000
DTEND;TZID=America/New_York:20251115T190000
DTSTAMP:20260425T115107
CREATED:20240905T123154Z
LAST-MODIFIED:20251023T152520Z
UID:10014622-1763229600-1763233200@epworth.faith
SUMMARY:AA Meeting (Branford Room)
DESCRIPTION:
URL:https://epworth.faith/event/aa-meeting-branford-room/2025-11-15/
LOCATION:Epworth United Methodist Church\, 19285 Holland Glade Road\, Rehoboth Beach\, DE\, 19971\, United States
CATEGORIES:Church,Groups
END:VEVENT
BEGIN:VEVENT
DTSTART;TZID=America/New_York:20251116T100000
DTEND;TZID=America/New_York:20251116T110000
DTSTAMP:20260425T115107
CREATED:20230909T152658Z
LAST-MODIFIED:20230909T161232Z
UID:10009124-1763287200-1763290800@epworth.faith
SUMMARY:Blended ASL Worship Service (Sanctuary & Online)
DESCRIPTION:YouTube Livestream\nYouTube ASL Livestream\nFacebook Livestream
URL:https://epworth.faith/event/blended-worship-service-sanctuary-on-line-2/2025-11-16/
LOCATION:Epworth United Methodist Church\, 19285 Holland Glade Road\, Rehoboth Beach\, DE\, 19971\, United States
CATEGORIES:Worship
ORGANIZER;CN="Vicki Gordy-Stith":MAILTO:vgordy-stith@epworth.faith
END:VEVENT
BEGIN:VEVENT
DTSTART;TZID=America/New_York:20251116T100000
DTEND;TZID=America/New_York:20251116T110000
DTSTAMP:20260425T115107
CREATED:20251015T130829Z
LAST-MODIFIED:20251015T130829Z
UID:10018018-1763287200-1763290800@epworth.faith
SUMMARY:New Member Ceremony (Sanctuary - During Service)
DESCRIPTION:
URL:https://epworth.faith/event/new-member-ceremony-sanctuary-during-service/
LOCATION:Epworth United Methodist Church\, 19285 Holland Glade Road\, Rehoboth Beach\, DE\, 19971\, United States
CATEGORIES:Church
ORGANIZER;CN="Todd Popham":MAILTO:sakjstr@udel.edu
END:VEVENT
BEGIN:VEVENT
DTSTART;TZID=America/New_York:20251116T110000
DTEND;TZID=America/New_York:20251116T124500
DTSTAMP:20260425T115107
CREATED:20250303T202501Z
LAST-MODIFIED:20250303T202548Z
UID:10015593-1763290800-1763297100@epworth.faith
SUMMARY:Flower Ministry for Arrangements (Starnes Room)
DESCRIPTION:
URL:https://epworth.faith/event/flower-ministry-for-arrangements-starnes-room/2025-11-16/
LOCATION:Epworth United Methodist Church\, 19285 Holland Glade Road\, Rehoboth Beach\, DE\, 19971\, United States
CATEGORIES:Church,Groups
ORGANIZER;CN="Val Linder":MAILTO:rovalinder@comcast.net
END:VEVENT
BEGIN:VEVENT
DTSTART;TZID=America/New_York:20251116T111500
DTEND;TZID=America/New_York:20251116T114500
DTSTAMP:20260425T115107
CREATED:20241120T193843Z
LAST-MODIFIED:20241120T193843Z
UID:10015231-1763291700-1763293500@epworth.faith
SUMMARY:Stephen Ministry Prayer Chapel (Baker Room)
DESCRIPTION:
URL:https://epworth.faith/event/stephen-ministry-prayer-chapel-baker-room/2025-11-16/
LOCATION:Epworth United Methodist Church\, 19285 Holland Glade Road\, Rehoboth Beach\, DE\, 19971\, United States
CATEGORIES:Church,Groups
END:VEVENT
BEGIN:VEVENT
DTSTART;TZID=America/New_York:20251117T143000
DTEND;TZID=America/New_York:20251117T160000
DTSTAMP:20260425T115107
CREATED:20251106T134204Z
LAST-MODIFIED:20251106T134204Z
UID:10020836-1763389800-1763395200@epworth.faith
SUMMARY:Preschool Quarterly Board Meeting (Office Conference Room)
DESCRIPTION:
URL:https://epworth.faith/event/preschool-quarterly-board-meeting-office-conference-room/
LOCATION:Epworth United Methodist Church\, 19285 Holland Glade Road\, Rehoboth Beach\, DE\, 19971\, United States
CATEGORIES:Church,Groups
ORGANIZER;CN="Betsy Plowman":MAILTO:bplowman@epworth.faith
END:VEVENT
END:VCALENDAR