BEGIN:VCALENDAR
VERSION:2.0
PRODID:-//Epworth UMC - ECPv6.15.20//NONSGML v1.0//EN
CALSCALE:GREGORIAN
METHOD:PUBLISH
X-ORIGINAL-URL:https://epworth.faith
X-WR-CALDESC:Events for Epworth UMC
REFRESH-INTERVAL;VALUE=DURATION:PT1H
X-Robots-Tag:noindex
X-PUBLISHED-TTL:PT1H
BEGIN:VTIMEZONE
TZID:America/New_York
BEGIN:DAYLIGHT
TZOFFSETFROM:-0500
TZOFFSETTO:-0400
TZNAME:EDT
DTSTART:20240310T070000
END:DAYLIGHT
BEGIN:STANDARD
TZOFFSETFROM:-0400
TZOFFSETTO:-0500
TZNAME:EST
DTSTART:20241103T060000
END:STANDARD
BEGIN:DAYLIGHT
TZOFFSETFROM:-0500
TZOFFSETTO:-0400
TZNAME:EDT
DTSTART:20250309T070000
END:DAYLIGHT
BEGIN:STANDARD
TZOFFSETFROM:-0400
TZOFFSETTO:-0500
TZNAME:EST
DTSTART:20251102T060000
END:STANDARD
BEGIN:DAYLIGHT
TZOFFSETFROM:-0500
TZOFFSETTO:-0400
TZNAME:EDT
DTSTART:20260308T070000
END:DAYLIGHT
BEGIN:STANDARD
TZOFFSETFROM:-0400
TZOFFSETTO:-0500
TZNAME:EST
DTSTART:20261101T060000
END:STANDARD
END:VTIMEZONE
BEGIN:VEVENT
DTSTART;TZID=America/New_York:20251216T140000
DTEND;TZID=America/New_York:20251216T170000
DTSTAMP:20260425T093215
CREATED:20250709T184523Z
LAST-MODIFIED:20250709T184523Z
UID:10016999-1765893600-1765904400@epworth.faith
SUMMARY:Stitching Group (Branford Room)
DESCRIPTION:
URL:https://epworth.faith/event/stitching-group-branford-room/2025-12-16/
LOCATION:Epworth United Methodist Church\, 19285 Holland Glade Road\, Rehoboth Beach\, DE\, 19971\, United States
CATEGORIES:Church,Groups
END:VEVENT
BEGIN:VEVENT
DTSTART;TZID=America/New_York:20251216T120000
DTEND;TZID=America/New_York:20251216T140000
DTSTAMP:20260425T093215
CREATED:20231101T154604Z
LAST-MODIFIED:20231101T154604Z
UID:10010562-1765886400-1765893600@epworth.faith
SUMMARY:Staff Meeting (Conference Room)
DESCRIPTION:
URL:https://epworth.faith/event/staff-meeting-conference-room/2025-12-16/
LOCATION:Epworth United Methodist Church\, 19285 Holland Glade Road\, Rehoboth Beach\, DE\, 19971\, United States
CATEGORIES:Church,Staff
ORGANIZER;CN="Vicki Gordy-Stith":MAILTO:vgordy-stith@epworth.faith
END:VEVENT
BEGIN:VEVENT
DTSTART;TZID=America/New_York:20251216T090000
DTEND;TZID=America/New_York:20251216T113000
DTSTAMP:20260425T093215
CREATED:20250911T133828Z
LAST-MODIFIED:20250911T133828Z
UID:10017452-1765875600-1765884600@epworth.faith
SUMMARY:Preschool Christmas Program Rehearsal (Sanctuary)
DESCRIPTION:
URL:https://epworth.faith/event/preschool-christmas-program-rehearsal-sanctuary-5/2025-12-16/
LOCATION:Epworth United Methodist Church\, 19285 Holland Glade Road\, Rehoboth Beach\, DE\, 19971\, United States
CATEGORIES:Church,Preschool
ORGANIZER;CN="Betsy Plowman":MAILTO:bplowman@epworth.faith
END:VEVENT
BEGIN:VEVENT
DTSTART;VALUE=DATE:20251216
DTEND;VALUE=DATE:20251217
DTSTAMP:20260425T093215
CREATED:20251218T190225Z
LAST-MODIFIED:20251218T190225Z
UID:10020945-1765843200-1765929599@epworth.faith
SUMMARY:Day 17 Devotional
DESCRIPTION:Day 17 Devotional
URL:https://epworth.faith/event/day-17-devotional/
LOCATION:DE
END:VEVENT
BEGIN:VEVENT
DTSTART;TZID=America/New_York:20251215T190000
DTEND;TZID=America/New_York:20251215T203000
DTSTAMP:20260425T093215
CREATED:20250619T124444Z
LAST-MODIFIED:20250619T124448Z
UID:10016829-1765825200-1765830600@epworth.faith
SUMMARY:Sussex Tech Winter Concert (Sanctuary & Music Room) Concert Time: 7:00pm
DESCRIPTION:
URL:https://epworth.faith/event/sussex-tech-winter-concert-sanctuary-music-room-concert-time-700pm/
LOCATION:Epworth United Methodist Church\, 19285 Holland Glade Road\, Rehoboth Beach\, DE\, 19971\, United States
CATEGORIES:Church,Concerts,Facility Rentals
ORGANIZER;CN="Sarah Rose":MAILTO:Sarah.Rose@sussexvt.k12.de.us
END:VEVENT
BEGIN:VEVENT
DTSTART;TZID=America/New_York:20251215T180000
DTEND;TZID=America/New_York:20251215T193000
DTSTAMP:20260425T093215
CREATED:20250925T182614Z
LAST-MODIFIED:20250929T160622Z
UID:10017748-1765821600-1765827000@epworth.faith
SUMMARY:Social Justice Meeting (Starnes Room)
DESCRIPTION:
URL:https://epworth.faith/event/social-justice-meeting-starnes-room/2025-12-15/
LOCATION:Epworth United Methodist Church\, 19285 Holland Glade Road\, Rehoboth Beach\, DE\, 19971\, United States
CATEGORIES:Church,Groups
END:VEVENT
BEGIN:VEVENT
DTSTART;TZID=America/New_York:20251215T180000
DTEND;TZID=America/New_York:20251215T190000
DTSTAMP:20260425T093215
CREATED:20240905T122138Z
LAST-MODIFIED:20251023T144119Z
UID:10014366-1765821600-1765825200@epworth.faith
SUMMARY:Alanon Meeting (Branford Room)
DESCRIPTION:
URL:https://epworth.faith/event/alanon-meeting-branford-room-2/2025-12-15/
LOCATION:Epworth United Methodist Church\, 19285 Holland Glade Road\, Rehoboth Beach\, DE\, 19971\, United States
CATEGORIES:Church,Groups
END:VEVENT
BEGIN:VEVENT
DTSTART;TZID=America/New_York:20251215T170000
DTEND;TZID=America/New_York:20251215T180000
DTSTAMP:20260425T093215
CREATED:20240905T122003Z
LAST-MODIFIED:20251023T143906Z
UID:10014314-1765818000-1765821600@epworth.faith
SUMMARY:Alanon Newcomers (Baker Room)
DESCRIPTION:
URL:https://epworth.faith/event/alanon-newcomers-baker-room/2025-12-15/
LOCATION:Epworth United Methodist Church\, 19285 Holland Glade Road\, Rehoboth Beach\, DE\, 19971\, United States
CATEGORIES:Church,Groups
END:VEVENT
BEGIN:VEVENT
DTSTART;TZID=America/New_York:20251215T090000
DTEND;TZID=America/New_York:20251215T113000
DTSTAMP:20260425T093215
CREATED:20250911T133828Z
LAST-MODIFIED:20250911T133828Z
UID:10017451-1765789200-1765798200@epworth.faith
SUMMARY:Preschool Christmas Program Rehearsal (Sanctuary)
DESCRIPTION:
URL:https://epworth.faith/event/preschool-christmas-program-rehearsal-sanctuary-5/2025-12-15/
LOCATION:Epworth United Methodist Church\, 19285 Holland Glade Road\, Rehoboth Beach\, DE\, 19971\, United States
CATEGORIES:Church,Preschool
ORGANIZER;CN="Betsy Plowman":MAILTO:bplowman@epworth.faith
END:VEVENT
BEGIN:VEVENT
DTSTART;VALUE=DATE:20251215
DTEND;VALUE=DATE:20251216
DTSTAMP:20260425T093215
CREATED:20251218T190036Z
LAST-MODIFIED:20251218T190149Z
UID:10020944-1765756800-1765843199@epworth.faith
SUMMARY:Day 16 Devotional
DESCRIPTION:Day 16 Devotional
URL:https://epworth.faith/event/day-16-devotional/
LOCATION:DE
END:VEVENT
BEGIN:VEVENT
DTSTART;TZID=America/New_York:20251214T180000
DTEND;TZID=America/New_York:20251214T210000
DTSTAMP:20260425T093215
CREATED:20250925T201618Z
LAST-MODIFIED:20250925T201621Z
UID:10017735-1765735200-1765746000@epworth.faith
SUMMARY:Compassionate Friends Candlelight Ceremony (Sanctuary)
DESCRIPTION:
URL:https://epworth.faith/event/compassionate-friends-candlelight-ceremony-sanctuary-2/
LOCATION:Epworth United Methodist Church\, 19285 Holland Glade Road\, Rehoboth Beach\, DE\, 19971\, United States
CATEGORIES:Church,Facility Rentals,Neighborhood/Community Groups
END:VEVENT
BEGIN:VEVENT
DTSTART;TZID=America/New_York:20251214T111500
DTEND;TZID=America/New_York:20251214T114500
DTSTAMP:20260425T093215
CREATED:20241120T193843Z
LAST-MODIFIED:20241120T193843Z
UID:10015235-1765710900-1765712700@epworth.faith
SUMMARY:Stephen Ministry Prayer Chapel (Baker Room)
DESCRIPTION:
URL:https://epworth.faith/event/stephen-ministry-prayer-chapel-baker-room/2025-12-14/
LOCATION:Epworth United Methodist Church\, 19285 Holland Glade Road\, Rehoboth Beach\, DE\, 19971\, United States
CATEGORIES:Church,Groups
END:VEVENT
BEGIN:VEVENT
DTSTART;TZID=America/New_York:20251214T110000
DTEND;TZID=America/New_York:20251214T124500
DTSTAMP:20260425T093215
CREATED:20250303T202501Z
LAST-MODIFIED:20250303T202548Z
UID:10015597-1765710000-1765716300@epworth.faith
SUMMARY:Flower Ministry for Arrangements (Starnes Room)
DESCRIPTION:
URL:https://epworth.faith/event/flower-ministry-for-arrangements-starnes-room/2025-12-14/
LOCATION:Epworth United Methodist Church\, 19285 Holland Glade Road\, Rehoboth Beach\, DE\, 19971\, United States
CATEGORIES:Church,Groups
ORGANIZER;CN="Val Linder":MAILTO:rovalinder@comcast.net
END:VEVENT
BEGIN:VEVENT
DTSTART;TZID=America/New_York:20251214T100000
DTEND;TZID=America/New_York:20251214T110000
DTSTAMP:20260425T093215
CREATED:20230909T152658Z
LAST-MODIFIED:20230909T161232Z
UID:10009128-1765706400-1765710000@epworth.faith
SUMMARY:Blended ASL Worship Service (Sanctuary & Online)
DESCRIPTION:YouTube Livestream\nYouTube ASL Livestream\nFacebook Livestream
URL:https://epworth.faith/event/blended-worship-service-sanctuary-on-line-2/2025-12-14/
LOCATION:Epworth United Methodist Church\, 19285 Holland Glade Road\, Rehoboth Beach\, DE\, 19971\, United States
CATEGORIES:Worship
ORGANIZER;CN="Vicki Gordy-Stith":MAILTO:vgordy-stith@epworth.faith
END:VEVENT
BEGIN:VEVENT
DTSTART;VALUE=DATE:20251214
DTEND;VALUE=DATE:20251215
DTSTAMP:20260425T093215
CREATED:20251214T131122Z
LAST-MODIFIED:20251214T131122Z
UID:10020942-1765670400-1765756799@epworth.faith
SUMMARY:Day 15 Devotional
DESCRIPTION:Day 15 Devotional
URL:https://epworth.faith/event/day-15-devotional/
LOCATION:DE
END:VEVENT
BEGIN:VEVENT
DTSTART;TZID=America/New_York:20251213T183000
DTEND;TZID=America/New_York:20251213T203000
DTSTAMP:20260425T093215
CREATED:20250925T201802Z
LAST-MODIFIED:20250925T201802Z
UID:10017736-1765650600-1765657800@epworth.faith
SUMMARY:Compassionate Friends Candlelight Ceremony Tree Set-Up (Sanctuary)
DESCRIPTION:
URL:https://epworth.faith/event/compassionate-friends-candlelight-ceremony-tree-set-up-sanctuary/
LOCATION:Epworth United Methodist Church\, 19285 Holland Glade Road\, Rehoboth Beach\, DE\, 19971\, United States
CATEGORIES:Church,Facility Rentals,Neighborhood/Community Groups
END:VEVENT
BEGIN:VEVENT
DTSTART;TZID=America/New_York:20251213T180000
DTEND;TZID=America/New_York:20251213T190000
DTSTAMP:20260425T093215
CREATED:20240905T123154Z
LAST-MODIFIED:20251023T152520Z
UID:10014626-1765648800-1765652400@epworth.faith
SUMMARY:AA Meeting (Branford Room)
DESCRIPTION:
URL:https://epworth.faith/event/aa-meeting-branford-room/2025-12-13/
LOCATION:Epworth United Methodist Church\, 19285 Holland Glade Road\, Rehoboth Beach\, DE\, 19971\, United States
CATEGORIES:Church,Groups
END:VEVENT
BEGIN:VEVENT
DTSTART;TZID=America/New_York:20251213T180000
DTEND;TZID=America/New_York:20251213T190000
DTSTAMP:20260425T093215
CREATED:20240905T122918Z
LAST-MODIFIED:20251023T150738Z
UID:10014574-1765648800-1765652400@epworth.faith
SUMMARY:Alanon Meeting (Baker Room)
DESCRIPTION:
URL:https://epworth.faith/event/alanon-meeting-baker-room-2/2025-12-13/
LOCATION:Epworth United Methodist Church\, 19285 Holland Glade Road\, Rehoboth Beach\, DE\, 19971\, United States
CATEGORIES:Church,Groups
END:VEVENT
BEGIN:VEVENT
DTSTART;TZID=America/New_York:20251213T150000
DTEND;TZID=America/New_York:20251213T163000
DTSTAMP:20260425T093215
CREATED:20250109T162619Z
LAST-MODIFIED:20251027T152327Z
UID:10015344-1765638000-1765643400@epworth.faith
SUMMARY:Capital Ringers Christmas Concert (Sanctuary & Music Room)
DESCRIPTION:The Capital Ringers will perform their Christmas concert\, “The Most Wonderful Time (and a Few of Our Favorite Things”) at 3 p.m. Saturday\, December 13 at Epworth. \nThe 2025 concert features favorites from over the years selected by members of the ensemble. So we’re bringing back some of your favorites too. All guaranteed to put you in the holiday spirit because handbells sound like Christmas! \nTickets are $20 and are available online. You will also be able to purchase them at the door. \n  \n			\n				GET TICKETS
URL:https://epworth.faith/event/capital-ringers-christmas-concert-sanctuary-music-room/
LOCATION:Epworth United Methodist Church\, 19285 Holland Glade Road\, Rehoboth Beach\, DE\, 19971\, United States
CATEGORIES:Church,Concerts,Facility Rentals
ATTACH;FMTTYPE=image/jpeg:https://epworth.faith/wp-content/uploads/2025/01/Epworth-Christmas-sm.jpg
ORGANIZER;CN="Lee Ann Walling":MAILTO:leeawalling@gmail.com
END:VEVENT
BEGIN:VEVENT
DTSTART;TZID=America/New_York:20251213T090000
DTEND;TZID=America/New_York:20251213T100000
DTSTAMP:20260425T093215
CREATED:20240905T122704Z
LAST-MODIFIED:20251023T150523Z
UID:10014522-1765616400-1765620000@epworth.faith
SUMMARY:ACA Meeting (Baker Room)
DESCRIPTION:
URL:https://epworth.faith/event/aca-meeting-baker-room/2025-12-13/
LOCATION:Epworth United Methodist Church\, 19285 Holland Glade Road\, Rehoboth Beach\, DE\, 19971\, United States
CATEGORIES:Church,Groups
END:VEVENT
BEGIN:VEVENT
DTSTART;TZID=America/New_York:20251213T070000
DTEND;TZID=America/New_York:20251213T120000
DTSTAMP:20260425T093215
CREATED:20241230T200207Z
LAST-MODIFIED:20241230T200207Z
UID:10015300-1765609200-1765627200@epworth.faith
SUMMARY:Cookie Walk (Fellowship Hall and Narthex)
DESCRIPTION:
URL:https://epworth.faith/event/cookie-walk-fellowship-hall-and-narthex/
LOCATION:Epworth United Methodist Church\, 19285 Holland Glade Road\, Rehoboth Beach\, DE\, 19971\, United States
CATEGORIES:Church,Groups
ORGANIZER;CN="Sue Brenton":MAILTO:myshadow143@verizon.net
END:VEVENT
BEGIN:VEVENT
DTSTART;VALUE=DATE:20251213
DTEND;VALUE=DATE:20251214
DTSTAMP:20260425T093215
CREATED:20251214T130924Z
LAST-MODIFIED:20251214T130924Z
UID:10020941-1765584000-1765670399@epworth.faith
SUMMARY:Day 14 Devotional
DESCRIPTION:Day 14 Devotional
URL:https://epworth.faith/event/day-14-devotional/
LOCATION:DE
END:VEVENT
BEGIN:VEVENT
DTSTART;TZID=America/New_York:20251212T180000
DTEND;TZID=America/New_York:20251212T200000
DTSTAMP:20260425T093215
CREATED:20251015T131822Z
LAST-MODIFIED:20251015T131822Z
UID:10018020-1765562400-1765569600@epworth.faith
SUMMARY:Meet Me Ugly Holiday Sweater Party (Fellowship Hall)
DESCRIPTION:
URL:https://epworth.faith/event/meet-me-ugly-holiday-sweater-party-fellowship-hall/
LOCATION:Epworth United Methodist Church\, 19285 Holland Glade Road\, Rehoboth Beach\, DE\, 19971\, United States
CATEGORIES:Church,Groups
ORGANIZER;CN="Mickie McManamon":MAILTO:mmcmanamon@epworth.faith
END:VEVENT
BEGIN:VEVENT
DTSTART;TZID=America/New_York:20251212T090000
DTEND;TZID=America/New_York:20251212T113000
DTSTAMP:20260425T093215
CREATED:20250910T144840Z
LAST-MODIFIED:20250910T144840Z
UID:10017292-1765530000-1765539000@epworth.faith
SUMMARY:Preschool Christmas Program Rehearsal (Sanctuary)
DESCRIPTION:
URL:https://epworth.faith/event/preschool-christmas-program-rehearsal-sanctuary-4/
LOCATION:Epworth United Methodist Church\, 19285 Holland Glade Road\, Rehoboth Beach\, DE\, 19971\, United States
CATEGORIES:Church,Preschool
ORGANIZER;CN="Betsy Plowman":MAILTO:bplowman@epworth.faith
END:VEVENT
BEGIN:VEVENT
DTSTART;VALUE=DATE:20251212
DTEND;VALUE=DATE:20251213
DTSTAMP:20260425T093215
CREATED:20251214T130836Z
LAST-MODIFIED:20251214T131004Z
UID:10020940-1765497600-1765583999@epworth.faith
SUMMARY:Day 13 Devotional
DESCRIPTION:Day 13 Devotional
URL:https://epworth.faith/event/day-13-devotional/
LOCATION:DE
END:VEVENT
BEGIN:VEVENT
DTSTART;TZID=America/New_York:20251211T193000
DTEND;TZID=America/New_York:20251211T203000
DTSTAMP:20260425T093215
CREATED:20240905T122521Z
LAST-MODIFIED:20251023T150301Z
UID:10014470-1765481400-1765485000@epworth.faith
SUMMARY:AA Meeting (Baker Room)
DESCRIPTION:
URL:https://epworth.faith/event/aa-meeting-baker-room/2025-12-11/
LOCATION:Epworth United Methodist Church\, 19285 Holland Glade Road\, Rehoboth Beach\, DE\, 19971\, United States
CATEGORIES:Church,Groups
END:VEVENT
BEGIN:VEVENT
DTSTART;TZID=America/New_York:20251211T180000
DTEND;TZID=America/New_York:20251211T200000
DTSTAMP:20260425T093215
CREATED:20251204T170745Z
LAST-MODIFIED:20251204T170745Z
UID:10020919-1765476000-1765483200@epworth.faith
SUMMARY:Parent Night - Boys & Girls Club (Fellowship Hall)
DESCRIPTION:
URL:https://epworth.faith/event/parent-night-boys-girls-club-fellowship-hall/
LOCATION:Epworth United Methodist Church\, 19285 Holland Glade Road\, Rehoboth Beach\, DE\, 19971\, United States
CATEGORIES:Church,Groups
ORGANIZER;CN="Avara Brown":MAILTO:AvBrown@bgclubs.org
END:VEVENT
BEGIN:VEVENT
DTSTART;TZID=America/New_York:20251211T120000
DTEND;TZID=America/New_York:20251211T133000
DTSTAMP:20260425T093215
CREATED:20251202T200722Z
LAST-MODIFIED:20251202T200722Z
UID:10020918-1765454400-1765459800@epworth.faith
SUMMARY:Food Ministry Meeting (Office Conference Room)
DESCRIPTION:
URL:https://epworth.faith/event/food-ministry-meeting-office-conference-room-3/
LOCATION:Epworth United Methodist Church\, 19285 Holland Glade Road\, Rehoboth Beach\, DE\, 19971\, United States
CATEGORIES:Church,Groups
ORGANIZER;CN="Mike Tyler":MAILTO:miketylerde@gmail.com
END:VEVENT
BEGIN:VEVENT
DTSTART;TZID=America/New_York:20251211T120000
DTEND;TZID=America/New_York:20251211T130000
DTSTAMP:20260425T093215
CREATED:20240905T122329Z
LAST-MODIFIED:20251023T150055Z
UID:10014418-1765454400-1765458000@epworth.faith
SUMMARY:Alanon Meeting (Branford Room)
DESCRIPTION:
URL:https://epworth.faith/event/alanon-meeting-branford-room-3/2025-12-11/
LOCATION:Epworth United Methodist Church\, 19285 Holland Glade Road\, Rehoboth Beach\, DE\, 19971\, United States
CATEGORIES:Church,Groups
END:VEVENT
BEGIN:VEVENT
DTSTART;TZID=America/New_York:20251211T110000
DTEND;TZID=America/New_York:20251211T120000
DTSTAMP:20260425T093215
CREATED:20250513T184931Z
LAST-MODIFIED:20260129T210925Z
UID:10016461-1765450800-1765454400@epworth.faith
SUMMARY:Grief Group (Baker Room)
DESCRIPTION:
URL:https://epworth.faith/event/grief-group-baker-room/2025-12-11/
LOCATION:Epworth United Methodist Church\, 19285 Holland Glade Road\, Rehoboth Beach\, DE\, 19971\, United States
ORGANIZER;CN="Vicki Gordy-Stith":MAILTO:vgordy-stith@epworth.faith
END:VEVENT
END:VCALENDAR