BEGIN:VCALENDAR
VERSION:2.0
PRODID:-//Epworth UMC - ECPv6.15.20//NONSGML v1.0//EN
CALSCALE:GREGORIAN
METHOD:PUBLISH
X-ORIGINAL-URL:https://epworth.faith
X-WR-CALDESC:Events for Epworth UMC
REFRESH-INTERVAL;VALUE=DURATION:PT1H
X-Robots-Tag:noindex
X-PUBLISHED-TTL:PT1H
BEGIN:VTIMEZONE
TZID:America/New_York
BEGIN:DAYLIGHT
TZOFFSETFROM:-0500
TZOFFSETTO:-0400
TZNAME:EDT
DTSTART:20250309T070000
END:DAYLIGHT
BEGIN:STANDARD
TZOFFSETFROM:-0400
TZOFFSETTO:-0500
TZNAME:EST
DTSTART:20251102T060000
END:STANDARD
BEGIN:DAYLIGHT
TZOFFSETFROM:-0500
TZOFFSETTO:-0400
TZNAME:EDT
DTSTART:20260308T070000
END:DAYLIGHT
BEGIN:STANDARD
TZOFFSETFROM:-0400
TZOFFSETTO:-0500
TZNAME:EST
DTSTART:20261101T060000
END:STANDARD
BEGIN:DAYLIGHT
TZOFFSETFROM:-0500
TZOFFSETTO:-0400
TZNAME:EDT
DTSTART:20270314T070000
END:DAYLIGHT
BEGIN:STANDARD
TZOFFSETFROM:-0400
TZOFFSETTO:-0500
TZNAME:EST
DTSTART:20271107T060000
END:STANDARD
END:VTIMEZONE
BEGIN:VEVENT
DTSTART;TZID=America/New_York:20260218T100000
DTEND;TZID=America/New_York:20260218T120000
DTSTAMP:20260424T103326
CREATED:20260120T211519Z
LAST-MODIFIED:20260120T211519Z
UID:10021029-1771408800-1771416000@epworth.faith
SUMMARY:Cookie Walk Committee Meeting (Office Conference Room)
DESCRIPTION:
URL:https://epworth.faith/event/cookie-walk-committee-meeting-office-conference-room/
LOCATION:Epworth United Methodist Church\, 19285 Holland Glade Road\, Rehoboth Beach\, DE\, 19971\, United States
CATEGORIES:Church,Groups
ORGANIZER;CN="Mickie McManamon":MAILTO:mmcmanamon@epworth.faith
END:VEVENT
BEGIN:VEVENT
DTSTART;TZID=America/New_York:20260218T120000
DTEND;TZID=America/New_York:20260218T120000
DTSTAMP:20260424T103326
CREATED:20260213T153415Z
LAST-MODIFIED:20260213T200244Z
UID:10021226-1771416000-1771416000@epworth.faith
SUMMARY:Ash Wednesday
DESCRIPTION:“You are dust and to dust you shall return.” — Genesis 3:19\nA reflective service to begin our Lenten journey with music\, meditation\, and imposition of ashes
URL:https://epworth.faith/event/ash-wednesday/
LOCATION:DE
CATEGORIES:Lent 2026
ATTACH;FMTTYPE=image/png:https://epworth.faith/wp-content/uploads/2026/02/260218-Ash-Wednesday.png
END:VEVENT
BEGIN:VEVENT
DTSTART;TZID=America/New_York:20260218T124500
DTEND;TZID=America/New_York:20260218T134500
DTSTAMP:20260424T103326
CREATED:20260213T200422Z
LAST-MODIFIED:20260213T200432Z
UID:10021203-1771418700-1771422300@epworth.faith
SUMMARY:The Why & How of Stories Study Group (Baker Room)
DESCRIPTION:Led by Pastor Bo. Meets during Lent beginning at 12:45 p.m. Wednesday\, February 18.\nClick on the link for complete information. \nThe Why and How of Stories
URL:https://epworth.faith/event/the-why-how-of-stories-study-group-baker-room-2/
LOCATION:Epworth United Methodist Church\, 19285 Holland Glade Road\, Rehoboth Beach\, DE\, 19971\, United States
CATEGORIES:Church,Groups,Lent 2026
ATTACH;FMTTYPE=image/jpeg:https://epworth.faith/wp-content/uploads/2026/02/AdobeStock_923682342-scaled.jpeg
ORGANIZER;CN="Bo Gordy-Stith":MAILTO:bgordy-stith@epworth.faith
END:VEVENT
BEGIN:VEVENT
DTSTART;TZID=America/New_York:20260218T163000
DTEND;TZID=America/New_York:20260218T173000
DTSTAMP:20260424T103326
CREATED:20250528T122948Z
LAST-MODIFIED:20250911T130205Z
UID:10017316-1771432200-1771435800@epworth.faith
SUMMARY:Memorial Bells Practice (Music Room)
DESCRIPTION:
URL:https://epworth.faith/event/memorial-bells-practice-music-room-2/2026-02-18/
LOCATION:Epworth United Methodist Church\, 19285 Holland Glade Road\, Rehoboth Beach\, DE\, 19971\, United States
CATEGORIES:Church,Music
ORGANIZER;CN="Doug Yetter":MAILTO:dyetter@epworth.faith
END:VEVENT
BEGIN:VEVENT
DTSTART;TZID=America/New_York:20260218T173000
DTEND;TZID=America/New_York:20260218T183000
DTSTAMP:20260424T103326
CREATED:20250116T215058Z
LAST-MODIFIED:20250911T132405Z
UID:10017390-1771435800-1771439400@epworth.faith
SUMMARY:Chancel Choir Practice (Music Room)
DESCRIPTION:
URL:https://epworth.faith/event/chancel-choir-practice-music-room-2/2026-02-18/
LOCATION:Epworth United Methodist Church\, 19285 Holland Glade Road\, Rehoboth Beach\, DE\, 19971\, United States
CATEGORIES:Church,Groups
ORGANIZER;CN="Doug Yetter":MAILTO:dyetter@epworth.faith
END:VEVENT
BEGIN:VEVENT
DTSTART;TZID=America/New_York:20260218T183000
DTEND;TZID=America/New_York:20260218T193000
DTSTAMP:20260424T103326
CREATED:20250528T124534Z
LAST-MODIFIED:20250911T132748Z
UID:10017431-1771439400-1771443000@epworth.faith
SUMMARY:Praise Team (Sanctuary)
DESCRIPTION:
URL:https://epworth.faith/event/praise-team-sanctuary/2026-02-18/
LOCATION:Epworth United Methodist Church\, 19285 Holland Glade Road\, Rehoboth Beach\, DE\, 19971\, United States
CATEGORIES:Church,Music
ORGANIZER;CN="Doug Yetter":MAILTO:dyetter@epworth.faith
END:VEVENT
BEGIN:VEVENT
DTSTART;TZID=America/New_York:20260218T183000
DTEND;TZID=America/New_York:20260218T210000
DTSTAMP:20260424T103326
CREATED:20240321T141329Z
LAST-MODIFIED:20240321T141511Z
UID:10012594-1771439400-1771448400@epworth.faith
SUMMARY:ManKind Project (MKP) (Baker Lounge)
DESCRIPTION:
URL:https://epworth.faith/event/mankind-project-mkp-baker-lounge-4/2026-02-18/
LOCATION:Epworth United Methodist Church\, 19285 Holland Glade Road\, Rehoboth Beach\, DE\, 19971\, United States
CATEGORIES:Church,Groups
ORGANIZER;CN="Rick Buske":MAILTO:rick.buske@gmail.com
END:VEVENT
BEGIN:VEVENT
DTSTART;TZID=America/New_York:20260219T080000
DTEND;TZID=America/New_York:20260219T170000
DTSTAMP:20260424T103326
CREATED:20260212T194318Z
LAST-MODIFIED:20260226T222052Z
UID:10021758-1771488000-1771520400@epworth.faith
SUMMARY:Why Are We So Polarized? Group (Office Conference Room)
DESCRIPTION:Led by Pastor VIcki. \nJoin us for a six-week exploration of where our morals come from\, how our stories shape our values\, and how we can bridge the gap through open and honest relationships. We will use three books to help us examine our own values and understand the values of others: Learning to Disagree\, by John Inazu\, The Righteous Mind\, by Jonathan Haidt\, and I Never Thought of It That Way\, by Monica Guzman. We will offer a hybrid group\, meeting both in person and online via zoom\, on Thursdays. \nContact Pastor Vicki for more information or to sign up for the group.
URL:https://epworth.faith/event/why-are-we-so-polarized-group-office-conference-room-2-2-2/2026-02-19/1/
LOCATION:Epworth United Methodist Church\, 19285 Holland Glade Road\, Rehoboth Beach\, DE\, 19971\, United States
CATEGORIES:Church,Groups
ATTACH;FMTTYPE=image/jpeg:https://epworth.faith/wp-content/uploads/2026/02/Bookstudy.jpg
ORGANIZER;CN="Vicki Gordy-Stith":MAILTO:vgordy-stith@epworth.faith
END:VEVENT
BEGIN:VEVENT
DTSTART;TZID=America/New_York:20260219T093000
DTEND;TZID=America/New_York:20260219T103000
DTSTAMP:20260424T103326
CREATED:20250521T185021Z
LAST-MODIFIED:20260205T141334Z
UID:10021157-1771493400-1771497000@epworth.faith
SUMMARY:Alzheimer/Dementia Support Group (Baker Room)
DESCRIPTION:
URL:https://epworth.faith/event/alzheimer-dementia-support-group-baker-room/2026-02-19/
LOCATION:Epworth United Methodist Church\, 19285 Holland Glade Road\, Rehoboth Beach\, DE\, 19971\, United States
CATEGORIES:Church,Groups
ORGANIZER;CN="Harry Martens":MAILTO:HMartensiii@gmail.com
END:VEVENT
BEGIN:VEVENT
DTSTART;TZID=America/New_York:20260219T100000
DTEND;TZID=America/New_York:20260219T113000
DTSTAMP:20260424T103326
CREATED:20260114T135227Z
LAST-MODIFIED:20260114T135227Z
UID:10021008-1771495200-1771500600@epworth.faith
SUMMARY:Voices of Hope Practice (Music Room)
DESCRIPTION:
URL:https://epworth.faith/event/voices-of-hope-practice-music-room/2026-02-19/
LOCATION:Epworth United Methodist Church\, 19285 Holland Glade Road\, Rehoboth Beach\, DE\, 19971\, United States
CATEGORIES:Church,Groups
ORGANIZER;CN="Doug Yetter":MAILTO:dyetter@epworth.faith
END:VEVENT
BEGIN:VEVENT
DTSTART;TZID=America/New_York:20260219T110000
DTEND;TZID=America/New_York:20260219T120000
DTSTAMP:20260424T103326
CREATED:20250513T184931Z
LAST-MODIFIED:20260129T210925Z
UID:10021053-1771498800-1771502400@epworth.faith
SUMMARY:Grief Group (Baker Room)
DESCRIPTION:
URL:https://epworth.faith/event/grief-group-baker-room/2026-02-19/
LOCATION:Epworth United Methodist Church\, 19285 Holland Glade Road\, Rehoboth Beach\, DE\, 19971\, United States
ORGANIZER;CN="Vicki Gordy-Stith":MAILTO:vgordy-stith@epworth.faith
END:VEVENT
BEGIN:VEVENT
DTSTART;TZID=America/New_York:20260219T120000
DTEND;TZID=America/New_York:20260219T130000
DTSTAMP:20260424T103326
CREATED:20240905T122329Z
LAST-MODIFIED:20251023T150055Z
UID:10019564-1771502400-1771506000@epworth.faith
SUMMARY:Alanon Meeting (Branford Room)
DESCRIPTION:
URL:https://epworth.faith/event/alanon-meeting-branford-room-3/2026-02-19/
LOCATION:Epworth United Methodist Church\, 19285 Holland Glade Road\, Rehoboth Beach\, DE\, 19971\, United States
CATEGORIES:Church,Groups
END:VEVENT
BEGIN:VEVENT
DTSTART;TZID=America/New_York:20260219T120000
DTEND;TZID=America/New_York:20260219T133000
DTSTAMP:20260424T103326
CREATED:20260219T134019Z
LAST-MODIFIED:20260219T134019Z
UID:10021674-1771502400-1771507800@epworth.faith
SUMMARY:Food Ministry Meeting (Office Conference Room)
DESCRIPTION:
URL:https://epworth.faith/event/food-ministry-meeting-office-conference-room-4/
LOCATION:Epworth United Methodist Church\, 19285 Holland Glade Road\, Rehoboth Beach\, DE\, 19971\, United States
CATEGORIES:Church,Groups
ORGANIZER;CN="Mike Tyler":MAILTO:miketylerde@gmail.com
END:VEVENT
BEGIN:VEVENT
DTSTART;TZID=America/New_York:20260219T130000
DTEND;TZID=America/New_York:20260219T143000
DTSTAMP:20260424T103326
CREATED:20260218T181808Z
LAST-MODIFIED:20260218T181808Z
UID:10021412-1771506000-1771511400@epworth.faith
SUMMARY:Social Justice Meeting (Starnes Room)
DESCRIPTION:
URL:https://epworth.faith/event/social-justice-meeting-starnes-room-2/2026-02-19/
LOCATION:Epworth United Methodist Church\, 19285 Holland Glade Road\, Rehoboth Beach\, DE\, 19971\, United States
CATEGORIES:Church,Groups
END:VEVENT
BEGIN:VEVENT
DTSTART;TZID=America/New_York:20260219T140000
DTEND;TZID=America/New_York:20260219T153000
DTSTAMP:20260424T103326
CREATED:20260212T194318Z
LAST-MODIFIED:20260226T222052Z
UID:10021410-1771509600-1771515000@epworth.faith
SUMMARY:Why Are We So Polarized? Group (Office Conference Room)
DESCRIPTION:Led by Pastor VIcki. \nJoin us for a six-week exploration of where our morals come from\, how our stories shape our values\, and how we can bridge the gap through open and honest relationships. We will use three books to help us examine our own values and understand the values of others: Learning to Disagree\, by John Inazu\, The Righteous Mind\, by Jonathan Haidt\, and I Never Thought of It That Way\, by Monica Guzman. We will offer a hybrid group\, meeting both in person and online via zoom\, on Thursdays. \nContact Pastor Vicki for more information or to sign up for the group.
URL:https://epworth.faith/event/why-are-we-so-polarized-group-office-conference-room-2-2-2/2026-02-19/2/
LOCATION:Epworth United Methodist Church\, 19285 Holland Glade Road\, Rehoboth Beach\, DE\, 19971\, United States
CATEGORIES:Church,Groups
ATTACH;FMTTYPE=image/jpeg:https://epworth.faith/wp-content/uploads/2026/02/Bookstudy.jpg
ORGANIZER;CN="Vicki Gordy-Stith":MAILTO:vgordy-stith@epworth.faith
END:VEVENT
BEGIN:VEVENT
DTSTART;TZID=America/New_York:20260219T153000
DTEND;TZID=America/New_York:20260219T170000
DTSTAMP:20260424T103326
CREATED:20260217T202028Z
LAST-MODIFIED:20260217T202028Z
UID:10021411-1771515000-1771520400@epworth.faith
SUMMARY:Vacation Bible School Meeting (Baker Lounge)
DESCRIPTION:
URL:https://epworth.faith/event/vacation-bible-school-meeting-baker-lounge/
LOCATION:Epworth United Methodist Church\, 19285 Holland Glade Road\, Rehoboth Beach\, DE\, 19971\, United States
CATEGORIES:Church,Funerals
ORGANIZER;CN="Gwen Osborne":MAILTO:gosborne@epworth.faith
END:VEVENT
BEGIN:VEVENT
DTSTART;TZID=America/New_York:20260219T193000
DTEND;TZID=America/New_York:20260219T203000
DTSTAMP:20260424T103326
CREATED:20240905T122521Z
LAST-MODIFIED:20251023T150301Z
UID:10019815-1771529400-1771533000@epworth.faith
SUMMARY:AA Meeting (Baker Room)
DESCRIPTION:
URL:https://epworth.faith/event/aa-meeting-baker-room/2026-02-19/
LOCATION:Epworth United Methodist Church\, 19285 Holland Glade Road\, Rehoboth Beach\, DE\, 19971\, United States
CATEGORIES:Church,Groups
END:VEVENT
BEGIN:VEVENT
DTSTART;TZID=America/New_York:20260220T093000
DTEND;TZID=America/New_York:20260220T120000
DTSTAMP:20260424T103326
CREATED:20260209T165636Z
LAST-MODIFIED:20260209T165636Z
UID:10021209-1771579800-1771588800@epworth.faith
SUMMARY:Abbott's Mill Nature Center - Preschool (Fellowship Hall)
DESCRIPTION:
URL:https://epworth.faith/event/abbotts-mill-nature-center-preschool-fellowship-hall/
LOCATION:Epworth United Methodist Church\, 19285 Holland Glade Road\, Rehoboth Beach\, DE\, 19971\, United States
CATEGORIES:Church,Preschool
ORGANIZER;CN="Betsy Plowman":MAILTO:bplowman@epworth.faith
END:VEVENT
BEGIN:VEVENT
DTSTART;TZID=America/New_York:20260221T090000
DTEND;TZID=America/New_York:20260221T100000
DTSTAMP:20260424T103326
CREATED:20240905T122704Z
LAST-MODIFIED:20251023T150523Z
UID:10020066-1771664400-1771668000@epworth.faith
SUMMARY:ACA Meeting (Baker Room)
DESCRIPTION:
URL:https://epworth.faith/event/aca-meeting-baker-room/2026-02-21/
LOCATION:Epworth United Methodist Church\, 19285 Holland Glade Road\, Rehoboth Beach\, DE\, 19971\, United States
CATEGORIES:Church,Groups
END:VEVENT
BEGIN:VEVENT
DTSTART;TZID=America/New_York:20260221T180000
DTEND;TZID=America/New_York:20260221T190000
DTSTAMP:20260424T103326
CREATED:20240905T122918Z
LAST-MODIFIED:20251023T150738Z
UID:10020317-1771696800-1771700400@epworth.faith
SUMMARY:Alanon Meeting (Baker Room)
DESCRIPTION:
URL:https://epworth.faith/event/alanon-meeting-baker-room-2/2026-02-21/
LOCATION:Epworth United Methodist Church\, 19285 Holland Glade Road\, Rehoboth Beach\, DE\, 19971\, United States
CATEGORIES:Church,Groups
END:VEVENT
BEGIN:VEVENT
DTSTART;TZID=America/New_York:20260221T180000
DTEND;TZID=America/New_York:20260221T190000
DTSTAMP:20260424T103326
CREATED:20240905T123154Z
LAST-MODIFIED:20251023T152520Z
UID:10020568-1771696800-1771700400@epworth.faith
SUMMARY:AA Meeting (Branford Room)
DESCRIPTION:
URL:https://epworth.faith/event/aa-meeting-branford-room/2026-02-21/
LOCATION:Epworth United Methodist Church\, 19285 Holland Glade Road\, Rehoboth Beach\, DE\, 19971\, United States
CATEGORIES:Church,Groups
END:VEVENT
BEGIN:VEVENT
DTSTART;TZID=America/New_York:20260222T100000
DTEND;TZID=America/New_York:20260222T110000
DTSTAMP:20260424T103326
CREATED:20230909T152658Z
LAST-MODIFIED:20230909T161232Z
UID:10009138-1771754400-1771758000@epworth.faith
SUMMARY:Blended ASL Worship Service (Sanctuary & Online)
DESCRIPTION:YouTube Livestream\nYouTube ASL Livestream\nFacebook Livestream
URL:https://epworth.faith/event/blended-worship-service-sanctuary-on-line-2/2026-02-22/
LOCATION:Epworth United Methodist Church\, 19285 Holland Glade Road\, Rehoboth Beach\, DE\, 19971\, United States
CATEGORIES:Worship
ORGANIZER;CN="Vicki Gordy-Stith":MAILTO:vgordy-stith@epworth.faith
END:VEVENT
BEGIN:VEVENT
DTSTART;TZID=America/New_York:20260222T110000
DTEND;TZID=America/New_York:20260222T120000
DTSTAMP:20260424T103326
CREATED:20260122T144215Z
LAST-MODIFIED:20260122T144215Z
UID:10021034-1771758000-1771761600@epworth.faith
SUMMARY:Emmaus Walk Orientation Meeting (Branford Room)
DESCRIPTION:
URL:https://epworth.faith/event/emmaus-walk-orientation-meeting-branford-room/
LOCATION:Epworth United Methodist Church\, 19285 Holland Glade Road\, Rehoboth Beach\, DE\, 19971\, United States
CATEGORIES:Church,Groups
ORGANIZER;CN="Robin Duer":MAILTO:beachrobin12@aol.com
END:VEVENT
BEGIN:VEVENT
DTSTART;TZID=America/New_York:20260222T110000
DTEND;TZID=America/New_York:20260222T124500
DTSTAMP:20260424T103326
CREATED:20250303T202501Z
LAST-MODIFIED:20250303T202548Z
UID:10015607-1771758000-1771764300@epworth.faith
SUMMARY:Flower Ministry for Arrangements (Starnes Room)
DESCRIPTION:
URL:https://epworth.faith/event/flower-ministry-for-arrangements-starnes-room/2026-02-22/
LOCATION:Epworth United Methodist Church\, 19285 Holland Glade Road\, Rehoboth Beach\, DE\, 19971\, United States
CATEGORIES:Church,Groups
ORGANIZER;CN="Val Linder":MAILTO:rovalinder@comcast.net
END:VEVENT
BEGIN:VEVENT
DTSTART;TZID=America/New_York:20260222T111500
DTEND;TZID=America/New_York:20260222T114500
DTSTAMP:20260424T103326
CREATED:20251023T142658Z
LAST-MODIFIED:20251023T142658Z
UID:10018058-1771758900-1771760700@epworth.faith
SUMMARY:Stephen Ministry Prayer Chapel (Baker Room)
DESCRIPTION:
URL:https://epworth.faith/event/stephen-ministry-prayer-chapel-baker-room-2/2026-02-22/
LOCATION:Epworth United Methodist Church\, 19285 Holland Glade Road\, Rehoboth Beach\, DE\, 19971\, United States
CATEGORIES:Church,Groups
END:VEVENT
BEGIN:VEVENT
DTSTART;TZID=America/New_York:20260223T170000
DTEND;TZID=America/New_York:20260223T180000
DTSTAMP:20260424T103326
CREATED:20240905T122003Z
LAST-MODIFIED:20251023T143906Z
UID:10018309-1771866000-1771869600@epworth.faith
SUMMARY:Alanon Newcomers (Baker Room)
DESCRIPTION:
URL:https://epworth.faith/event/alanon-newcomers-baker-room/2026-02-23/
LOCATION:Epworth United Methodist Church\, 19285 Holland Glade Road\, Rehoboth Beach\, DE\, 19971\, United States
CATEGORIES:Church,Groups
END:VEVENT
BEGIN:VEVENT
DTSTART;TZID=America/New_York:20260223T180000
DTEND;TZID=America/New_York:20260223T190000
DTSTAMP:20260424T103326
CREATED:20240905T122138Z
LAST-MODIFIED:20251023T144119Z
UID:10018560-1771869600-1771873200@epworth.faith
SUMMARY:Alanon Meeting (Branford Room)
DESCRIPTION:
URL:https://epworth.faith/event/alanon-meeting-branford-room-2/2026-02-23/
LOCATION:Epworth United Methodist Church\, 19285 Holland Glade Road\, Rehoboth Beach\, DE\, 19971\, United States
CATEGORIES:Church,Groups
END:VEVENT
BEGIN:VEVENT
DTSTART;TZID=America/New_York:20260223T180000
DTEND;TZID=America/New_York:20260223T193000
DTSTAMP:20260424T103326
CREATED:20250925T182614Z
LAST-MODIFIED:20250929T160622Z
UID:10017758-1771869600-1771875000@epworth.faith
SUMMARY:Social Justice Meeting (Starnes Room)
DESCRIPTION:
URL:https://epworth.faith/event/social-justice-meeting-starnes-room/2026-02-23/
LOCATION:Epworth United Methodist Church\, 19285 Holland Glade Road\, Rehoboth Beach\, DE\, 19971\, United States
CATEGORIES:Church,Groups
END:VEVENT
BEGIN:VEVENT
DTSTART;TZID=America/New_York:20260224T120000
DTEND;TZID=America/New_York:20260224T140000
DTSTAMP:20260424T103326
CREATED:20231101T154604Z
LAST-MODIFIED:20231101T154604Z
UID:10010572-1771934400-1771941600@epworth.faith
SUMMARY:Staff Meeting (Conference Room)
DESCRIPTION:
URL:https://epworth.faith/event/staff-meeting-conference-room/2026-02-24/
LOCATION:Epworth United Methodist Church\, 19285 Holland Glade Road\, Rehoboth Beach\, DE\, 19971\, United States
CATEGORIES:Church,Staff
ORGANIZER;CN="Vicki Gordy-Stith":MAILTO:vgordy-stith@epworth.faith
END:VEVENT
BEGIN:VEVENT
DTSTART;TZID=America/New_York:20260224T180000
DTEND;TZID=America/New_York:20260224T190000
DTSTAMP:20260424T103326
CREATED:20240905T121346Z
LAST-MODIFIED:20251023T144445Z
UID:10018811-1771956000-1771959600@epworth.faith
SUMMARY:Alanon Meeting (Branford Room)
DESCRIPTION:
URL:https://epworth.faith/event/alanon-meeting-branford-room/2026-02-24/
LOCATION:Epworth United Methodist Church\, 19285 Holland Glade Road\, Rehoboth Beach\, DE\, 19971\, United States
CATEGORIES:Church,Groups
END:VEVENT
END:VCALENDAR