BEGIN:VCALENDAR
VERSION:2.0
PRODID:-//Epworth UMC - ECPv6.15.20//NONSGML v1.0//EN
CALSCALE:GREGORIAN
METHOD:PUBLISH
X-ORIGINAL-URL:https://epworth.faith
X-WR-CALDESC:Events for Epworth UMC
REFRESH-INTERVAL;VALUE=DURATION:PT1H
X-Robots-Tag:noindex
X-PUBLISHED-TTL:PT1H
BEGIN:VTIMEZONE
TZID:America/New_York
BEGIN:DAYLIGHT
TZOFFSETFROM:-0500
TZOFFSETTO:-0400
TZNAME:EDT
DTSTART:20250309T070000
END:DAYLIGHT
BEGIN:STANDARD
TZOFFSETFROM:-0400
TZOFFSETTO:-0500
TZNAME:EST
DTSTART:20251102T060000
END:STANDARD
BEGIN:DAYLIGHT
TZOFFSETFROM:-0500
TZOFFSETTO:-0400
TZNAME:EDT
DTSTART:20260308T070000
END:DAYLIGHT
BEGIN:STANDARD
TZOFFSETFROM:-0400
TZOFFSETTO:-0500
TZNAME:EST
DTSTART:20261101T060000
END:STANDARD
BEGIN:DAYLIGHT
TZOFFSETFROM:-0500
TZOFFSETTO:-0400
TZNAME:EDT
DTSTART:20270314T070000
END:DAYLIGHT
BEGIN:STANDARD
TZOFFSETFROM:-0400
TZOFFSETTO:-0500
TZNAME:EST
DTSTART:20271107T060000
END:STANDARD
END:VTIMEZONE
BEGIN:VEVENT
DTSTART;TZID=America/New_York:20260331T190000
DTEND;TZID=America/New_York:20260331T200000
DTSTAMP:20260423T170511
CREATED:20240905T121808Z
LAST-MODIFIED:20251023T145128Z
UID:10019318-1774983600-1774987200@epworth.faith
SUMMARY:AA Meeting (Music Room)
DESCRIPTION:
URL:https://epworth.faith/event/aa-meeting-music-room/2026-03-31/
LOCATION:Epworth United Methodist Church\, 19285 Holland Glade Road\, Rehoboth Beach\, DE\, 19971\, United States
CATEGORIES:Church,Groups
END:VEVENT
BEGIN:VEVENT
DTSTART;TZID=America/New_York:20260331T190000
DTEND;TZID=America/New_York:20260331T200000
DTSTAMP:20260423T170511
CREATED:20240905T121615Z
LAST-MODIFIED:20251023T144756Z
UID:10019067-1774983600-1774987200@epworth.faith
SUMMARY:Alanon Meeting (Baker Room)
DESCRIPTION:
URL:https://epworth.faith/event/alanon-meeting-baker-room/2026-03-31/
LOCATION:Epworth United Methodist Church\, 19285 Holland Glade Road\, Rehoboth Beach\, DE\, 19971\, United States
CATEGORIES:Church,Groups
END:VEVENT
BEGIN:VEVENT
DTSTART;TZID=America/New_York:20260331T183000
DTEND;TZID=America/New_York:20260331T200000
DTSTAMP:20260423T170511
CREATED:20260128T185145Z
LAST-MODIFIED:20260213T203323Z
UID:10021041-1774981800-1774987200@epworth.faith
SUMMARY:An Unlikely Lent
DESCRIPTION:An Unlikely Lent: Extraordinary People of the Easter Story meets Tuesdays at 6:30 pm in person for six sessions starting February 24\, 2026. Contact Rev. David Garrett or Rev. Beth LaBella Foster \nThe meeting will be in the Starnes Room. \nClick on the book for more info \n  \n 
URL:https://epworth.faith/event/lent-bible-study-starnes-room/2026-03-31/
LOCATION:Epworth United Methodist Church\, 19285 Holland Glade Road\, Rehoboth Beach\, DE\, 19971\, United States
CATEGORIES:Church,Groups
ATTACH;FMTTYPE=image/jpeg:https://epworth.faith/wp-content/uploads/2026/01/unlikelyweb.jpg
ORGANIZER;CN="David Garrett":MAILTO:dlgarrett4rb@gmail.com
END:VEVENT
BEGIN:VEVENT
DTSTART;TZID=America/New_York:20260331T180000
DTEND;TZID=America/New_York:20260331T190000
DTSTAMP:20260423T170511
CREATED:20240905T121346Z
LAST-MODIFIED:20251023T144445Z
UID:10018816-1774980000-1774983600@epworth.faith
SUMMARY:Alanon Meeting (Branford Room)
DESCRIPTION:
URL:https://epworth.faith/event/alanon-meeting-branford-room/2026-03-31/
LOCATION:Epworth United Methodist Church\, 19285 Holland Glade Road\, Rehoboth Beach\, DE\, 19971\, United States
CATEGORIES:Church,Groups
END:VEVENT
BEGIN:VEVENT
DTSTART;TZID=America/New_York:20260331T120000
DTEND;TZID=America/New_York:20260331T140000
DTSTAMP:20260423T170511
CREATED:20231101T154604Z
LAST-MODIFIED:20231101T154604Z
UID:10010577-1774958400-1774965600@epworth.faith
SUMMARY:Staff Meeting (Conference Room)
DESCRIPTION:
URL:https://epworth.faith/event/staff-meeting-conference-room/2026-03-31/
LOCATION:Epworth United Methodist Church\, 19285 Holland Glade Road\, Rehoboth Beach\, DE\, 19971\, United States
CATEGORIES:Church,Staff
ORGANIZER;CN="Vicki Gordy-Stith":MAILTO:vgordy-stith@epworth.faith
END:VEVENT
BEGIN:VEVENT
DTSTART;TZID=America/New_York:20260331T100000
DTEND;TZID=America/New_York:20260331T113000
DTSTAMP:20260423T170511
CREATED:20260317T143541Z
LAST-MODIFIED:20260317T143543Z
UID:10022158-1774951200-1774956600@epworth.faith
SUMMARY:Meditation with Spirituality & Age Group (Baker Lounge)
DESCRIPTION:
URL:https://epworth.faith/event/meditation-with-spirituality-age-group-baker-lounge-2/2026-03-31/
LOCATION:Epworth United Methodist Church\, 19285 Holland Glade Road\, Rehoboth Beach\, DE\, 19971\, United States
CATEGORIES:Church,Groups
ORGANIZER;CN="Susan Love":MAILTO:slove07@icloud.com
END:VEVENT
BEGIN:VEVENT
DTSTART;TZID=America/New_York:20260330T180000
DTEND;TZID=America/New_York:20260330T193000
DTSTAMP:20260423T170511
CREATED:20250925T182614Z
LAST-MODIFIED:20250929T160622Z
UID:10017763-1774893600-1774899000@epworth.faith
SUMMARY:Social Justice Meeting (Starnes Room)
DESCRIPTION:
URL:https://epworth.faith/event/social-justice-meeting-starnes-room/2026-03-30/
LOCATION:Epworth United Methodist Church\, 19285 Holland Glade Road\, Rehoboth Beach\, DE\, 19971\, United States
CATEGORIES:Church,Groups
END:VEVENT
BEGIN:VEVENT
DTSTART;TZID=America/New_York:20260330T180000
DTEND;TZID=America/New_York:20260330T190000
DTSTAMP:20260423T170511
CREATED:20240905T122138Z
LAST-MODIFIED:20251023T144119Z
UID:10018565-1774893600-1774897200@epworth.faith
SUMMARY:Alanon Meeting (Branford Room)
DESCRIPTION:
URL:https://epworth.faith/event/alanon-meeting-branford-room-2/2026-03-30/
LOCATION:Epworth United Methodist Church\, 19285 Holland Glade Road\, Rehoboth Beach\, DE\, 19971\, United States
CATEGORIES:Church,Groups
END:VEVENT
BEGIN:VEVENT
DTSTART;TZID=America/New_York:20260330T170000
DTEND;TZID=America/New_York:20260330T180000
DTSTAMP:20260423T170511
CREATED:20240905T122003Z
LAST-MODIFIED:20251023T143906Z
UID:10018314-1774890000-1774893600@epworth.faith
SUMMARY:Alanon Newcomers (Baker Room)
DESCRIPTION:
URL:https://epworth.faith/event/alanon-newcomers-baker-room/2026-03-30/
LOCATION:Epworth United Methodist Church\, 19285 Holland Glade Road\, Rehoboth Beach\, DE\, 19971\, United States
CATEGORIES:Church,Groups
END:VEVENT
BEGIN:VEVENT
DTSTART;TZID=America/New_York:20260329T180000
DTEND;TZID=America/New_York:20260329T190000
DTSTAMP:20260423T170511
CREATED:20260303T193553Z
LAST-MODIFIED:20260304T122905Z
UID:10022134-1774807200-1774810800@epworth.faith
SUMMARY:Passover for All - LRAC and Seaside Jewish Event (Fellowship Hall)
DESCRIPTION:A very special evening is planned for LRAC congregations on March 29. Larry Stollar\, of Seaside Jewish Community\, will lead those gathered through the Haggadah\, or the “narration” of the story of the Passover. This is a great opportunity to experience the wonder and history of the Passover celebration. Learn the importance and relevance to the Jewish faith through the ages. \nThis celebration will take place at Epworth beginning at 6:30 pm\, on Sunday\, March 29. \nFor further information\, contact David Garrett\, Chair of LRAC Interfaith Committee\, at dlgarrett4rb@gmail.com.
URL:https://epworth.faith/event/passover-for-all-lrac-and-seaside-jewish-event-fellowship-hall/
LOCATION:Epworth United Methodist Church\, 19285 Holland Glade Road\, Rehoboth Beach\, DE\, 19971\, United States
CATEGORIES:Church,Lent 2026,Neighborhood/Community Groups
ATTACH;FMTTYPE=image/jpeg:https://epworth.faith/wp-content/uploads/2026/03/The-Passover-Story.jpg
ORGANIZER;CN="David Garrett":MAILTO:dlgarrett4rb@gmail.com
END:VEVENT
BEGIN:VEVENT
DTSTART;TZID=America/New_York:20260329T111500
DTEND;TZID=America/New_York:20260329T114500
DTSTAMP:20260423T170511
CREATED:20251023T142658Z
LAST-MODIFIED:20251023T142658Z
UID:10018063-1774782900-1774784700@epworth.faith
SUMMARY:Stephen Ministry Prayer Chapel (Baker Room)
DESCRIPTION:
URL:https://epworth.faith/event/stephen-ministry-prayer-chapel-baker-room-2/2026-03-29/
LOCATION:Epworth United Methodist Church\, 19285 Holland Glade Road\, Rehoboth Beach\, DE\, 19971\, United States
CATEGORIES:Church,Groups
END:VEVENT
BEGIN:VEVENT
DTSTART;TZID=America/New_York:20260329T110000
DTEND;TZID=America/New_York:20260329T124500
DTSTAMP:20260423T170511
CREATED:20250303T202501Z
LAST-MODIFIED:20250303T202548Z
UID:10015612-1774782000-1774788300@epworth.faith
SUMMARY:Flower Ministry for Arrangements (Starnes Room)
DESCRIPTION:
URL:https://epworth.faith/event/flower-ministry-for-arrangements-starnes-room/2026-03-29/
LOCATION:Epworth United Methodist Church\, 19285 Holland Glade Road\, Rehoboth Beach\, DE\, 19971\, United States
CATEGORIES:Church,Groups
ORGANIZER;CN="Val Linder":MAILTO:rovalinder@comcast.net
END:VEVENT
BEGIN:VEVENT
DTSTART;TZID=America/New_York:20260329T095000
DTEND;TZID=America/New_York:20260329T110000
DTSTAMP:20260423T170511
CREATED:20260213T155758Z
LAST-MODIFIED:20260213T155758Z
UID:10021276-1774777800-1774782000@epworth.faith
SUMMARY:Palm Sunday
DESCRIPTION:Palm Sunday\, held the Sunday before Easter\, commemorates Jesus’s humble\, prophetic entry into Jerusalem on a donkey\, where crowds welcomed him by waving palm branches and shouting “Hosanna”. As the start of Holy Week\, it signifies both the celebration of his arrival and the beginning of his Passion. \nThe service begins at 9:40 a.m. \nYouTube Livestream\nYouTube ASL Livestream\nFacebook Livestream
URL:https://epworth.faith/event/palm-sunday/
LOCATION:DE
CATEGORIES:Lent 2026,Worship
ATTACH;FMTTYPE=image/png:https://epworth.faith/wp-content/uploads/2026/02/260329-Palm-Sunday-Learn-and-Grow.png
END:VEVENT
BEGIN:VEVENT
DTSTART;TZID=America/New_York:20260328T180000
DTEND;TZID=America/New_York:20260328T190000
DTSTAMP:20260423T170511
CREATED:20240905T123154Z
LAST-MODIFIED:20251023T152520Z
UID:10020573-1774720800-1774724400@epworth.faith
SUMMARY:AA Meeting (Branford Room)
DESCRIPTION:
URL:https://epworth.faith/event/aa-meeting-branford-room/2026-03-28/
LOCATION:Epworth United Methodist Church\, 19285 Holland Glade Road\, Rehoboth Beach\, DE\, 19971\, United States
CATEGORIES:Church,Groups
END:VEVENT
BEGIN:VEVENT
DTSTART;TZID=America/New_York:20260328T180000
DTEND;TZID=America/New_York:20260328T190000
DTSTAMP:20260423T170511
CREATED:20240905T122918Z
LAST-MODIFIED:20251023T150738Z
UID:10020322-1774720800-1774724400@epworth.faith
SUMMARY:Alanon Meeting (Baker Room)
DESCRIPTION:
URL:https://epworth.faith/event/alanon-meeting-baker-room-2/2026-03-28/
LOCATION:Epworth United Methodist Church\, 19285 Holland Glade Road\, Rehoboth Beach\, DE\, 19971\, United States
CATEGORIES:Church,Groups
END:VEVENT
BEGIN:VEVENT
DTSTART;TZID=America/New_York:20260328T150000
DTEND;TZID=America/New_York:20260328T170000
DTSTAMP:20260423T170511
CREATED:20260112T153522Z
LAST-MODIFIED:20260112T153523Z
UID:10020974-1774710000-1774717200@epworth.faith
SUMMARY:Sodelo Concert - Old World & New World (Sanctuary & Music Room)
DESCRIPTION:
URL:https://epworth.faith/event/sodelo-concert-old-world-new-world-sanctuary-music-room/
LOCATION:Epworth United Methodist Church\, 19285 Holland Glade Road\, Rehoboth Beach\, DE\, 19971\, United States
CATEGORIES:Church,Concerts,Facility Rentals
ORGANIZER;CN="Emily Swett":MAILTO:emily@sodelomusic.org
END:VEVENT
BEGIN:VEVENT
DTSTART;TZID=America/New_York:20260328T090000
DTEND;TZID=America/New_York:20260328T100000
DTSTAMP:20260423T170511
CREATED:20240905T122704Z
LAST-MODIFIED:20251023T150523Z
UID:10020071-1774688400-1774692000@epworth.faith
SUMMARY:ACA Meeting (Baker Room)
DESCRIPTION:
URL:https://epworth.faith/event/aca-meeting-baker-room/2026-03-28/
LOCATION:Epworth United Methodist Church\, 19285 Holland Glade Road\, Rehoboth Beach\, DE\, 19971\, United States
CATEGORIES:Church,Groups
END:VEVENT
BEGIN:VEVENT
DTSTART;TZID=America/New_York:20260326T193000
DTEND;TZID=America/New_York:20260326T203000
DTSTAMP:20260423T170511
CREATED:20240905T122521Z
LAST-MODIFIED:20251023T150301Z
UID:10019820-1774553400-1774557000@epworth.faith
SUMMARY:AA Meeting (Baker Room)
DESCRIPTION:
URL:https://epworth.faith/event/aa-meeting-baker-room/2026-03-26/
LOCATION:Epworth United Methodist Church\, 19285 Holland Glade Road\, Rehoboth Beach\, DE\, 19971\, United States
CATEGORIES:Church,Groups
END:VEVENT
BEGIN:VEVENT
DTSTART;TZID=America/New_York:20260326T190000
DTEND;TZID=America/New_York:20260326T203000
DTSTAMP:20260423T170511
CREATED:20260213T205028Z
LAST-MODIFIED:20260213T205124Z
UID:10021341-1774551600-1774557000@epworth.faith
SUMMARY:How to Know a Person
DESCRIPTION:How to Know a Person by David Brooks meets Thursdays at 7 pm in person at 18380 Alpine Loop\, Lewes\, for six weeks starting February 26\, \nClick on book for more information \nThis book nurtures your spiritual life by improving human connection\, seeing others deeply and be seen in return. Drawing from psychology\, neuroscience\, and other fields\, the book offers actionable advice on conversation\, attention\, and empathy to build stronger relationships\, moving beyond abstract ideas of “community” to concrete social skills like good listening\, asking the right questions\, and sharing vulnerability. It is for anyone seeking deeper connection and understanding in their\npersonal and professional lives. \nContact Todd Popham
URL:https://epworth.faith/event/how-to-know-a-person/2026-03-26/
LOCATION:18380 Alpine Loop\, Lewes\, 18380 Alpine Loop\, Lewes\, DE\, 19958\, United States
CATEGORIES:Groups
ATTACH;FMTTYPE=image/jpeg:https://epworth.faith/wp-content/uploads/2026/02/know-a-person.jpg
END:VEVENT
BEGIN:VEVENT
DTSTART;TZID=America/New_York:20260326T140000
DTEND;TZID=America/New_York:20260326T153000
DTSTAMP:20260423T170511
CREATED:20260212T194318Z
LAST-MODIFIED:20260226T222052Z
UID:10021357-1774533600-1774539000@epworth.faith
SUMMARY:Why Are We So Polarized? Group (Office Conference Room)
DESCRIPTION:Led by Pastor VIcki. \nJoin us for a six-week exploration of where our morals come from\, how our stories shape our values\, and how we can bridge the gap through open and honest relationships. We will use three books to help us examine our own values and understand the values of others: Learning to Disagree\, by John Inazu\, The Righteous Mind\, by Jonathan Haidt\, and I Never Thought of It That Way\, by Monica Guzman. We will offer a hybrid group\, meeting both in person and online via zoom\, on Thursdays. \nContact Pastor Vicki for more information or to sign up for the group.
URL:https://epworth.faith/event/why-are-we-so-polarized-group-office-conference-room-2-2-2/2026-03-26/
LOCATION:Epworth United Methodist Church\, 19285 Holland Glade Road\, Rehoboth Beach\, DE\, 19971\, United States
CATEGORIES:Church,Groups
ATTACH;FMTTYPE=image/jpeg:https://epworth.faith/wp-content/uploads/2026/02/Bookstudy.jpg
ORGANIZER;CN="Vicki Gordy-Stith":MAILTO:vgordy-stith@epworth.faith
END:VEVENT
BEGIN:VEVENT
DTSTART;TZID=America/New_York:20260326T130000
DTEND;TZID=America/New_York:20260326T143000
DTSTAMP:20260423T170511
CREATED:20260218T181808Z
LAST-MODIFIED:20260218T181808Z
UID:10021417-1774530000-1774535400@epworth.faith
SUMMARY:Social Justice Meeting (Starnes Room)
DESCRIPTION:
URL:https://epworth.faith/event/social-justice-meeting-starnes-room-2/2026-03-26/
LOCATION:Epworth United Methodist Church\, 19285 Holland Glade Road\, Rehoboth Beach\, DE\, 19971\, United States
CATEGORIES:Church,Groups
END:VEVENT
BEGIN:VEVENT
DTSTART;TZID=America/New_York:20260326T120000
DTEND;TZID=America/New_York:20260326T130000
DTSTAMP:20260423T170511
CREATED:20240905T122329Z
LAST-MODIFIED:20251023T150055Z
UID:10019569-1774526400-1774530000@epworth.faith
SUMMARY:Alanon Meeting (Branford Room)
DESCRIPTION:
URL:https://epworth.faith/event/alanon-meeting-branford-room-3/2026-03-26/
LOCATION:Epworth United Methodist Church\, 19285 Holland Glade Road\, Rehoboth Beach\, DE\, 19971\, United States
CATEGORIES:Church,Groups
END:VEVENT
BEGIN:VEVENT
DTSTART;TZID=America/New_York:20260326T110000
DTEND;TZID=America/New_York:20260326T120000
DTSTAMP:20260423T170511
CREATED:20250513T184931Z
LAST-MODIFIED:20260129T210925Z
UID:10021058-1774522800-1774526400@epworth.faith
SUMMARY:Grief Group (Baker Room)
DESCRIPTION:
URL:https://epworth.faith/event/grief-group-baker-room/2026-03-26/
LOCATION:Epworth United Methodist Church\, 19285 Holland Glade Road\, Rehoboth Beach\, DE\, 19971\, United States
ORGANIZER;CN="Vicki Gordy-Stith":MAILTO:vgordy-stith@epworth.faith
END:VEVENT
BEGIN:VEVENT
DTSTART;TZID=America/New_York:20260326T100000
DTEND;TZID=America/New_York:20260326T113000
DTSTAMP:20260423T170511
CREATED:20260213T210412Z
LAST-MODIFIED:20260213T210412Z
UID:10021347-1774519200-1774524600@epworth.faith
SUMMARY:The Spirituality of Age
DESCRIPTION:“These days we often hear the word spirituality. The spiritual search is a vital and continuous area of personal reflection for these authors. They encourage each of us to define the meaning of that word for ourselves. This book opens the door for all of us to explore our own growth\, insights\, inner peace\, and continued learning that is calling to us as we age”\n(Connie Goldman\, Author of Who Am I Now that I’m Not Who I Was?) \nContact Susan Love \nClick here for more information:\nhttps://epworth.faith/wp-content/uploads/2026/02/Susan-Love-Group.pdf \nThursdays from 10 to 11:30 for ten weeks\nBeginning February 26
URL:https://epworth.faith/event/the-spirituality-of-age/2026-03-26/
LOCATION:DE
CATEGORIES:Groups
END:VEVENT
BEGIN:VEVENT
DTSTART;TZID=America/New_York:20260326T100000
DTEND;TZID=America/New_York:20260326T113000
DTSTAMP:20260423T170511
CREATED:20260114T135227Z
LAST-MODIFIED:20260114T135227Z
UID:10021013-1774519200-1774524600@epworth.faith
SUMMARY:Voices of Hope Practice (Music Room)
DESCRIPTION:
URL:https://epworth.faith/event/voices-of-hope-practice-music-room/2026-03-26/
LOCATION:Epworth United Methodist Church\, 19285 Holland Glade Road\, Rehoboth Beach\, DE\, 19971\, United States
CATEGORIES:Church,Groups
ORGANIZER;CN="Doug Yetter":MAILTO:dyetter@epworth.faith
END:VEVENT
BEGIN:VEVENT
DTSTART;TZID=America/New_York:20260326T093000
DTEND;TZID=America/New_York:20260326T103000
DTSTAMP:20260423T170511
CREATED:20250521T185021Z
LAST-MODIFIED:20260205T141334Z
UID:10021162-1774517400-1774521000@epworth.faith
SUMMARY:Alzheimer/Dementia Support Group (Baker Room)
DESCRIPTION:
URL:https://epworth.faith/event/alzheimer-dementia-support-group-baker-room/2026-03-26/
LOCATION:Epworth United Methodist Church\, 19285 Holland Glade Road\, Rehoboth Beach\, DE\, 19971\, United States
CATEGORIES:Church,Groups
ORGANIZER;CN="Harry Martens":MAILTO:HMartensiii@gmail.com
END:VEVENT
BEGIN:VEVENT
DTSTART;TZID=America/New_York:20260326T080000
DTEND;TZID=America/New_York:20260326T153000
DTSTAMP:20260423T170511
CREATED:20260225T164403Z
LAST-MODIFIED:20260225T164403Z
UID:10021696-1774512000-1774539000@epworth.faith
SUMMARY:Ed Riggin's Celebration of Life (Sanctuary & Fellowship Hall)
DESCRIPTION:
URL:https://epworth.faith/event/ed-riggins-celebration-of-life-sanctuary-fellowship-hall/
LOCATION:Epworth United Methodist Church\, 19285 Holland Glade Road\, Rehoboth Beach\, DE\, 19971\, United States
CATEGORIES:Church,Funerals
ORGANIZER;CN="Mickie McManamon":MAILTO:mmcmanamon@epworth.faith
END:VEVENT
BEGIN:VEVENT
DTSTART;TZID=America/New_York:20260325T183000
DTEND;TZID=America/New_York:20260325T203000
DTSTAMP:20260423T170511
CREATED:20251023T154117Z
LAST-MODIFIED:20260214T112517Z
UID:10020815-1774463400-1774470600@epworth.faith
SUMMARY:Christianity and World Religions
DESCRIPTION:Click on the book for more information \nChristianity and World Religions: Questions We Ask About Other Faiths by Adam Hamilton \nWhy are there so many different religions? How should Christians view other religions? How is God at work in other religions? What is the fate of those who earnestly pursue God through other religions? In examining these major world religions and the beliefs of their followers\, Hamilton urges us as Christians to build bridges with others so that we might grow in our faith\, seek peace in our world\, love our neighbor\, and find positive ways to share the gospel. \nMeets Wednesdays at 7 pm in the Starnes Room starting March 4\, 2026 (no meeting April 8). \nContact Robin Duer or Mike Duer
URL:https://epworth.faith/event/duer-small-group-book-study-starnes-room-2/2026-03-25/
LOCATION:Epworth United Methodist Church\, 19285 Holland Glade Road\, Rehoboth Beach\, DE\, 19971\, United States
CATEGORIES:Church,Groups
ATTACH;FMTTYPE=image/jpeg:https://epworth.faith/wp-content/uploads/2025/10/religions.jpg
ORGANIZER;CN="Robin Duer":MAILTO:beachrobin12@aol.com
END:VEVENT
BEGIN:VEVENT
DTSTART;TZID=America/New_York:20260325T183000
DTEND;TZID=America/New_York:20260325T193000
DTSTAMP:20260423T170511
CREATED:20250528T124534Z
LAST-MODIFIED:20250911T132748Z
UID:10017436-1774463400-1774467000@epworth.faith
SUMMARY:Praise Team (Sanctuary)
DESCRIPTION:
URL:https://epworth.faith/event/praise-team-sanctuary/2026-03-25/
LOCATION:Epworth United Methodist Church\, 19285 Holland Glade Road\, Rehoboth Beach\, DE\, 19971\, United States
CATEGORIES:Church,Music
ORGANIZER;CN="Doug Yetter":MAILTO:dyetter@epworth.faith
END:VEVENT
BEGIN:VEVENT
DTSTART;TZID=America/New_York:20260325T173000
DTEND;TZID=America/New_York:20260325T183000
DTSTAMP:20260423T170511
CREATED:20250116T215058Z
LAST-MODIFIED:20250911T132405Z
UID:10017395-1774459800-1774463400@epworth.faith
SUMMARY:Chancel Choir Practice (Music Room)
DESCRIPTION:
URL:https://epworth.faith/event/chancel-choir-practice-music-room-2/2026-03-25/
LOCATION:Epworth United Methodist Church\, 19285 Holland Glade Road\, Rehoboth Beach\, DE\, 19971\, United States
CATEGORIES:Church,Groups
ORGANIZER;CN="Doug Yetter":MAILTO:dyetter@epworth.faith
END:VEVENT
END:VCALENDAR