BEGIN:VCALENDAR
VERSION:2.0
PRODID:-//Epworth UMC - ECPv6.15.20//NONSGML v1.0//EN
CALSCALE:GREGORIAN
METHOD:PUBLISH
X-WR-CALNAME:Epworth UMC
X-ORIGINAL-URL:https://epworth.faith
X-WR-CALDESC:Events for Epworth UMC
REFRESH-INTERVAL;VALUE=DURATION:PT1H
X-Robots-Tag:noindex
X-PUBLISHED-TTL:PT1H
BEGIN:VTIMEZONE
TZID:America/New_York
BEGIN:DAYLIGHT
TZOFFSETFROM:-0500
TZOFFSETTO:-0400
TZNAME:EDT
DTSTART:20250309T070000
END:DAYLIGHT
BEGIN:STANDARD
TZOFFSETFROM:-0400
TZOFFSETTO:-0500
TZNAME:EST
DTSTART:20251102T060000
END:STANDARD
BEGIN:DAYLIGHT
TZOFFSETFROM:-0500
TZOFFSETTO:-0400
TZNAME:EDT
DTSTART:20260308T070000
END:DAYLIGHT
BEGIN:STANDARD
TZOFFSETFROM:-0400
TZOFFSETTO:-0500
TZNAME:EST
DTSTART:20261101T060000
END:STANDARD
BEGIN:DAYLIGHT
TZOFFSETFROM:-0500
TZOFFSETTO:-0400
TZNAME:EDT
DTSTART:20270314T070000
END:DAYLIGHT
BEGIN:STANDARD
TZOFFSETFROM:-0400
TZOFFSETTO:-0500
TZNAME:EST
DTSTART:20271107T060000
END:STANDARD
END:VTIMEZONE
BEGIN:VEVENT
DTSTART;TZID=America/New_York:20260910T090000
DTEND;TZID=America/New_York:20260910T120000
DTSTAMP:20260424T045749
CREATED:20260303T142648Z
LAST-MODIFIED:20260303T142648Z
UID:10021765-1789030800-1789041600@epworth.faith
SUMMARY:Art Journaling Workshop (Branford Lounge)
DESCRIPTION:
URL:https://epworth.faith/event/art-journaling-workshop-branford-lounge-4/
LOCATION:Epworth United Methodist Church\, 19285 Holland Glade Road\, Rehoboth Beach\, DE\, 19971\, United States
CATEGORIES:Church,Groups
ORGANIZER;CN="Jay Campbell":MAILTO:jay.campbell@lib.de.us
END:VEVENT
BEGIN:VEVENT
DTSTART;TZID=America/New_York:20260910T093000
DTEND;TZID=America/New_York:20260910T103000
DTSTAMP:20260424T045749
CREATED:20250521T185021Z
LAST-MODIFIED:20260205T141334Z
UID:10021186-1789032600-1789036200@epworth.faith
SUMMARY:Alzheimer/Dementia Support Group (Baker Room)
DESCRIPTION:
URL:https://epworth.faith/event/alzheimer-dementia-support-group-baker-room/2026-09-10/
LOCATION:Epworth United Methodist Church\, 19285 Holland Glade Road\, Rehoboth Beach\, DE\, 19971\, United States
CATEGORIES:Church,Groups
ORGANIZER;CN="Harry Martens":MAILTO:HMartensiii@gmail.com
END:VEVENT
BEGIN:VEVENT
DTSTART;TZID=America/New_York:20260910T110000
DTEND;TZID=America/New_York:20260910T120000
DTSTAMP:20260424T045749
CREATED:20250513T184931Z
LAST-MODIFIED:20260129T210925Z
UID:10021082-1789038000-1789041600@epworth.faith
SUMMARY:Grief Group (Baker Room)
DESCRIPTION:
URL:https://epworth.faith/event/grief-group-baker-room/2026-09-10/
LOCATION:Epworth United Methodist Church\, 19285 Holland Glade Road\, Rehoboth Beach\, DE\, 19971\, United States
ORGANIZER;CN="Vicki Gordy-Stith":MAILTO:vgordy-stith@epworth.faith
END:VEVENT
BEGIN:VEVENT
DTSTART;TZID=America/New_York:20260910T120000
DTEND;TZID=America/New_York:20260910T130000
DTSTAMP:20260424T045749
CREATED:20240905T122329Z
LAST-MODIFIED:20251023T150055Z
UID:10019593-1789041600-1789045200@epworth.faith
SUMMARY:Alanon Meeting (Branford Room)
DESCRIPTION:
URL:https://epworth.faith/event/alanon-meeting-branford-room-3/2026-09-10/
LOCATION:Epworth United Methodist Church\, 19285 Holland Glade Road\, Rehoboth Beach\, DE\, 19971\, United States
CATEGORIES:Church,Groups
END:VEVENT
BEGIN:VEVENT
DTSTART;TZID=America/New_York:20260910T130000
DTEND;TZID=America/New_York:20260910T143000
DTSTAMP:20260424T045749
CREATED:20260218T181808Z
LAST-MODIFIED:20260218T181808Z
UID:10021441-1789045200-1789050600@epworth.faith
SUMMARY:Social Justice Meeting (Starnes Room)
DESCRIPTION:
URL:https://epworth.faith/event/social-justice-meeting-starnes-room-2/2026-09-10/
LOCATION:Epworth United Methodist Church\, 19285 Holland Glade Road\, Rehoboth Beach\, DE\, 19971\, United States
CATEGORIES:Church,Groups
END:VEVENT
BEGIN:VEVENT
DTSTART;TZID=America/New_York:20260910T193000
DTEND;TZID=America/New_York:20260910T203000
DTSTAMP:20260424T045749
CREATED:20240905T122521Z
LAST-MODIFIED:20251023T150301Z
UID:10019844-1789068600-1789072200@epworth.faith
SUMMARY:AA Meeting (Baker Room)
DESCRIPTION:
URL:https://epworth.faith/event/aa-meeting-baker-room/2026-09-10/
LOCATION:Epworth United Methodist Church\, 19285 Holland Glade Road\, Rehoboth Beach\, DE\, 19971\, United States
CATEGORIES:Church,Groups
END:VEVENT
BEGIN:VEVENT
DTSTART;TZID=America/New_York:20260911T090000
DTEND;TZID=America/New_York:20260911T113000
DTSTAMP:20260424T045749
CREATED:20260112T154642Z
LAST-MODIFIED:20260112T154819Z
UID:10020977-1789117200-1789126200@epworth.faith
SUMMARY:Rosh Hashanah Set-Up (Sanctuary)
DESCRIPTION:
URL:https://epworth.faith/event/rosh-hashanah-set-up-sanctuary-3/
LOCATION:Epworth United Methodist Church\, 19285 Holland Glade Road\, Rehoboth Beach\, DE\, 19971\, United States
CATEGORIES:Church,Facility Rentals,Neighborhood/Community Groups
ORGANIZER;CN="Barry Novich":MAILTO:barryfn@hotmail.com
END:VEVENT
BEGIN:VEVENT
DTSTART;TZID=America/New_York:20260911T193000
DTEND;TZID=America/New_York:20260911T213000
DTSTAMP:20260424T045749
CREATED:20260112T154438Z
LAST-MODIFIED:20260112T154852Z
UID:10020976-1789155000-1789162200@epworth.faith
SUMMARY:Rosh Hashanah Evening Service (Sanctuary)
DESCRIPTION:
URL:https://epworth.faith/event/rosh-hashanah-set-up-sanctuary-2/
LOCATION:Epworth United Methodist Church\, 19285 Holland Glade Road\, Rehoboth Beach\, DE\, 19971\, United States
CATEGORIES:Church,Facility Rentals,Neighborhood/Community Groups
ORGANIZER;CN="Barry Novich":MAILTO:barryfn@hotmail.com
END:VEVENT
BEGIN:VEVENT
DTSTART;TZID=America/New_York:20260912T090000
DTEND;TZID=America/New_York:20260912T100000
DTSTAMP:20260424T045749
CREATED:20240905T122704Z
LAST-MODIFIED:20251023T150523Z
UID:10020095-1789203600-1789207200@epworth.faith
SUMMARY:ACA Meeting (Baker Room)
DESCRIPTION:
URL:https://epworth.faith/event/aca-meeting-baker-room/2026-09-12/
LOCATION:Epworth United Methodist Church\, 19285 Holland Glade Road\, Rehoboth Beach\, DE\, 19971\, United States
CATEGORIES:Church,Groups
END:VEVENT
BEGIN:VEVENT
DTSTART;TZID=America/New_York:20260912T090000
DTEND;TZID=America/New_York:20260912T120000
DTSTAMP:20260424T045749
CREATED:20260112T155141Z
LAST-MODIFIED:20260112T155141Z
UID:10020979-1789203600-1789214400@epworth.faith
SUMMARY:Rosh Hashanah Youth Service (Branford Room)
DESCRIPTION:
URL:https://epworth.faith/event/rosh-hashanah-youth-service-branford-room-3/
LOCATION:Epworth United Methodist Church\, 19285 Holland Glade Road\, Rehoboth Beach\, DE\, 19971\, United States
CATEGORIES:Church,Facility Rentals,Neighborhood/Community Groups
ORGANIZER;CN="Barry Novich":MAILTO:barryfn@hotmail.com
END:VEVENT
BEGIN:VEVENT
DTSTART;TZID=America/New_York:20260912T090000
DTEND;TZID=America/New_York:20260912T120000
DTSTAMP:20260424T045749
CREATED:20260112T155241Z
LAST-MODIFIED:20260112T155241Z
UID:10020980-1789203600-1789214400@epworth.faith
SUMMARY:Rosh Hashanah Youth Activities (Youth Room)
DESCRIPTION:
URL:https://epworth.faith/event/rosh-hashanah-youth-activities-youth-room-3/
LOCATION:Epworth United Methodist Church\, 19285 Holland Glade Road\, Rehoboth Beach\, DE\, 19971\, United States
CATEGORIES:Church,Facility Rentals,Neighborhood/Community Groups
ORGANIZER;CN="Barry Novich":MAILTO:barryfn@hotmail.com
END:VEVENT
BEGIN:VEVENT
DTSTART;TZID=America/New_York:20260912T100000
DTEND;TZID=America/New_York:20260912T130000
DTSTAMP:20260424T045749
CREATED:20260112T155028Z
LAST-MODIFIED:20260112T155028Z
UID:10020978-1789207200-1789218000@epworth.faith
SUMMARY:Rosh Hashanah Morning Service (Sanctuary)
DESCRIPTION:
URL:https://epworth.faith/event/rosh-hashanah-morning-service-sanctuary-3/
LOCATION:Epworth United Methodist Church\, 19285 Holland Glade Road\, Rehoboth Beach\, DE\, 19971\, United States
CATEGORIES:Church,Facility Rentals,Neighborhood/Community Groups
ORGANIZER;CN="Barry Novich":MAILTO:barryfn@hotmail.com
END:VEVENT
BEGIN:VEVENT
DTSTART;TZID=America/New_York:20260912T180000
DTEND;TZID=America/New_York:20260912T190000
DTSTAMP:20260424T045749
CREATED:20240905T122918Z
LAST-MODIFIED:20251023T150738Z
UID:10020346-1789236000-1789239600@epworth.faith
SUMMARY:Alanon Meeting (Baker Room)
DESCRIPTION:
URL:https://epworth.faith/event/alanon-meeting-baker-room-2/2026-09-12/
LOCATION:Epworth United Methodist Church\, 19285 Holland Glade Road\, Rehoboth Beach\, DE\, 19971\, United States
CATEGORIES:Church,Groups
END:VEVENT
BEGIN:VEVENT
DTSTART;TZID=America/New_York:20260912T180000
DTEND;TZID=America/New_York:20260912T190000
DTSTAMP:20260424T045749
CREATED:20240905T123154Z
LAST-MODIFIED:20251023T152520Z
UID:10020597-1789236000-1789239600@epworth.faith
SUMMARY:AA Meeting (Branford Room)
DESCRIPTION:
URL:https://epworth.faith/event/aa-meeting-branford-room/2026-09-12/
LOCATION:Epworth United Methodist Church\, 19285 Holland Glade Road\, Rehoboth Beach\, DE\, 19971\, United States
CATEGORIES:Church,Groups
END:VEVENT
BEGIN:VEVENT
DTSTART;TZID=America/New_York:20260913T100000
DTEND;TZID=America/New_York:20260913T110000
DTSTAMP:20260424T045749
CREATED:20230909T152658Z
LAST-MODIFIED:20230909T161232Z
UID:10009167-1789293600-1789297200@epworth.faith
SUMMARY:Blended ASL Worship Service (Sanctuary & Online)
DESCRIPTION:YouTube Livestream\nYouTube ASL Livestream\nFacebook Livestream
URL:https://epworth.faith/event/blended-worship-service-sanctuary-on-line-2/2026-09-13/
LOCATION:Epworth United Methodist Church\, 19285 Holland Glade Road\, Rehoboth Beach\, DE\, 19971\, United States
CATEGORIES:Worship
ORGANIZER;CN="Vicki Gordy-Stith":MAILTO:vgordy-stith@epworth.faith
END:VEVENT
BEGIN:VEVENT
DTSTART;TZID=America/New_York:20260913T110000
DTEND;TZID=America/New_York:20260913T124500
DTSTAMP:20260424T045749
CREATED:20250303T202501Z
LAST-MODIFIED:20250303T202548Z
UID:10015636-1789297200-1789303500@epworth.faith
SUMMARY:Flower Ministry for Arrangements (Starnes Room)
DESCRIPTION:
URL:https://epworth.faith/event/flower-ministry-for-arrangements-starnes-room/2026-09-13/
LOCATION:Epworth United Methodist Church\, 19285 Holland Glade Road\, Rehoboth Beach\, DE\, 19971\, United States
CATEGORIES:Church,Groups
ORGANIZER;CN="Val Linder":MAILTO:rovalinder@comcast.net
END:VEVENT
BEGIN:VEVENT
DTSTART;TZID=America/New_York:20260913T111500
DTEND;TZID=America/New_York:20260913T114500
DTSTAMP:20260424T045749
CREATED:20251023T142658Z
LAST-MODIFIED:20251023T142658Z
UID:10018087-1789298100-1789299900@epworth.faith
SUMMARY:Stephen Ministry Prayer Chapel (Baker Room)
DESCRIPTION:
URL:https://epworth.faith/event/stephen-ministry-prayer-chapel-baker-room-2/2026-09-13/
LOCATION:Epworth United Methodist Church\, 19285 Holland Glade Road\, Rehoboth Beach\, DE\, 19971\, United States
CATEGORIES:Church,Groups
END:VEVENT
BEGIN:VEVENT
DTSTART;TZID=America/New_York:20260913T150000
DTEND;TZID=America/New_York:20260913T170000
DTSTAMP:20260424T045749
CREATED:20260323T173850Z
LAST-MODIFIED:20260323T173852Z
UID:10022166-1789311600-1789318800@epworth.faith
SUMMARY:Gay Women of Rehoboth Concert (Sanctuary & Music Room)
DESCRIPTION:
URL:https://epworth.faith/event/gay-women-of-rehoboth-concert-sanctuary-music-room-2/
LOCATION:Epworth United Methodist Church\, 19285 Holland Glade Road\, Rehoboth Beach\, DE\, 19971\, United States
CATEGORIES:Church,Concerts,Facility Rentals
ORGANIZER;CN="Lisa Soens":MAILTO:lsoens@earthlink.net
END:VEVENT
BEGIN:VEVENT
DTSTART;TZID=America/New_York:20260914T130000
DTEND;TZID=America/New_York:20260914T150000
DTSTAMP:20260424T045749
CREATED:20250514T210154Z
LAST-MODIFIED:20251014T145413Z
UID:10016497-1789390800-1789398000@epworth.faith
SUMMARY:WINGS Meeting (Baker Lounge)
DESCRIPTION:
URL:https://epworth.faith/event/wings-meeting-baker-room-3/2026-09-14/
LOCATION:Epworth United Methodist Church\, 19285 Holland Glade Road\, Rehoboth Beach\, DE\, 19971\, United States
CATEGORIES:Church,Groups
ORGANIZER;CN="Nancy Almacy":MAILTO:nalmacy@gmail.com
END:VEVENT
BEGIN:VEVENT
DTSTART;TZID=America/New_York:20260914T170000
DTEND;TZID=America/New_York:20260914T180000
DTSTAMP:20260424T045749
CREATED:20240905T122003Z
LAST-MODIFIED:20251023T143906Z
UID:10018338-1789405200-1789408800@epworth.faith
SUMMARY:Alanon Newcomers (Baker Room)
DESCRIPTION:
URL:https://epworth.faith/event/alanon-newcomers-baker-room/2026-09-14/
LOCATION:Epworth United Methodist Church\, 19285 Holland Glade Road\, Rehoboth Beach\, DE\, 19971\, United States
CATEGORIES:Church,Groups
END:VEVENT
BEGIN:VEVENT
DTSTART;TZID=America/New_York:20260914T173000
DTEND;TZID=America/New_York:20260914T190000
DTSTAMP:20260424T045749
CREATED:20260112T185621Z
LAST-MODIFIED:20260112T185621Z
UID:10020992-1789407000-1789412400@epworth.faith
SUMMARY:KIVA Group Meeting (Youth Room)
DESCRIPTION:
URL:https://epworth.faith/event/kiva-group-meeting-youth-room-5/
LOCATION:Epworth United Methodist Church\, 19285 Holland Glade Road\, Rehoboth Beach\, DE\, 19971\, United States
CATEGORIES:Church,Groups
ORGANIZER;CN="Jackie Shockley":MAILTO:jacshock@aol.com
END:VEVENT
BEGIN:VEVENT
DTSTART;TZID=America/New_York:20260914T180000
DTEND;TZID=America/New_York:20260914T190000
DTSTAMP:20260424T045749
CREATED:20240905T122138Z
LAST-MODIFIED:20251023T144119Z
UID:10018589-1789408800-1789412400@epworth.faith
SUMMARY:Alanon Meeting (Branford Room)
DESCRIPTION:
URL:https://epworth.faith/event/alanon-meeting-branford-room-2/2026-09-14/
LOCATION:Epworth United Methodist Church\, 19285 Holland Glade Road\, Rehoboth Beach\, DE\, 19971\, United States
CATEGORIES:Church,Groups
END:VEVENT
BEGIN:VEVENT
DTSTART;TZID=America/New_York:20260914T180000
DTEND;TZID=America/New_York:20260914T193000
DTSTAMP:20260424T045749
CREATED:20250925T182614Z
LAST-MODIFIED:20250929T160622Z
UID:10017787-1789408800-1789414200@epworth.faith
SUMMARY:Social Justice Meeting (Starnes Room)
DESCRIPTION:
URL:https://epworth.faith/event/social-justice-meeting-starnes-room/2026-09-14/
LOCATION:Epworth United Methodist Church\, 19285 Holland Glade Road\, Rehoboth Beach\, DE\, 19971\, United States
CATEGORIES:Church,Groups
END:VEVENT
BEGIN:VEVENT
DTSTART;TZID=America/New_York:20260914T183000
DTEND;TZID=America/New_York:20260914T203000
DTSTAMP:20260424T045749
CREATED:20260203T212019Z
LAST-MODIFIED:20260203T212019Z
UID:10021105-1789410600-1789417800@epworth.faith
SUMMARY:Camp Rehoboth Chorus Concert Rehearsal (Sanctuary & Music Room)
DESCRIPTION:
URL:https://epworth.faith/event/camp-rehoboth-chorus-concert-rehearsal-sanctuary-music-room-2/
LOCATION:Epworth United Methodist Church\, 19285 Holland Glade Road\, Rehoboth Beach\, DE\, 19971\, United States
CATEGORIES:Church,Concerts,Facility Rentals
ORGANIZER;CN="David Scuccimarra":MAILTO:Scuch@aol.com
END:VEVENT
BEGIN:VEVENT
DTSTART;TZID=America/New_York:20260915T070000
DTEND;TZID=America/New_York:20260915T200000
DTSTAMP:20260424T045749
CREATED:20260331T201028Z
LAST-MODIFIED:20260331T201030Z
UID:10022176-1789455600-1789502400@epworth.faith
SUMMARY:State Primary Elections (Fellowship Hall)
DESCRIPTION:
URL:https://epworth.faith/event/state-primary-elections-fellowship-hall/
LOCATION:Epworth United Methodist Church\, 19285 Holland Glade Road\, Rehoboth Beach\, DE\, 19971\, United States
CATEGORIES:Church,Facility Rentals,Neighborhood/Community Groups
END:VEVENT
BEGIN:VEVENT
DTSTART;TZID=America/New_York:20260915T120000
DTEND;TZID=America/New_York:20260915T140000
DTSTAMP:20260424T045749
CREATED:20231101T154604Z
LAST-MODIFIED:20231101T154604Z
UID:10010601-1789473600-1789480800@epworth.faith
SUMMARY:Staff Meeting (Conference Room)
DESCRIPTION:
URL:https://epworth.faith/event/staff-meeting-conference-room/2026-09-15/
LOCATION:Epworth United Methodist Church\, 19285 Holland Glade Road\, Rehoboth Beach\, DE\, 19971\, United States
CATEGORIES:Church,Staff
ORGANIZER;CN="Vicki Gordy-Stith":MAILTO:vgordy-stith@epworth.faith
END:VEVENT
BEGIN:VEVENT
DTSTART;TZID=America/New_York:20260915T160000
DTEND;TZID=America/New_York:20260915T180000
DTSTAMP:20260424T045749
CREATED:20250709T125307Z
LAST-MODIFIED:20250709T125307Z
UID:10016931-1789488000-1789495200@epworth.faith
SUMMARY:Finance Committee Meeting (Zoom)
DESCRIPTION:
URL:https://epworth.faith/event/finance-committee-meeting-zoom/2026-09-15/
LOCATION:Epworth United Methodist Church\, 19285 Holland Glade Road\, Rehoboth Beach\, DE\, 19971\, United States
CATEGORIES:Church,Groups
END:VEVENT
BEGIN:VEVENT
DTSTART;TZID=America/New_York:20260915T180000
DTEND;TZID=America/New_York:20260915T190000
DTSTAMP:20260424T045749
CREATED:20240905T121346Z
LAST-MODIFIED:20251023T144445Z
UID:10018840-1789495200-1789498800@epworth.faith
SUMMARY:Alanon Meeting (Branford Room)
DESCRIPTION:
URL:https://epworth.faith/event/alanon-meeting-branford-room/2026-09-15/
LOCATION:Epworth United Methodist Church\, 19285 Holland Glade Road\, Rehoboth Beach\, DE\, 19971\, United States
CATEGORIES:Church,Groups
END:VEVENT
BEGIN:VEVENT
DTSTART;TZID=America/New_York:20260915T184500
DTEND;TZID=America/New_York:20260915T200000
DTSTAMP:20260424T045749
CREATED:20250821T173501Z
LAST-MODIFIED:20250821T173501Z
UID:10017193-1789497900-1789502400@epworth.faith
SUMMARY:Faith Friends & Issues Group (Zoom)
DESCRIPTION:
URL:https://epworth.faith/event/faith-friends-issues-group-zoom-2/2026-09-15/
LOCATION:Epworth United Methodist Church\, 19285 Holland Glade Road\, Rehoboth Beach\, DE\, 19971\, United States
CATEGORIES:Church,Groups
ORGANIZER;CN="Sandy Paulen":MAILTO:sandypaulen@gmail.com
END:VEVENT
BEGIN:VEVENT
DTSTART;TZID=America/New_York:20260915T190000
DTEND;TZID=America/New_York:20260915T200000
DTSTAMP:20260424T045749
CREATED:20240905T121615Z
LAST-MODIFIED:20251023T144756Z
UID:10019091-1789498800-1789502400@epworth.faith
SUMMARY:Alanon Meeting (Baker Room)
DESCRIPTION:
URL:https://epworth.faith/event/alanon-meeting-baker-room/2026-09-15/
LOCATION:Epworth United Methodist Church\, 19285 Holland Glade Road\, Rehoboth Beach\, DE\, 19971\, United States
CATEGORIES:Church,Groups
END:VEVENT
END:VCALENDAR