BEGIN:VCALENDAR
VERSION:2.0
PRODID:-//Epworth UMC - ECPv6.15.20//NONSGML v1.0//EN
CALSCALE:GREGORIAN
METHOD:PUBLISH
X-ORIGINAL-URL:https://epworth.faith
X-WR-CALDESC:Events for Epworth UMC
REFRESH-INTERVAL;VALUE=DURATION:PT1H
X-Robots-Tag:noindex
X-PUBLISHED-TTL:PT1H
BEGIN:VTIMEZONE
TZID:America/New_York
BEGIN:DAYLIGHT
TZOFFSETFROM:-0500
TZOFFSETTO:-0400
TZNAME:EDT
DTSTART:20250309T070000
END:DAYLIGHT
BEGIN:STANDARD
TZOFFSETFROM:-0400
TZOFFSETTO:-0500
TZNAME:EST
DTSTART:20251102T060000
END:STANDARD
BEGIN:DAYLIGHT
TZOFFSETFROM:-0500
TZOFFSETTO:-0400
TZNAME:EDT
DTSTART:20260308T070000
END:DAYLIGHT
BEGIN:STANDARD
TZOFFSETFROM:-0400
TZOFFSETTO:-0500
TZNAME:EST
DTSTART:20261101T060000
END:STANDARD
BEGIN:DAYLIGHT
TZOFFSETFROM:-0500
TZOFFSETTO:-0400
TZNAME:EDT
DTSTART:20270314T070000
END:DAYLIGHT
BEGIN:STANDARD
TZOFFSETFROM:-0400
TZOFFSETTO:-0500
TZNAME:EST
DTSTART:20271107T060000
END:STANDARD
END:VTIMEZONE
BEGIN:VEVENT
DTSTART;TZID=America/New_York:20261006T190000
DTEND;TZID=America/New_York:20261006T200000
DTSTAMP:20260425T100400
CREATED:20240905T121808Z
LAST-MODIFIED:20251023T145128Z
UID:10019345-1791313200-1791316800@epworth.faith
SUMMARY:AA Meeting (Music Room)
DESCRIPTION:
URL:https://epworth.faith/event/aa-meeting-music-room/2026-10-06/
LOCATION:Epworth United Methodist Church\, 19285 Holland Glade Road\, Rehoboth Beach\, DE\, 19971\, United States
CATEGORIES:Church,Groups
END:VEVENT
BEGIN:VEVENT
DTSTART;TZID=America/New_York:20261007T183000
DTEND;TZID=America/New_York:20261007T210000
DTSTAMP:20260425T100400
CREATED:20240321T141039Z
LAST-MODIFIED:20240321T141039Z
UID:10012482-1791397800-1791406800@epworth.faith
SUMMARY:ManKind Project (MKP) (Baker Lounge)
DESCRIPTION:
URL:https://epworth.faith/event/mankind-project-mkp-baker-lounge-3/2026-10-07/
LOCATION:Epworth United Methodist Church\, 19285 Holland Glade Road\, Rehoboth Beach\, DE\, 19971\, United States
CATEGORIES:Church,Groups
ORGANIZER;CN="Rick Buske":MAILTO:rick.buske@gmail.com
END:VEVENT
BEGIN:VEVENT
DTSTART;TZID=America/New_York:20261008T093000
DTEND;TZID=America/New_York:20261008T103000
DTSTAMP:20260425T100400
CREATED:20250521T185021Z
LAST-MODIFIED:20260205T141334Z
UID:10021190-1791451800-1791455400@epworth.faith
SUMMARY:Alzheimer/Dementia Support Group (Baker Room)
DESCRIPTION:
URL:https://epworth.faith/event/alzheimer-dementia-support-group-baker-room/2026-10-08/
LOCATION:Epworth United Methodist Church\, 19285 Holland Glade Road\, Rehoboth Beach\, DE\, 19971\, United States
CATEGORIES:Church,Groups
ORGANIZER;CN="Harry Martens":MAILTO:HMartensiii@gmail.com
END:VEVENT
BEGIN:VEVENT
DTSTART;TZID=America/New_York:20261008T110000
DTEND;TZID=America/New_York:20261008T120000
DTSTAMP:20260425T100400
CREATED:20250513T184931Z
LAST-MODIFIED:20260129T210925Z
UID:10021086-1791457200-1791460800@epworth.faith
SUMMARY:Grief Group (Baker Room)
DESCRIPTION:
URL:https://epworth.faith/event/grief-group-baker-room/2026-10-08/
LOCATION:Epworth United Methodist Church\, 19285 Holland Glade Road\, Rehoboth Beach\, DE\, 19971\, United States
ORGANIZER;CN="Vicki Gordy-Stith":MAILTO:vgordy-stith@epworth.faith
END:VEVENT
BEGIN:VEVENT
DTSTART;TZID=America/New_York:20261008T120000
DTEND;TZID=America/New_York:20261008T130000
DTSTAMP:20260425T100400
CREATED:20240905T122329Z
LAST-MODIFIED:20251023T150055Z
UID:10019597-1791460800-1791464400@epworth.faith
SUMMARY:Alanon Meeting (Branford Room)
DESCRIPTION:
URL:https://epworth.faith/event/alanon-meeting-branford-room-3/2026-10-08/
LOCATION:Epworth United Methodist Church\, 19285 Holland Glade Road\, Rehoboth Beach\, DE\, 19971\, United States
CATEGORIES:Church,Groups
END:VEVENT
BEGIN:VEVENT
DTSTART;TZID=America/New_York:20261008T130000
DTEND;TZID=America/New_York:20261008T143000
DTSTAMP:20260425T100400
CREATED:20260218T181808Z
LAST-MODIFIED:20260218T181808Z
UID:10021445-1791464400-1791469800@epworth.faith
SUMMARY:Social Justice Meeting (Starnes Room)
DESCRIPTION:
URL:https://epworth.faith/event/social-justice-meeting-starnes-room-2/2026-10-08/
LOCATION:Epworth United Methodist Church\, 19285 Holland Glade Road\, Rehoboth Beach\, DE\, 19971\, United States
CATEGORIES:Church,Groups
END:VEVENT
BEGIN:VEVENT
DTSTART;TZID=America/New_York:20261008T193000
DTEND;TZID=America/New_York:20261008T203000
DTSTAMP:20260425T100400
CREATED:20240905T122521Z
LAST-MODIFIED:20251023T150301Z
UID:10019848-1791487800-1791491400@epworth.faith
SUMMARY:AA Meeting (Baker Room)
DESCRIPTION:
URL:https://epworth.faith/event/aa-meeting-baker-room/2026-10-08/
LOCATION:Epworth United Methodist Church\, 19285 Holland Glade Road\, Rehoboth Beach\, DE\, 19971\, United States
CATEGORIES:Church,Groups
END:VEVENT
BEGIN:VEVENT
DTSTART;TZID=America/New_York:20261010T090000
DTEND;TZID=America/New_York:20261010T100000
DTSTAMP:20260425T100400
CREATED:20240905T122704Z
LAST-MODIFIED:20251023T150523Z
UID:10020099-1791622800-1791626400@epworth.faith
SUMMARY:ACA Meeting (Baker Room)
DESCRIPTION:
URL:https://epworth.faith/event/aca-meeting-baker-room/2026-10-10/
LOCATION:Epworth United Methodist Church\, 19285 Holland Glade Road\, Rehoboth Beach\, DE\, 19971\, United States
CATEGORIES:Church,Groups
END:VEVENT
BEGIN:VEVENT
DTSTART;TZID=America/New_York:20261010T150000
DTEND;TZID=America/New_York:20261010T170000
DTSTAMP:20260425T100400
CREATED:20260115T145301Z
LAST-MODIFIED:20260115T145302Z
UID:10021017-1791644400-1791651600@epworth.faith
SUMMARY:Mid-Atlantic Symphony Orchestra (Sanctuary\, Music Room & Branford)
DESCRIPTION:
URL:https://epworth.faith/event/mid-atlantic-symphony-orchestra-sanctuary-music-room-branford/
LOCATION:Epworth United Methodist Church\, 19285 Holland Glade Road\, Rehoboth Beach\, DE\, 19971\, United States
CATEGORIES:Church,Concerts,Facility Rentals
ORGANIZER;CN="Dane Krich":MAILTO:dane@midatlanticsymphony.org
END:VEVENT
BEGIN:VEVENT
DTSTART;TZID=America/New_York:20261010T180000
DTEND;TZID=America/New_York:20261010T190000
DTSTAMP:20260425T100400
CREATED:20240905T122918Z
LAST-MODIFIED:20251023T150738Z
UID:10020350-1791655200-1791658800@epworth.faith
SUMMARY:Alanon Meeting (Baker Room)
DESCRIPTION:
URL:https://epworth.faith/event/alanon-meeting-baker-room-2/2026-10-10/
LOCATION:Epworth United Methodist Church\, 19285 Holland Glade Road\, Rehoboth Beach\, DE\, 19971\, United States
CATEGORIES:Church,Groups
END:VEVENT
BEGIN:VEVENT
DTSTART;TZID=America/New_York:20261010T180000
DTEND;TZID=America/New_York:20261010T190000
DTSTAMP:20260425T100400
CREATED:20240905T123154Z
LAST-MODIFIED:20251023T152520Z
UID:10020601-1791655200-1791658800@epworth.faith
SUMMARY:AA Meeting (Branford Room)
DESCRIPTION:
URL:https://epworth.faith/event/aa-meeting-branford-room/2026-10-10/
LOCATION:Epworth United Methodist Church\, 19285 Holland Glade Road\, Rehoboth Beach\, DE\, 19971\, United States
CATEGORIES:Church,Groups
END:VEVENT
BEGIN:VEVENT
DTSTART;TZID=America/New_York:20261011T100000
DTEND;TZID=America/New_York:20261011T110000
DTSTAMP:20260425T100400
CREATED:20230909T152658Z
LAST-MODIFIED:20230909T161232Z
UID:10009171-1791712800-1791716400@epworth.faith
SUMMARY:Blended ASL Worship Service (Sanctuary & Online)
DESCRIPTION:YouTube Livestream\nYouTube ASL Livestream\nFacebook Livestream
URL:https://epworth.faith/event/blended-worship-service-sanctuary-on-line-2/2026-10-11/
LOCATION:Epworth United Methodist Church\, 19285 Holland Glade Road\, Rehoboth Beach\, DE\, 19971\, United States
CATEGORIES:Worship
ORGANIZER;CN="Vicki Gordy-Stith":MAILTO:vgordy-stith@epworth.faith
END:VEVENT
BEGIN:VEVENT
DTSTART;TZID=America/New_York:20261011T110000
DTEND;TZID=America/New_York:20261011T124500
DTSTAMP:20260425T100400
CREATED:20250303T202501Z
LAST-MODIFIED:20250303T202548Z
UID:10015640-1791716400-1791722700@epworth.faith
SUMMARY:Flower Ministry for Arrangements (Starnes Room)
DESCRIPTION:
URL:https://epworth.faith/event/flower-ministry-for-arrangements-starnes-room/2026-10-11/
LOCATION:Epworth United Methodist Church\, 19285 Holland Glade Road\, Rehoboth Beach\, DE\, 19971\, United States
CATEGORIES:Church,Groups
ORGANIZER;CN="Val Linder":MAILTO:rovalinder@comcast.net
END:VEVENT
BEGIN:VEVENT
DTSTART;TZID=America/New_York:20261011T111500
DTEND;TZID=America/New_York:20261011T114500
DTSTAMP:20260425T100400
CREATED:20251023T142658Z
LAST-MODIFIED:20251023T142658Z
UID:10018091-1791717300-1791719100@epworth.faith
SUMMARY:Stephen Ministry Prayer Chapel (Baker Room)
DESCRIPTION:
URL:https://epworth.faith/event/stephen-ministry-prayer-chapel-baker-room-2/2026-10-11/
LOCATION:Epworth United Methodist Church\, 19285 Holland Glade Road\, Rehoboth Beach\, DE\, 19971\, United States
CATEGORIES:Church,Groups
END:VEVENT
BEGIN:VEVENT
DTSTART;TZID=America/New_York:20261012T130000
DTEND;TZID=America/New_York:20261012T150000
DTSTAMP:20260425T100400
CREATED:20250514T210154Z
LAST-MODIFIED:20251014T145413Z
UID:10016498-1791810000-1791817200@epworth.faith
SUMMARY:WINGS Meeting (Baker Lounge)
DESCRIPTION:
URL:https://epworth.faith/event/wings-meeting-baker-room-3/2026-10-12/
LOCATION:Epworth United Methodist Church\, 19285 Holland Glade Road\, Rehoboth Beach\, DE\, 19971\, United States
CATEGORIES:Church,Groups
ORGANIZER;CN="Nancy Almacy":MAILTO:nalmacy@gmail.com
END:VEVENT
BEGIN:VEVENT
DTSTART;TZID=America/New_York:20261012T170000
DTEND;TZID=America/New_York:20261012T180000
DTSTAMP:20260425T100400
CREATED:20240905T122003Z
LAST-MODIFIED:20251023T143906Z
UID:10018342-1791824400-1791828000@epworth.faith
SUMMARY:Alanon Newcomers (Baker Room)
DESCRIPTION:
URL:https://epworth.faith/event/alanon-newcomers-baker-room/2026-10-12/
LOCATION:Epworth United Methodist Church\, 19285 Holland Glade Road\, Rehoboth Beach\, DE\, 19971\, United States
CATEGORIES:Church,Groups
END:VEVENT
BEGIN:VEVENT
DTSTART;TZID=America/New_York:20261012T180000
DTEND;TZID=America/New_York:20261012T190000
DTSTAMP:20260425T100400
CREATED:20240905T122138Z
LAST-MODIFIED:20251023T144119Z
UID:10018593-1791828000-1791831600@epworth.faith
SUMMARY:Alanon Meeting (Branford Room)
DESCRIPTION:
URL:https://epworth.faith/event/alanon-meeting-branford-room-2/2026-10-12/
LOCATION:Epworth United Methodist Church\, 19285 Holland Glade Road\, Rehoboth Beach\, DE\, 19971\, United States
CATEGORIES:Church,Groups
END:VEVENT
BEGIN:VEVENT
DTSTART;TZID=America/New_York:20261012T180000
DTEND;TZID=America/New_York:20261012T193000
DTSTAMP:20260425T100400
CREATED:20250925T182614Z
LAST-MODIFIED:20250929T160622Z
UID:10017791-1791828000-1791833400@epworth.faith
SUMMARY:Social Justice Meeting (Starnes Room)
DESCRIPTION:
URL:https://epworth.faith/event/social-justice-meeting-starnes-room/2026-10-12/
LOCATION:Epworth United Methodist Church\, 19285 Holland Glade Road\, Rehoboth Beach\, DE\, 19971\, United States
CATEGORIES:Church,Groups
END:VEVENT
BEGIN:VEVENT
DTSTART;TZID=America/New_York:20261013T120000
DTEND;TZID=America/New_York:20261013T140000
DTSTAMP:20260425T100400
CREATED:20231101T154604Z
LAST-MODIFIED:20231101T154604Z
UID:10010605-1791892800-1791900000@epworth.faith
SUMMARY:Staff Meeting (Conference Room)
DESCRIPTION:
URL:https://epworth.faith/event/staff-meeting-conference-room/2026-10-13/
LOCATION:Epworth United Methodist Church\, 19285 Holland Glade Road\, Rehoboth Beach\, DE\, 19971\, United States
CATEGORIES:Church,Staff
ORGANIZER;CN="Vicki Gordy-Stith":MAILTO:vgordy-stith@epworth.faith
END:VEVENT
BEGIN:VEVENT
DTSTART;TZID=America/New_York:20261013T180000
DTEND;TZID=America/New_York:20261013T190000
DTSTAMP:20260425T100400
CREATED:20240905T121346Z
LAST-MODIFIED:20251023T144445Z
UID:10018844-1791914400-1791918000@epworth.faith
SUMMARY:Alanon Meeting (Branford Room)
DESCRIPTION:
URL:https://epworth.faith/event/alanon-meeting-branford-room/2026-10-13/
LOCATION:Epworth United Methodist Church\, 19285 Holland Glade Road\, Rehoboth Beach\, DE\, 19971\, United States
CATEGORIES:Church,Groups
END:VEVENT
BEGIN:VEVENT
DTSTART;TZID=America/New_York:20261013T180000
DTEND;TZID=America/New_York:20261013T200000
DTSTAMP:20260425T100400
CREATED:20250709T125038Z
LAST-MODIFIED:20250709T125038Z
UID:10016871-1791914400-1791921600@epworth.faith
SUMMARY:Trustee Committee Meeting (Zoom)
DESCRIPTION:
URL:https://epworth.faith/event/trustee-committee-meeting-zoom/2026-10-13/
LOCATION:Epworth United Methodist Church\, 19285 Holland Glade Road\, Rehoboth Beach\, DE\, 19971\, United States
ORGANIZER;CN="Tom Lewis":MAILTO:mathguy29@yahoo.com
END:VEVENT
BEGIN:VEVENT
DTSTART;TZID=America/New_York:20261013T190000
DTEND;TZID=America/New_York:20261013T200000
DTSTAMP:20260425T100400
CREATED:20240905T121615Z
LAST-MODIFIED:20251023T144756Z
UID:10019095-1791918000-1791921600@epworth.faith
SUMMARY:Alanon Meeting (Baker Room)
DESCRIPTION:
URL:https://epworth.faith/event/alanon-meeting-baker-room/2026-10-13/
LOCATION:Epworth United Methodist Church\, 19285 Holland Glade Road\, Rehoboth Beach\, DE\, 19971\, United States
CATEGORIES:Church,Groups
END:VEVENT
BEGIN:VEVENT
DTSTART;TZID=America/New_York:20261013T190000
DTEND;TZID=America/New_York:20261013T200000
DTSTAMP:20260425T100400
CREATED:20240905T121808Z
LAST-MODIFIED:20251023T145128Z
UID:10019346-1791918000-1791921600@epworth.faith
SUMMARY:AA Meeting (Music Room)
DESCRIPTION:
URL:https://epworth.faith/event/aa-meeting-music-room/2026-10-13/
LOCATION:Epworth United Methodist Church\, 19285 Holland Glade Road\, Rehoboth Beach\, DE\, 19971\, United States
CATEGORIES:Church,Groups
END:VEVENT
BEGIN:VEVENT
DTSTART;TZID=America/New_York:20261015T093000
DTEND;TZID=America/New_York:20261015T103000
DTSTAMP:20260425T100400
CREATED:20250521T185021Z
LAST-MODIFIED:20260205T141334Z
UID:10021191-1792056600-1792060200@epworth.faith
SUMMARY:Alzheimer/Dementia Support Group (Baker Room)
DESCRIPTION:
URL:https://epworth.faith/event/alzheimer-dementia-support-group-baker-room/2026-10-15/
LOCATION:Epworth United Methodist Church\, 19285 Holland Glade Road\, Rehoboth Beach\, DE\, 19971\, United States
CATEGORIES:Church,Groups
ORGANIZER;CN="Harry Martens":MAILTO:HMartensiii@gmail.com
END:VEVENT
BEGIN:VEVENT
DTSTART;TZID=America/New_York:20261015T110000
DTEND;TZID=America/New_York:20261015T120000
DTSTAMP:20260425T100400
CREATED:20250513T184931Z
LAST-MODIFIED:20260129T210925Z
UID:10021087-1792062000-1792065600@epworth.faith
SUMMARY:Grief Group (Baker Room)
DESCRIPTION:
URL:https://epworth.faith/event/grief-group-baker-room/2026-10-15/
LOCATION:Epworth United Methodist Church\, 19285 Holland Glade Road\, Rehoboth Beach\, DE\, 19971\, United States
ORGANIZER;CN="Vicki Gordy-Stith":MAILTO:vgordy-stith@epworth.faith
END:VEVENT
BEGIN:VEVENT
DTSTART;TZID=America/New_York:20261015T120000
DTEND;TZID=America/New_York:20261015T130000
DTSTAMP:20260425T100400
CREATED:20240905T122329Z
LAST-MODIFIED:20251023T150055Z
UID:10019598-1792065600-1792069200@epworth.faith
SUMMARY:Alanon Meeting (Branford Room)
DESCRIPTION:
URL:https://epworth.faith/event/alanon-meeting-branford-room-3/2026-10-15/
LOCATION:Epworth United Methodist Church\, 19285 Holland Glade Road\, Rehoboth Beach\, DE\, 19971\, United States
CATEGORIES:Church,Groups
END:VEVENT
BEGIN:VEVENT
DTSTART;TZID=America/New_York:20261015T130000
DTEND;TZID=America/New_York:20261015T143000
DTSTAMP:20260425T100400
CREATED:20260218T181808Z
LAST-MODIFIED:20260218T181808Z
UID:10021446-1792069200-1792074600@epworth.faith
SUMMARY:Social Justice Meeting (Starnes Room)
DESCRIPTION:
URL:https://epworth.faith/event/social-justice-meeting-starnes-room-2/2026-10-15/
LOCATION:Epworth United Methodist Church\, 19285 Holland Glade Road\, Rehoboth Beach\, DE\, 19971\, United States
CATEGORIES:Church,Groups
END:VEVENT
BEGIN:VEVENT
DTSTART;TZID=America/New_York:20261015T193000
DTEND;TZID=America/New_York:20261015T203000
DTSTAMP:20260425T100400
CREATED:20240905T122521Z
LAST-MODIFIED:20251023T150301Z
UID:10019849-1792092600-1792096200@epworth.faith
SUMMARY:AA Meeting (Baker Room)
DESCRIPTION:
URL:https://epworth.faith/event/aa-meeting-baker-room/2026-10-15/
LOCATION:Epworth United Methodist Church\, 19285 Holland Glade Road\, Rehoboth Beach\, DE\, 19971\, United States
CATEGORIES:Church,Groups
END:VEVENT
BEGIN:VEVENT
DTSTART;TZID=America/New_York:20261016T100000
DTEND;TZID=America/New_York:20261016T230000
DTSTAMP:20260425T100400
CREATED:20240624T134003Z
LAST-MODIFIED:20251117T183140Z
UID:10013584-1792144800-1792191600@epworth.faith
SUMMARY:Jazz Festival Concert (Sanctuary\, Music Room & Branford)
DESCRIPTION:
URL:https://epworth.faith/event/jazz-festival-concert-sanctuary-music-room-4/
LOCATION:Epworth United Methodist Church\, 19285 Holland Glade Road\, Rehoboth Beach\, DE\, 19971\, United States
CATEGORIES:Church,Concerts,Facility Rentals
ORGANIZER;CN="Bing Crosby":MAILTO:bing@rehobothjazz.com
END:VEVENT
BEGIN:VEVENT
DTSTART;TZID=America/New_York:20261017T090000
DTEND;TZID=America/New_York:20261017T100000
DTSTAMP:20260425T100400
CREATED:20240905T122704Z
LAST-MODIFIED:20251023T150523Z
UID:10020100-1792227600-1792231200@epworth.faith
SUMMARY:ACA Meeting (Baker Room)
DESCRIPTION:
URL:https://epworth.faith/event/aca-meeting-baker-room/2026-10-17/
LOCATION:Epworth United Methodist Church\, 19285 Holland Glade Road\, Rehoboth Beach\, DE\, 19971\, United States
CATEGORIES:Church,Groups
END:VEVENT
END:VCALENDAR