BEGIN:VCALENDAR
VERSION:2.0
PRODID:-//Epworth UMC - ECPv6.15.20//NONSGML v1.0//EN
CALSCALE:GREGORIAN
METHOD:PUBLISH
X-ORIGINAL-URL:https://epworth.faith
X-WR-CALDESC:Events for Epworth UMC
REFRESH-INTERVAL;VALUE=DURATION:PT1H
X-Robots-Tag:noindex
X-PUBLISHED-TTL:PT1H
BEGIN:VTIMEZONE
TZID:America/New_York
BEGIN:DAYLIGHT
TZOFFSETFROM:-0500
TZOFFSETTO:-0400
TZNAME:EDT
DTSTART:20250309T070000
END:DAYLIGHT
BEGIN:STANDARD
TZOFFSETFROM:-0400
TZOFFSETTO:-0500
TZNAME:EST
DTSTART:20251102T060000
END:STANDARD
BEGIN:DAYLIGHT
TZOFFSETFROM:-0500
TZOFFSETTO:-0400
TZNAME:EDT
DTSTART:20260308T070000
END:DAYLIGHT
BEGIN:STANDARD
TZOFFSETFROM:-0400
TZOFFSETTO:-0500
TZNAME:EST
DTSTART:20261101T060000
END:STANDARD
BEGIN:DAYLIGHT
TZOFFSETFROM:-0500
TZOFFSETTO:-0400
TZNAME:EDT
DTSTART:20270314T070000
END:DAYLIGHT
BEGIN:STANDARD
TZOFFSETFROM:-0400
TZOFFSETTO:-0500
TZNAME:EST
DTSTART:20271107T060000
END:STANDARD
END:VTIMEZONE
BEGIN:VEVENT
DTSTART;TZID=America/New_York:20261208T190000
DTEND;TZID=America/New_York:20261208T200000
DTSTAMP:20260425T071011
CREATED:20240905T121808Z
LAST-MODIFIED:20251023T145128Z
UID:10019354-1796756400-1796760000@epworth.faith
SUMMARY:AA Meeting (Music Room)
DESCRIPTION:
URL:https://epworth.faith/event/aa-meeting-music-room/2026-12-08/
LOCATION:Epworth United Methodist Church\, 19285 Holland Glade Road\, Rehoboth Beach\, DE\, 19971\, United States
CATEGORIES:Church,Groups
END:VEVENT
BEGIN:VEVENT
DTSTART;TZID=America/New_York:20261209T090000
DTEND;TZID=America/New_York:20261209T160000
DTSTAMP:20260425T071011
CREATED:20260219T180113Z
LAST-MODIFIED:20260219T180113Z
UID:10021683-1796806800-1796832000@epworth.faith
SUMMARY:Cookie Baking for Cookie Walk (Kitchen)
DESCRIPTION:
URL:https://epworth.faith/event/cookie-baking-for-cookie-walk-kitchen-7/
LOCATION:Epworth United Methodist Church\, 19285 Holland Glade Road\, Rehoboth Beach\, DE\, 19971\, United States
CATEGORIES:Church,Groups
END:VEVENT
BEGIN:VEVENT
DTSTART;TZID=America/New_York:20261210T093000
DTEND;TZID=America/New_York:20261210T103000
DTSTAMP:20260425T071011
CREATED:20250521T185021Z
LAST-MODIFIED:20260205T141334Z
UID:10021199-1796895000-1796898600@epworth.faith
SUMMARY:Alzheimer/Dementia Support Group (Baker Room)
DESCRIPTION:
URL:https://epworth.faith/event/alzheimer-dementia-support-group-baker-room/2026-12-10/
LOCATION:Epworth United Methodist Church\, 19285 Holland Glade Road\, Rehoboth Beach\, DE\, 19971\, United States
CATEGORIES:Church,Groups
ORGANIZER;CN="Harry Martens":MAILTO:HMartensiii@gmail.com
END:VEVENT
BEGIN:VEVENT
DTSTART;TZID=America/New_York:20261210T110000
DTEND;TZID=America/New_York:20261210T120000
DTSTAMP:20260425T071011
CREATED:20250513T184931Z
LAST-MODIFIED:20260129T210925Z
UID:10021095-1796900400-1796904000@epworth.faith
SUMMARY:Grief Group (Baker Room)
DESCRIPTION:
URL:https://epworth.faith/event/grief-group-baker-room/2026-12-10/
LOCATION:Epworth United Methodist Church\, 19285 Holland Glade Road\, Rehoboth Beach\, DE\, 19971\, United States
ORGANIZER;CN="Vicki Gordy-Stith":MAILTO:vgordy-stith@epworth.faith
END:VEVENT
BEGIN:VEVENT
DTSTART;TZID=America/New_York:20261210T120000
DTEND;TZID=America/New_York:20261210T130000
DTSTAMP:20260425T071011
CREATED:20240905T122329Z
LAST-MODIFIED:20251023T150055Z
UID:10019606-1796904000-1796907600@epworth.faith
SUMMARY:Alanon Meeting (Branford Room)
DESCRIPTION:
URL:https://epworth.faith/event/alanon-meeting-branford-room-3/2026-12-10/
LOCATION:Epworth United Methodist Church\, 19285 Holland Glade Road\, Rehoboth Beach\, DE\, 19971\, United States
CATEGORIES:Church,Groups
END:VEVENT
BEGIN:VEVENT
DTSTART;TZID=America/New_York:20261210T130000
DTEND;TZID=America/New_York:20261210T143000
DTSTAMP:20260425T071011
CREATED:20260218T181808Z
LAST-MODIFIED:20260218T181808Z
UID:10021454-1796907600-1796913000@epworth.faith
SUMMARY:Social Justice Meeting (Starnes Room)
DESCRIPTION:
URL:https://epworth.faith/event/social-justice-meeting-starnes-room-2/2026-12-10/
LOCATION:Epworth United Methodist Church\, 19285 Holland Glade Road\, Rehoboth Beach\, DE\, 19971\, United States
CATEGORIES:Church,Groups
END:VEVENT
BEGIN:VEVENT
DTSTART;TZID=America/New_York:20261210T193000
DTEND;TZID=America/New_York:20261210T203000
DTSTAMP:20260425T071011
CREATED:20240905T122521Z
LAST-MODIFIED:20251023T150301Z
UID:10019857-1796931000-1796934600@epworth.faith
SUMMARY:AA Meeting (Baker Room)
DESCRIPTION:
URL:https://epworth.faith/event/aa-meeting-baker-room/2026-12-10/
LOCATION:Epworth United Methodist Church\, 19285 Holland Glade Road\, Rehoboth Beach\, DE\, 19971\, United States
CATEGORIES:Church,Groups
END:VEVENT
BEGIN:VEVENT
DTSTART;TZID=America/New_York:20261212T030000
DTEND;TZID=America/New_York:20261212T200000
DTSTAMP:20260425T071011
CREATED:20260218T200101Z
LAST-MODIFIED:20260218T200102Z
UID:10021673-1797044400-1797105600@epworth.faith
SUMMARY:Capital Ringers Christmas Concert (Sanctuary & Music Room)
DESCRIPTION:
URL:https://epworth.faith/event/capital-ringers-christmas-concert-sanctuary-music-room-2/
LOCATION:Epworth United Methodist Church\, 19285 Holland Glade Road\, Rehoboth Beach\, DE\, 19971\, United States
CATEGORIES:Church,Concerts,Facility Rentals
ORGANIZER;CN="Bing Crosby":MAILTO:bing@rehobothjazz.com
END:VEVENT
BEGIN:VEVENT
DTSTART;TZID=America/New_York:20261212T070000
DTEND;TZID=America/New_York:20261212T120000
DTSTAMP:20260425T071011
CREATED:20251208T190532Z
LAST-MODIFIED:20251208T190532Z
UID:10020932-1797058800-1797076800@epworth.faith
SUMMARY:Cookie Walk (Fellowship Hall and Narthex)
DESCRIPTION:
URL:https://epworth.faith/event/cookie-walk-fellowship-hall-and-narthex-2/
LOCATION:Epworth United Methodist Church\, 19285 Holland Glade Road\, Rehoboth Beach\, DE\, 19971\, United States
CATEGORIES:Church,Groups
ORGANIZER;CN="Sue Brenton":MAILTO:myshadow143@verizon.net
END:VEVENT
BEGIN:VEVENT
DTSTART;TZID=America/New_York:20261212T090000
DTEND;TZID=America/New_York:20261212T100000
DTSTAMP:20260425T071011
CREATED:20240905T122704Z
LAST-MODIFIED:20251023T150523Z
UID:10020108-1797066000-1797069600@epworth.faith
SUMMARY:ACA Meeting (Baker Room)
DESCRIPTION:
URL:https://epworth.faith/event/aca-meeting-baker-room/2026-12-12/
LOCATION:Epworth United Methodist Church\, 19285 Holland Glade Road\, Rehoboth Beach\, DE\, 19971\, United States
CATEGORIES:Church,Groups
END:VEVENT
BEGIN:VEVENT
DTSTART;TZID=America/New_York:20261212T180000
DTEND;TZID=America/New_York:20261212T190000
DTSTAMP:20260425T071011
CREATED:20240905T122918Z
LAST-MODIFIED:20251023T150738Z
UID:10020359-1797098400-1797102000@epworth.faith
SUMMARY:Alanon Meeting (Baker Room)
DESCRIPTION:
URL:https://epworth.faith/event/alanon-meeting-baker-room-2/2026-12-12/
LOCATION:Epworth United Methodist Church\, 19285 Holland Glade Road\, Rehoboth Beach\, DE\, 19971\, United States
CATEGORIES:Church,Groups
END:VEVENT
BEGIN:VEVENT
DTSTART;TZID=America/New_York:20261212T180000
DTEND;TZID=America/New_York:20261212T190000
DTSTAMP:20260425T071011
CREATED:20240905T123154Z
LAST-MODIFIED:20251023T152520Z
UID:10020610-1797098400-1797102000@epworth.faith
SUMMARY:AA Meeting (Branford Room)
DESCRIPTION:
URL:https://epworth.faith/event/aa-meeting-branford-room/2026-12-12/
LOCATION:Epworth United Methodist Church\, 19285 Holland Glade Road\, Rehoboth Beach\, DE\, 19971\, United States
CATEGORIES:Church,Groups
END:VEVENT
BEGIN:VEVENT
DTSTART;TZID=America/New_York:20261213T100000
DTEND;TZID=America/New_York:20261213T110000
DTSTAMP:20260425T071011
CREATED:20230909T152658Z
LAST-MODIFIED:20230909T161232Z
UID:10009180-1797156000-1797159600@epworth.faith
SUMMARY:Blended ASL Worship Service (Sanctuary & Online)
DESCRIPTION:YouTube Livestream\nYouTube ASL Livestream\nFacebook Livestream
URL:https://epworth.faith/event/blended-worship-service-sanctuary-on-line-2/2026-12-13/
LOCATION:Epworth United Methodist Church\, 19285 Holland Glade Road\, Rehoboth Beach\, DE\, 19971\, United States
CATEGORIES:Worship
ORGANIZER;CN="Vicki Gordy-Stith":MAILTO:vgordy-stith@epworth.faith
END:VEVENT
BEGIN:VEVENT
DTSTART;TZID=America/New_York:20261213T110000
DTEND;TZID=America/New_York:20261213T124500
DTSTAMP:20260425T071011
CREATED:20250303T202501Z
LAST-MODIFIED:20250303T202548Z
UID:10015649-1797159600-1797165900@epworth.faith
SUMMARY:Flower Ministry for Arrangements (Starnes Room)
DESCRIPTION:
URL:https://epworth.faith/event/flower-ministry-for-arrangements-starnes-room/2026-12-13/
LOCATION:Epworth United Methodist Church\, 19285 Holland Glade Road\, Rehoboth Beach\, DE\, 19971\, United States
CATEGORIES:Church,Groups
ORGANIZER;CN="Val Linder":MAILTO:rovalinder@comcast.net
END:VEVENT
BEGIN:VEVENT
DTSTART;TZID=America/New_York:20261213T111500
DTEND;TZID=America/New_York:20261213T114500
DTSTAMP:20260425T071011
CREATED:20251023T142658Z
LAST-MODIFIED:20251023T142658Z
UID:10018100-1797160500-1797162300@epworth.faith
SUMMARY:Stephen Ministry Prayer Chapel (Baker Room)
DESCRIPTION:
URL:https://epworth.faith/event/stephen-ministry-prayer-chapel-baker-room-2/2026-12-13/
LOCATION:Epworth United Methodist Church\, 19285 Holland Glade Road\, Rehoboth Beach\, DE\, 19971\, United States
CATEGORIES:Church,Groups
END:VEVENT
BEGIN:VEVENT
DTSTART;TZID=America/New_York:20261214T130000
DTEND;TZID=America/New_York:20261214T150000
DTSTAMP:20260425T071011
CREATED:20250514T210154Z
LAST-MODIFIED:20251014T145413Z
UID:10016500-1797253200-1797260400@epworth.faith
SUMMARY:WINGS Meeting (Baker Lounge)
DESCRIPTION:
URL:https://epworth.faith/event/wings-meeting-baker-room-3/2026-12-14/
LOCATION:Epworth United Methodist Church\, 19285 Holland Glade Road\, Rehoboth Beach\, DE\, 19971\, United States
CATEGORIES:Church,Groups
ORGANIZER;CN="Nancy Almacy":MAILTO:nalmacy@gmail.com
END:VEVENT
BEGIN:VEVENT
DTSTART;TZID=America/New_York:20261214T170000
DTEND;TZID=America/New_York:20261214T180000
DTSTAMP:20260425T071011
CREATED:20240905T122003Z
LAST-MODIFIED:20251023T143906Z
UID:10018351-1797267600-1797271200@epworth.faith
SUMMARY:Alanon Newcomers (Baker Room)
DESCRIPTION:
URL:https://epworth.faith/event/alanon-newcomers-baker-room/2026-12-14/
LOCATION:Epworth United Methodist Church\, 19285 Holland Glade Road\, Rehoboth Beach\, DE\, 19971\, United States
CATEGORIES:Church,Groups
END:VEVENT
BEGIN:VEVENT
DTSTART;TZID=America/New_York:20261214T180000
DTEND;TZID=America/New_York:20261214T190000
DTSTAMP:20260425T071011
CREATED:20240905T122138Z
LAST-MODIFIED:20251023T144119Z
UID:10018602-1797271200-1797274800@epworth.faith
SUMMARY:Alanon Meeting (Branford Room)
DESCRIPTION:
URL:https://epworth.faith/event/alanon-meeting-branford-room-2/2026-12-14/
LOCATION:Epworth United Methodist Church\, 19285 Holland Glade Road\, Rehoboth Beach\, DE\, 19971\, United States
CATEGORIES:Church,Groups
END:VEVENT
BEGIN:VEVENT
DTSTART;TZID=America/New_York:20261214T180000
DTEND;TZID=America/New_York:20261214T193000
DTSTAMP:20260425T071011
CREATED:20250925T182614Z
LAST-MODIFIED:20250929T160622Z
UID:10017800-1797271200-1797276600@epworth.faith
SUMMARY:Social Justice Meeting (Starnes Room)
DESCRIPTION:
URL:https://epworth.faith/event/social-justice-meeting-starnes-room/2026-12-14/
LOCATION:Epworth United Methodist Church\, 19285 Holland Glade Road\, Rehoboth Beach\, DE\, 19971\, United States
CATEGORIES:Church,Groups
END:VEVENT
BEGIN:VEVENT
DTSTART;TZID=America/New_York:20261215T120000
DTEND;TZID=America/New_York:20261215T140000
DTSTAMP:20260425T071011
CREATED:20231101T154604Z
LAST-MODIFIED:20231101T154604Z
UID:10010614-1797336000-1797343200@epworth.faith
SUMMARY:Staff Meeting (Conference Room)
DESCRIPTION:
URL:https://epworth.faith/event/staff-meeting-conference-room/2026-12-15/
LOCATION:Epworth United Methodist Church\, 19285 Holland Glade Road\, Rehoboth Beach\, DE\, 19971\, United States
CATEGORIES:Church,Staff
ORGANIZER;CN="Vicki Gordy-Stith":MAILTO:vgordy-stith@epworth.faith
END:VEVENT
BEGIN:VEVENT
DTSTART;TZID=America/New_York:20261215T160000
DTEND;TZID=America/New_York:20261215T180000
DTSTAMP:20260425T071011
CREATED:20250709T125307Z
LAST-MODIFIED:20250709T125307Z
UID:10016934-1797350400-1797357600@epworth.faith
SUMMARY:Finance Committee Meeting (Zoom)
DESCRIPTION:
URL:https://epworth.faith/event/finance-committee-meeting-zoom/2026-12-15/
LOCATION:Epworth United Methodist Church\, 19285 Holland Glade Road\, Rehoboth Beach\, DE\, 19971\, United States
CATEGORIES:Church,Groups
END:VEVENT
BEGIN:VEVENT
DTSTART;TZID=America/New_York:20261215T180000
DTEND;TZID=America/New_York:20261215T190000
DTSTAMP:20260425T071011
CREATED:20240905T121346Z
LAST-MODIFIED:20251023T144445Z
UID:10018853-1797357600-1797361200@epworth.faith
SUMMARY:Alanon Meeting (Branford Room)
DESCRIPTION:
URL:https://epworth.faith/event/alanon-meeting-branford-room/2026-12-15/
LOCATION:Epworth United Methodist Church\, 19285 Holland Glade Road\, Rehoboth Beach\, DE\, 19971\, United States
CATEGORIES:Church,Groups
END:VEVENT
BEGIN:VEVENT
DTSTART;TZID=America/New_York:20261215T184500
DTEND;TZID=America/New_York:20261215T200000
DTSTAMP:20260425T071011
CREATED:20250821T173501Z
LAST-MODIFIED:20250821T173501Z
UID:10017196-1797360300-1797364800@epworth.faith
SUMMARY:Faith Friends & Issues Group (Zoom)
DESCRIPTION:
URL:https://epworth.faith/event/faith-friends-issues-group-zoom-2/2026-12-15/
LOCATION:Epworth United Methodist Church\, 19285 Holland Glade Road\, Rehoboth Beach\, DE\, 19971\, United States
CATEGORIES:Church,Groups
ORGANIZER;CN="Sandy Paulen":MAILTO:sandypaulen@gmail.com
END:VEVENT
BEGIN:VEVENT
DTSTART;TZID=America/New_York:20261215T190000
DTEND;TZID=America/New_York:20261215T200000
DTSTAMP:20260425T071011
CREATED:20240905T121615Z
LAST-MODIFIED:20251023T144756Z
UID:10019104-1797361200-1797364800@epworth.faith
SUMMARY:Alanon Meeting (Baker Room)
DESCRIPTION:
URL:https://epworth.faith/event/alanon-meeting-baker-room/2026-12-15/
LOCATION:Epworth United Methodist Church\, 19285 Holland Glade Road\, Rehoboth Beach\, DE\, 19971\, United States
CATEGORIES:Church,Groups
END:VEVENT
BEGIN:VEVENT
DTSTART;TZID=America/New_York:20261215T190000
DTEND;TZID=America/New_York:20261215T200000
DTSTAMP:20260425T071011
CREATED:20240905T121808Z
LAST-MODIFIED:20251023T145128Z
UID:10019355-1797361200-1797364800@epworth.faith
SUMMARY:AA Meeting (Music Room)
DESCRIPTION:
URL:https://epworth.faith/event/aa-meeting-music-room/2026-12-15/
LOCATION:Epworth United Methodist Church\, 19285 Holland Glade Road\, Rehoboth Beach\, DE\, 19971\, United States
CATEGORIES:Church,Groups
END:VEVENT
BEGIN:VEVENT
DTSTART;TZID=America/New_York:20261216T183000
DTEND;TZID=America/New_York:20261216T210000
DTSTAMP:20260425T071011
CREATED:20240321T141329Z
LAST-MODIFIED:20240321T141511Z
UID:10012604-1797445800-1797454800@epworth.faith
SUMMARY:ManKind Project (MKP) (Baker Lounge)
DESCRIPTION:
URL:https://epworth.faith/event/mankind-project-mkp-baker-lounge-4/2026-12-16/
LOCATION:Epworth United Methodist Church\, 19285 Holland Glade Road\, Rehoboth Beach\, DE\, 19971\, United States
CATEGORIES:Church,Groups
ORGANIZER;CN="Rick Buske":MAILTO:rick.buske@gmail.com
END:VEVENT
BEGIN:VEVENT
DTSTART;TZID=America/New_York:20261217T093000
DTEND;TZID=America/New_York:20261217T103000
DTSTAMP:20260425T071011
CREATED:20250521T185021Z
LAST-MODIFIED:20260205T141334Z
UID:10021200-1797499800-1797503400@epworth.faith
SUMMARY:Alzheimer/Dementia Support Group (Baker Room)
DESCRIPTION:
URL:https://epworth.faith/event/alzheimer-dementia-support-group-baker-room/2026-12-17/
LOCATION:Epworth United Methodist Church\, 19285 Holland Glade Road\, Rehoboth Beach\, DE\, 19971\, United States
CATEGORIES:Church,Groups
ORGANIZER;CN="Harry Martens":MAILTO:HMartensiii@gmail.com
END:VEVENT
BEGIN:VEVENT
DTSTART;TZID=America/New_York:20261217T110000
DTEND;TZID=America/New_York:20261217T120000
DTSTAMP:20260425T071011
CREATED:20250513T184931Z
LAST-MODIFIED:20260129T210925Z
UID:10021096-1797505200-1797508800@epworth.faith
SUMMARY:Grief Group (Baker Room)
DESCRIPTION:
URL:https://epworth.faith/event/grief-group-baker-room/2026-12-17/
LOCATION:Epworth United Methodist Church\, 19285 Holland Glade Road\, Rehoboth Beach\, DE\, 19971\, United States
ORGANIZER;CN="Vicki Gordy-Stith":MAILTO:vgordy-stith@epworth.faith
END:VEVENT
BEGIN:VEVENT
DTSTART;TZID=America/New_York:20261217T120000
DTEND;TZID=America/New_York:20261217T130000
DTSTAMP:20260425T071011
CREATED:20240905T122329Z
LAST-MODIFIED:20251023T150055Z
UID:10019607-1797508800-1797512400@epworth.faith
SUMMARY:Alanon Meeting (Branford Room)
DESCRIPTION:
URL:https://epworth.faith/event/alanon-meeting-branford-room-3/2026-12-17/
LOCATION:Epworth United Methodist Church\, 19285 Holland Glade Road\, Rehoboth Beach\, DE\, 19971\, United States
CATEGORIES:Church,Groups
END:VEVENT
BEGIN:VEVENT
DTSTART;TZID=America/New_York:20261217T130000
DTEND;TZID=America/New_York:20261217T143000
DTSTAMP:20260425T071011
CREATED:20260218T181808Z
LAST-MODIFIED:20260218T181808Z
UID:10021455-1797512400-1797517800@epworth.faith
SUMMARY:Social Justice Meeting (Starnes Room)
DESCRIPTION:
URL:https://epworth.faith/event/social-justice-meeting-starnes-room-2/2026-12-17/
LOCATION:Epworth United Methodist Church\, 19285 Holland Glade Road\, Rehoboth Beach\, DE\, 19971\, United States
CATEGORIES:Church,Groups
END:VEVENT
END:VCALENDAR