BEGIN:VCALENDAR
VERSION:2.0
PRODID:-//Epworth UMC - ECPv6.15.20//NONSGML v1.0//EN
CALSCALE:GREGORIAN
METHOD:PUBLISH
X-WR-CALNAME:Epworth UMC
X-ORIGINAL-URL:https://epworth.faith
X-WR-CALDESC:Events for Epworth UMC
REFRESH-INTERVAL;VALUE=DURATION:PT1H
X-Robots-Tag:noindex
X-PUBLISHED-TTL:PT1H
BEGIN:VTIMEZONE
TZID:America/New_York
BEGIN:DAYLIGHT
TZOFFSETFROM:-0500
TZOFFSETTO:-0400
TZNAME:EDT
DTSTART:20260308T070000
END:DAYLIGHT
BEGIN:STANDARD
TZOFFSETFROM:-0400
TZOFFSETTO:-0500
TZNAME:EST
DTSTART:20261101T060000
END:STANDARD
BEGIN:DAYLIGHT
TZOFFSETFROM:-0500
TZOFFSETTO:-0400
TZNAME:EDT
DTSTART:20270314T070000
END:DAYLIGHT
BEGIN:STANDARD
TZOFFSETFROM:-0400
TZOFFSETTO:-0500
TZNAME:EST
DTSTART:20271107T060000
END:STANDARD
BEGIN:DAYLIGHT
TZOFFSETFROM:-0500
TZOFFSETTO:-0400
TZNAME:EDT
DTSTART:20280312T070000
END:DAYLIGHT
BEGIN:STANDARD
TZOFFSETFROM:-0400
TZOFFSETTO:-0500
TZNAME:EST
DTSTART:20281105T060000
END:STANDARD
END:VTIMEZONE
BEGIN:VEVENT
DTSTART;TZID=America/New_York:20270520T120000
DTEND;TZID=America/New_York:20270520T130000
DTSTAMP:20260425T203146
CREATED:20240905T122329Z
LAST-MODIFIED:20251023T150055Z
UID:10019629-1810814400-1810818000@epworth.faith
SUMMARY:Alanon Meeting (Branford Room)
DESCRIPTION:
URL:https://epworth.faith/event/alanon-meeting-branford-room-3/2027-05-20/
LOCATION:Epworth United Methodist Church\, 19285 Holland Glade Road\, Rehoboth Beach\, DE\, 19971\, United States
CATEGORIES:Church,Groups
END:VEVENT
BEGIN:VEVENT
DTSTART;TZID=America/New_York:20270520T130000
DTEND;TZID=America/New_York:20270520T143000
DTSTAMP:20260425T203146
CREATED:20260218T181808Z
LAST-MODIFIED:20260218T181808Z
UID:10021477-1810818000-1810823400@epworth.faith
SUMMARY:Social Justice Meeting (Starnes Room)
DESCRIPTION:
URL:https://epworth.faith/event/social-justice-meeting-starnes-room-2/2027-05-20/
LOCATION:Epworth United Methodist Church\, 19285 Holland Glade Road\, Rehoboth Beach\, DE\, 19971\, United States
CATEGORIES:Church,Groups
END:VEVENT
BEGIN:VEVENT
DTSTART;TZID=America/New_York:20270520T193000
DTEND;TZID=America/New_York:20270520T203000
DTSTAMP:20260425T203146
CREATED:20240905T122521Z
LAST-MODIFIED:20251023T150301Z
UID:10019880-1810841400-1810845000@epworth.faith
SUMMARY:AA Meeting (Baker Room)
DESCRIPTION:
URL:https://epworth.faith/event/aa-meeting-baker-room/2027-05-20/
LOCATION:Epworth United Methodist Church\, 19285 Holland Glade Road\, Rehoboth Beach\, DE\, 19971\, United States
CATEGORIES:Church,Groups
END:VEVENT
BEGIN:VEVENT
DTSTART;TZID=America/New_York:20270522T090000
DTEND;TZID=America/New_York:20270522T100000
DTSTAMP:20260425T203146
CREATED:20240905T122704Z
LAST-MODIFIED:20251023T150523Z
UID:10020131-1810976400-1810980000@epworth.faith
SUMMARY:ACA Meeting (Baker Room)
DESCRIPTION:
URL:https://epworth.faith/event/aca-meeting-baker-room/2027-05-22/
LOCATION:Epworth United Methodist Church\, 19285 Holland Glade Road\, Rehoboth Beach\, DE\, 19971\, United States
CATEGORIES:Church,Groups
END:VEVENT
BEGIN:VEVENT
DTSTART;TZID=America/New_York:20270522T180000
DTEND;TZID=America/New_York:20270522T190000
DTSTAMP:20260425T203146
CREATED:20240905T122918Z
LAST-MODIFIED:20251023T150738Z
UID:10020382-1811008800-1811012400@epworth.faith
SUMMARY:Alanon Meeting (Baker Room)
DESCRIPTION:
URL:https://epworth.faith/event/alanon-meeting-baker-room-2/2027-05-22/
LOCATION:Epworth United Methodist Church\, 19285 Holland Glade Road\, Rehoboth Beach\, DE\, 19971\, United States
CATEGORIES:Church,Groups
END:VEVENT
BEGIN:VEVENT
DTSTART;TZID=America/New_York:20270522T180000
DTEND;TZID=America/New_York:20270522T190000
DTSTAMP:20260425T203146
CREATED:20240905T123154Z
LAST-MODIFIED:20251023T152520Z
UID:10020633-1811008800-1811012400@epworth.faith
SUMMARY:AA Meeting (Branford Room)
DESCRIPTION:
URL:https://epworth.faith/event/aa-meeting-branford-room/2027-05-22/
LOCATION:Epworth United Methodist Church\, 19285 Holland Glade Road\, Rehoboth Beach\, DE\, 19971\, United States
CATEGORIES:Church,Groups
END:VEVENT
BEGIN:VEVENT
DTSTART;TZID=America/New_York:20270523T100000
DTEND;TZID=America/New_York:20270523T110000
DTSTAMP:20260425T203146
CREATED:20230909T152658Z
LAST-MODIFIED:20230909T161232Z
UID:10009203-1811066400-1811070000@epworth.faith
SUMMARY:Blended ASL Worship Service (Sanctuary & Online)
DESCRIPTION:YouTube Livestream\nYouTube ASL Livestream\nFacebook Livestream
URL:https://epworth.faith/event/blended-worship-service-sanctuary-on-line-2/2027-05-23/
LOCATION:Epworth United Methodist Church\, 19285 Holland Glade Road\, Rehoboth Beach\, DE\, 19971\, United States
CATEGORIES:Worship
ORGANIZER;CN="Vicki Gordy-Stith":MAILTO:vgordy-stith@epworth.faith
END:VEVENT
BEGIN:VEVENT
DTSTART;TZID=America/New_York:20270523T110000
DTEND;TZID=America/New_York:20270523T124500
DTSTAMP:20260425T203146
CREATED:20250303T202501Z
LAST-MODIFIED:20250303T202548Z
UID:10015672-1811070000-1811076300@epworth.faith
SUMMARY:Flower Ministry for Arrangements (Starnes Room)
DESCRIPTION:
URL:https://epworth.faith/event/flower-ministry-for-arrangements-starnes-room/2027-05-23/
LOCATION:Epworth United Methodist Church\, 19285 Holland Glade Road\, Rehoboth Beach\, DE\, 19971\, United States
CATEGORIES:Church,Groups
ORGANIZER;CN="Val Linder":MAILTO:rovalinder@comcast.net
END:VEVENT
BEGIN:VEVENT
DTSTART;TZID=America/New_York:20270523T111500
DTEND;TZID=America/New_York:20270523T114500
DTSTAMP:20260425T203146
CREATED:20251023T142658Z
LAST-MODIFIED:20251023T142658Z
UID:10018123-1811070900-1811072700@epworth.faith
SUMMARY:Stephen Ministry Prayer Chapel (Baker Room)
DESCRIPTION:
URL:https://epworth.faith/event/stephen-ministry-prayer-chapel-baker-room-2/2027-05-23/
LOCATION:Epworth United Methodist Church\, 19285 Holland Glade Road\, Rehoboth Beach\, DE\, 19971\, United States
CATEGORIES:Church,Groups
END:VEVENT
BEGIN:VEVENT
DTSTART;TZID=America/New_York:20270524T170000
DTEND;TZID=America/New_York:20270524T180000
DTSTAMP:20260425T203146
CREATED:20240905T122003Z
LAST-MODIFIED:20251023T143906Z
UID:10018374-1811178000-1811181600@epworth.faith
SUMMARY:Alanon Newcomers (Baker Room)
DESCRIPTION:
URL:https://epworth.faith/event/alanon-newcomers-baker-room/2027-05-24/
LOCATION:Epworth United Methodist Church\, 19285 Holland Glade Road\, Rehoboth Beach\, DE\, 19971\, United States
CATEGORIES:Church,Groups
END:VEVENT
BEGIN:VEVENT
DTSTART;TZID=America/New_York:20270524T180000
DTEND;TZID=America/New_York:20270524T190000
DTSTAMP:20260425T203146
CREATED:20240905T122138Z
LAST-MODIFIED:20251023T144119Z
UID:10018625-1811181600-1811185200@epworth.faith
SUMMARY:Alanon Meeting (Branford Room)
DESCRIPTION:
URL:https://epworth.faith/event/alanon-meeting-branford-room-2/2027-05-24/
LOCATION:Epworth United Methodist Church\, 19285 Holland Glade Road\, Rehoboth Beach\, DE\, 19971\, United States
CATEGORIES:Church,Groups
END:VEVENT
BEGIN:VEVENT
DTSTART;TZID=America/New_York:20270524T180000
DTEND;TZID=America/New_York:20270524T193000
DTSTAMP:20260425T203146
CREATED:20250925T182614Z
LAST-MODIFIED:20250929T160622Z
UID:10017823-1811181600-1811187000@epworth.faith
SUMMARY:Social Justice Meeting (Starnes Room)
DESCRIPTION:
URL:https://epworth.faith/event/social-justice-meeting-starnes-room/2027-05-24/
LOCATION:Epworth United Methodist Church\, 19285 Holland Glade Road\, Rehoboth Beach\, DE\, 19971\, United States
CATEGORIES:Church,Groups
END:VEVENT
BEGIN:VEVENT
DTSTART;TZID=America/New_York:20270525T120000
DTEND;TZID=America/New_York:20270525T140000
DTSTAMP:20260425T203146
CREATED:20231101T154604Z
LAST-MODIFIED:20231101T154604Z
UID:10010637-1811246400-1811253600@epworth.faith
SUMMARY:Staff Meeting (Conference Room)
DESCRIPTION:
URL:https://epworth.faith/event/staff-meeting-conference-room/2027-05-25/
LOCATION:Epworth United Methodist Church\, 19285 Holland Glade Road\, Rehoboth Beach\, DE\, 19971\, United States
CATEGORIES:Church,Staff
ORGANIZER;CN="Vicki Gordy-Stith":MAILTO:vgordy-stith@epworth.faith
END:VEVENT
BEGIN:VEVENT
DTSTART;TZID=America/New_York:20270525T180000
DTEND;TZID=America/New_York:20270525T190000
DTSTAMP:20260425T203146
CREATED:20240905T121346Z
LAST-MODIFIED:20251023T144445Z
UID:10018876-1811268000-1811271600@epworth.faith
SUMMARY:Alanon Meeting (Branford Room)
DESCRIPTION:
URL:https://epworth.faith/event/alanon-meeting-branford-room/2027-05-25/
LOCATION:Epworth United Methodist Church\, 19285 Holland Glade Road\, Rehoboth Beach\, DE\, 19971\, United States
CATEGORIES:Church,Groups
END:VEVENT
BEGIN:VEVENT
DTSTART;TZID=America/New_York:20270525T190000
DTEND;TZID=America/New_York:20270525T200000
DTSTAMP:20260425T203146
CREATED:20240905T121615Z
LAST-MODIFIED:20251023T144756Z
UID:10019127-1811271600-1811275200@epworth.faith
SUMMARY:Alanon Meeting (Baker Room)
DESCRIPTION:
URL:https://epworth.faith/event/alanon-meeting-baker-room/2027-05-25/
LOCATION:Epworth United Methodist Church\, 19285 Holland Glade Road\, Rehoboth Beach\, DE\, 19971\, United States
CATEGORIES:Church,Groups
END:VEVENT
BEGIN:VEVENT
DTSTART;TZID=America/New_York:20270525T190000
DTEND;TZID=America/New_York:20270525T200000
DTSTAMP:20260425T203146
CREATED:20240905T121808Z
LAST-MODIFIED:20251023T145128Z
UID:10019378-1811271600-1811275200@epworth.faith
SUMMARY:AA Meeting (Music Room)
DESCRIPTION:
URL:https://epworth.faith/event/aa-meeting-music-room/2027-05-25/
LOCATION:Epworth United Methodist Church\, 19285 Holland Glade Road\, Rehoboth Beach\, DE\, 19971\, United States
CATEGORIES:Church,Groups
END:VEVENT
BEGIN:VEVENT
DTSTART;TZID=America/New_York:20270526T133000
DTEND;TZID=America/New_York:20270526T153000
DTSTAMP:20260425T203146
CREATED:20260226T161400Z
LAST-MODIFIED:20260226T161400Z
UID:10021712-1811338200-1811345400@epworth.faith
SUMMARY:Parkinson's Group Meeting/Activity (Branford Lounge)
DESCRIPTION:
URL:https://epworth.faith/event/parkinsons-group-meeting-activity-branford-lounge/2027-05-26/
LOCATION:Epworth United Methodist Church\, 19285 Holland Glade Road\, Rehoboth Beach\, DE\, 19971\, United States
CATEGORIES:Church,Groups
END:VEVENT
BEGIN:VEVENT
DTSTART;TZID=America/New_York:20270527T120000
DTEND;TZID=America/New_York:20270527T130000
DTSTAMP:20260425T203146
CREATED:20240905T122329Z
LAST-MODIFIED:20251023T150055Z
UID:10019630-1811419200-1811422800@epworth.faith
SUMMARY:Alanon Meeting (Branford Room)
DESCRIPTION:
URL:https://epworth.faith/event/alanon-meeting-branford-room-3/2027-05-27/
LOCATION:Epworth United Methodist Church\, 19285 Holland Glade Road\, Rehoboth Beach\, DE\, 19971\, United States
CATEGORIES:Church,Groups
END:VEVENT
BEGIN:VEVENT
DTSTART;TZID=America/New_York:20270527T130000
DTEND;TZID=America/New_York:20270527T143000
DTSTAMP:20260425T203146
CREATED:20260218T181808Z
LAST-MODIFIED:20260218T181808Z
UID:10021478-1811422800-1811428200@epworth.faith
SUMMARY:Social Justice Meeting (Starnes Room)
DESCRIPTION:
URL:https://epworth.faith/event/social-justice-meeting-starnes-room-2/2027-05-27/
LOCATION:Epworth United Methodist Church\, 19285 Holland Glade Road\, Rehoboth Beach\, DE\, 19971\, United States
CATEGORIES:Church,Groups
END:VEVENT
BEGIN:VEVENT
DTSTART;TZID=America/New_York:20270527T193000
DTEND;TZID=America/New_York:20270527T203000
DTSTAMP:20260425T203146
CREATED:20240905T122521Z
LAST-MODIFIED:20251023T150301Z
UID:10019881-1811446200-1811449800@epworth.faith
SUMMARY:AA Meeting (Baker Room)
DESCRIPTION:
URL:https://epworth.faith/event/aa-meeting-baker-room/2027-05-27/
LOCATION:Epworth United Methodist Church\, 19285 Holland Glade Road\, Rehoboth Beach\, DE\, 19971\, United States
CATEGORIES:Church,Groups
END:VEVENT
BEGIN:VEVENT
DTSTART;TZID=America/New_York:20270529T090000
DTEND;TZID=America/New_York:20270529T100000
DTSTAMP:20260425T203146
CREATED:20240905T122704Z
LAST-MODIFIED:20251023T150523Z
UID:10020132-1811581200-1811584800@epworth.faith
SUMMARY:ACA Meeting (Baker Room)
DESCRIPTION:
URL:https://epworth.faith/event/aca-meeting-baker-room/2027-05-29/
LOCATION:Epworth United Methodist Church\, 19285 Holland Glade Road\, Rehoboth Beach\, DE\, 19971\, United States
CATEGORIES:Church,Groups
END:VEVENT
BEGIN:VEVENT
DTSTART;TZID=America/New_York:20270529T180000
DTEND;TZID=America/New_York:20270529T190000
DTSTAMP:20260425T203146
CREATED:20240905T122918Z
LAST-MODIFIED:20251023T150738Z
UID:10020383-1811613600-1811617200@epworth.faith
SUMMARY:Alanon Meeting (Baker Room)
DESCRIPTION:
URL:https://epworth.faith/event/alanon-meeting-baker-room-2/2027-05-29/
LOCATION:Epworth United Methodist Church\, 19285 Holland Glade Road\, Rehoboth Beach\, DE\, 19971\, United States
CATEGORIES:Church,Groups
END:VEVENT
BEGIN:VEVENT
DTSTART;TZID=America/New_York:20270529T180000
DTEND;TZID=America/New_York:20270529T190000
DTSTAMP:20260425T203146
CREATED:20240905T123154Z
LAST-MODIFIED:20251023T152520Z
UID:10020634-1811613600-1811617200@epworth.faith
SUMMARY:AA Meeting (Branford Room)
DESCRIPTION:
URL:https://epworth.faith/event/aa-meeting-branford-room/2027-05-29/
LOCATION:Epworth United Methodist Church\, 19285 Holland Glade Road\, Rehoboth Beach\, DE\, 19971\, United States
CATEGORIES:Church,Groups
END:VEVENT
BEGIN:VEVENT
DTSTART;TZID=America/New_York:20270530T100000
DTEND;TZID=America/New_York:20270530T110000
DTSTAMP:20260425T203146
CREATED:20230909T152658Z
LAST-MODIFIED:20230909T161232Z
UID:10009204-1811671200-1811674800@epworth.faith
SUMMARY:Blended ASL Worship Service (Sanctuary & Online)
DESCRIPTION:YouTube Livestream\nYouTube ASL Livestream\nFacebook Livestream
URL:https://epworth.faith/event/blended-worship-service-sanctuary-on-line-2/2027-05-30/
LOCATION:Epworth United Methodist Church\, 19285 Holland Glade Road\, Rehoboth Beach\, DE\, 19971\, United States
CATEGORIES:Worship
ORGANIZER;CN="Vicki Gordy-Stith":MAILTO:vgordy-stith@epworth.faith
END:VEVENT
BEGIN:VEVENT
DTSTART;TZID=America/New_York:20270530T110000
DTEND;TZID=America/New_York:20270530T124500
DTSTAMP:20260425T203146
CREATED:20250303T202501Z
LAST-MODIFIED:20250303T202548Z
UID:10015673-1811674800-1811681100@epworth.faith
SUMMARY:Flower Ministry for Arrangements (Starnes Room)
DESCRIPTION:
URL:https://epworth.faith/event/flower-ministry-for-arrangements-starnes-room/2027-05-30/
LOCATION:Epworth United Methodist Church\, 19285 Holland Glade Road\, Rehoboth Beach\, DE\, 19971\, United States
CATEGORIES:Church,Groups
ORGANIZER;CN="Val Linder":MAILTO:rovalinder@comcast.net
END:VEVENT
BEGIN:VEVENT
DTSTART;TZID=America/New_York:20270530T111500
DTEND;TZID=America/New_York:20270530T114500
DTSTAMP:20260425T203146
CREATED:20251023T142658Z
LAST-MODIFIED:20251023T142658Z
UID:10018124-1811675700-1811677500@epworth.faith
SUMMARY:Stephen Ministry Prayer Chapel (Baker Room)
DESCRIPTION:
URL:https://epworth.faith/event/stephen-ministry-prayer-chapel-baker-room-2/2027-05-30/
LOCATION:Epworth United Methodist Church\, 19285 Holland Glade Road\, Rehoboth Beach\, DE\, 19971\, United States
CATEGORIES:Church,Groups
END:VEVENT
BEGIN:VEVENT
DTSTART;TZID=America/New_York:20270531T170000
DTEND;TZID=America/New_York:20270531T180000
DTSTAMP:20260425T203146
CREATED:20240905T122003Z
LAST-MODIFIED:20251023T143906Z
UID:10018375-1811782800-1811786400@epworth.faith
SUMMARY:Alanon Newcomers (Baker Room)
DESCRIPTION:
URL:https://epworth.faith/event/alanon-newcomers-baker-room/2027-05-31/
LOCATION:Epworth United Methodist Church\, 19285 Holland Glade Road\, Rehoboth Beach\, DE\, 19971\, United States
CATEGORIES:Church,Groups
END:VEVENT
BEGIN:VEVENT
DTSTART;TZID=America/New_York:20270531T180000
DTEND;TZID=America/New_York:20270531T190000
DTSTAMP:20260425T203146
CREATED:20240905T122138Z
LAST-MODIFIED:20251023T144119Z
UID:10018626-1811786400-1811790000@epworth.faith
SUMMARY:Alanon Meeting (Branford Room)
DESCRIPTION:
URL:https://epworth.faith/event/alanon-meeting-branford-room-2/2027-05-31/
LOCATION:Epworth United Methodist Church\, 19285 Holland Glade Road\, Rehoboth Beach\, DE\, 19971\, United States
CATEGORIES:Church,Groups
END:VEVENT
BEGIN:VEVENT
DTSTART;TZID=America/New_York:20270531T180000
DTEND;TZID=America/New_York:20270531T193000
DTSTAMP:20260425T203146
CREATED:20250925T182614Z
LAST-MODIFIED:20250929T160622Z
UID:10017824-1811786400-1811791800@epworth.faith
SUMMARY:Social Justice Meeting (Starnes Room)
DESCRIPTION:
URL:https://epworth.faith/event/social-justice-meeting-starnes-room/2027-05-31/
LOCATION:Epworth United Methodist Church\, 19285 Holland Glade Road\, Rehoboth Beach\, DE\, 19971\, United States
CATEGORIES:Church,Groups
END:VEVENT
BEGIN:VEVENT
DTSTART;TZID=America/New_York:20270601T120000
DTEND;TZID=America/New_York:20270601T140000
DTSTAMP:20260425T203146
CREATED:20231101T154604Z
LAST-MODIFIED:20231101T154604Z
UID:10010638-1811851200-1811858400@epworth.faith
SUMMARY:Staff Meeting (Conference Room)
DESCRIPTION:
URL:https://epworth.faith/event/staff-meeting-conference-room/2027-06-01/
LOCATION:Epworth United Methodist Church\, 19285 Holland Glade Road\, Rehoboth Beach\, DE\, 19971\, United States
CATEGORIES:Church,Staff
ORGANIZER;CN="Vicki Gordy-Stith":MAILTO:vgordy-stith@epworth.faith
END:VEVENT
END:VCALENDAR