BEGIN:VCALENDAR
VERSION:2.0
PRODID:-//Epworth UMC - ECPv6.15.20//NONSGML v1.0//EN
CALSCALE:GREGORIAN
METHOD:PUBLISH
X-WR-CALNAME:Epworth UMC
X-ORIGINAL-URL:https://epworth.faith
X-WR-CALDESC:Events for Epworth UMC
REFRESH-INTERVAL;VALUE=DURATION:PT1H
X-Robots-Tag:noindex
X-PUBLISHED-TTL:PT1H
BEGIN:VTIMEZONE
TZID:America/New_York
BEGIN:DAYLIGHT
TZOFFSETFROM:-0500
TZOFFSETTO:-0400
TZNAME:EDT
DTSTART:20250309T070000
END:DAYLIGHT
BEGIN:STANDARD
TZOFFSETFROM:-0400
TZOFFSETTO:-0500
TZNAME:EST
DTSTART:20251102T060000
END:STANDARD
BEGIN:DAYLIGHT
TZOFFSETFROM:-0500
TZOFFSETTO:-0400
TZNAME:EDT
DTSTART:20260308T070000
END:DAYLIGHT
BEGIN:STANDARD
TZOFFSETFROM:-0400
TZOFFSETTO:-0500
TZNAME:EST
DTSTART:20261101T060000
END:STANDARD
BEGIN:DAYLIGHT
TZOFFSETFROM:-0500
TZOFFSETTO:-0400
TZNAME:EDT
DTSTART:20270314T070000
END:DAYLIGHT
BEGIN:STANDARD
TZOFFSETFROM:-0400
TZOFFSETTO:-0500
TZNAME:EST
DTSTART:20271107T060000
END:STANDARD
BEGIN:DAYLIGHT
TZOFFSETFROM:-0500
TZOFFSETTO:-0400
TZNAME:EDT
DTSTART:20280312T070000
END:DAYLIGHT
BEGIN:STANDARD
TZOFFSETFROM:-0400
TZOFFSETTO:-0500
TZNAME:EST
DTSTART:20281105T060000
END:STANDARD
BEGIN:DAYLIGHT
TZOFFSETFROM:-0500
TZOFFSETTO:-0400
TZNAME:EDT
DTSTART:20290311T070000
END:DAYLIGHT
BEGIN:STANDARD
TZOFFSETFROM:-0400
TZOFFSETTO:-0500
TZNAME:EST
DTSTART:20291104T060000
END:STANDARD
END:VTIMEZONE
BEGIN:VEVENT
DTSTART;TZID=America/New_York:20260527T133000
DTEND;TZID=America/New_York:20260527T153000
DTSTAMP:20260423T135241
CREATED:20260226T161400Z
LAST-MODIFIED:20260226T161400Z
UID:10021700-1779888600-1779895800@epworth.faith
SUMMARY:Parkinson's Group Meeting/Activity (Branford Lounge)
DESCRIPTION:
URL:https://epworth.faith/event/parkinsons-group-meeting-activity-branford-lounge/2026-05-27/
LOCATION:Epworth United Methodist Church\, 19285 Holland Glade Road\, Rehoboth Beach\, DE\, 19971\, United States
CATEGORIES:Church,Groups
END:VEVENT
BEGIN:VEVENT
DTSTART;TZID=America/New_York:20260624T133000
DTEND;TZID=America/New_York:20260624T153000
DTSTAMP:20260423T135241
CREATED:20260226T161400Z
LAST-MODIFIED:20260226T161400Z
UID:10021701-1782307800-1782315000@epworth.faith
SUMMARY:Parkinson's Group Meeting/Activity (Branford Lounge)
DESCRIPTION:
URL:https://epworth.faith/event/parkinsons-group-meeting-activity-branford-lounge/2026-06-24/
LOCATION:Epworth United Methodist Church\, 19285 Holland Glade Road\, Rehoboth Beach\, DE\, 19971\, United States
CATEGORIES:Church,Groups
END:VEVENT
BEGIN:VEVENT
DTSTART;TZID=America/New_York:20260722T133000
DTEND;TZID=America/New_York:20260722T153000
DTSTAMP:20260423T135241
CREATED:20260226T161400Z
LAST-MODIFIED:20260226T161400Z
UID:10021702-1784727000-1784734200@epworth.faith
SUMMARY:Parkinson's Group Meeting/Activity (Branford Lounge)
DESCRIPTION:
URL:https://epworth.faith/event/parkinsons-group-meeting-activity-branford-lounge/2026-07-22/
LOCATION:Epworth United Methodist Church\, 19285 Holland Glade Road\, Rehoboth Beach\, DE\, 19971\, United States
CATEGORIES:Church,Groups
END:VEVENT
BEGIN:VEVENT
DTSTART;TZID=America/New_York:20260826T133000
DTEND;TZID=America/New_York:20260826T153000
DTSTAMP:20260423T135241
CREATED:20260226T161400Z
LAST-MODIFIED:20260226T161400Z
UID:10021703-1787751000-1787758200@epworth.faith
SUMMARY:Parkinson's Group Meeting/Activity (Branford Lounge)
DESCRIPTION:
URL:https://epworth.faith/event/parkinsons-group-meeting-activity-branford-lounge/2026-08-26/
LOCATION:Epworth United Methodist Church\, 19285 Holland Glade Road\, Rehoboth Beach\, DE\, 19971\, United States
CATEGORIES:Church,Groups
END:VEVENT
BEGIN:VEVENT
DTSTART;TZID=America/New_York:20260923T133000
DTEND;TZID=America/New_York:20260923T153000
DTSTAMP:20260423T135241
CREATED:20260226T161400Z
LAST-MODIFIED:20260226T161400Z
UID:10021704-1790170200-1790177400@epworth.faith
SUMMARY:Parkinson's Group Meeting/Activity (Branford Lounge)
DESCRIPTION:
URL:https://epworth.faith/event/parkinsons-group-meeting-activity-branford-lounge/2026-09-23/
LOCATION:Epworth United Methodist Church\, 19285 Holland Glade Road\, Rehoboth Beach\, DE\, 19971\, United States
CATEGORIES:Church,Groups
END:VEVENT
BEGIN:VEVENT
DTSTART;TZID=America/New_York:20261028T133000
DTEND;TZID=America/New_York:20261028T153000
DTSTAMP:20260423T135241
CREATED:20260226T161400Z
LAST-MODIFIED:20260226T161400Z
UID:10021705-1793194200-1793201400@epworth.faith
SUMMARY:Parkinson's Group Meeting/Activity (Branford Lounge)
DESCRIPTION:
URL:https://epworth.faith/event/parkinsons-group-meeting-activity-branford-lounge/2026-10-28/
LOCATION:Epworth United Methodist Church\, 19285 Holland Glade Road\, Rehoboth Beach\, DE\, 19971\, United States
CATEGORIES:Church,Groups
END:VEVENT
BEGIN:VEVENT
DTSTART;TZID=America/New_York:20261125T133000
DTEND;TZID=America/New_York:20261125T153000
DTSTAMP:20260423T135241
CREATED:20260226T161400Z
LAST-MODIFIED:20260226T161400Z
UID:10021706-1795613400-1795620600@epworth.faith
SUMMARY:Parkinson's Group Meeting/Activity (Branford Lounge)
DESCRIPTION:
URL:https://epworth.faith/event/parkinsons-group-meeting-activity-branford-lounge/2026-11-25/
LOCATION:Epworth United Methodist Church\, 19285 Holland Glade Road\, Rehoboth Beach\, DE\, 19971\, United States
CATEGORIES:Church,Groups
END:VEVENT
BEGIN:VEVENT
DTSTART;TZID=America/New_York:20261223T133000
DTEND;TZID=America/New_York:20261223T153000
DTSTAMP:20260423T135241
CREATED:20260226T161400Z
LAST-MODIFIED:20260226T161400Z
UID:10021707-1798032600-1798039800@epworth.faith
SUMMARY:Parkinson's Group Meeting/Activity (Branford Lounge)
DESCRIPTION:
URL:https://epworth.faith/event/parkinsons-group-meeting-activity-branford-lounge/2026-12-23/
LOCATION:Epworth United Methodist Church\, 19285 Holland Glade Road\, Rehoboth Beach\, DE\, 19971\, United States
CATEGORIES:Church,Groups
END:VEVENT
BEGIN:VEVENT
DTSTART;TZID=America/New_York:20270127T133000
DTEND;TZID=America/New_York:20270127T153000
DTSTAMP:20260423T135241
CREATED:20260226T161400Z
LAST-MODIFIED:20260226T161400Z
UID:10021708-1801056600-1801063800@epworth.faith
SUMMARY:Parkinson's Group Meeting/Activity (Branford Lounge)
DESCRIPTION:
URL:https://epworth.faith/event/parkinsons-group-meeting-activity-branford-lounge/2027-01-27/
LOCATION:Epworth United Methodist Church\, 19285 Holland Glade Road\, Rehoboth Beach\, DE\, 19971\, United States
CATEGORIES:Church,Groups
END:VEVENT
BEGIN:VEVENT
DTSTART;TZID=America/New_York:20270224T133000
DTEND;TZID=America/New_York:20270224T153000
DTSTAMP:20260423T135241
CREATED:20260226T161400Z
LAST-MODIFIED:20260226T161400Z
UID:10021709-1803475800-1803483000@epworth.faith
SUMMARY:Parkinson's Group Meeting/Activity (Branford Lounge)
DESCRIPTION:
URL:https://epworth.faith/event/parkinsons-group-meeting-activity-branford-lounge/2027-02-24/
LOCATION:Epworth United Methodist Church\, 19285 Holland Glade Road\, Rehoboth Beach\, DE\, 19971\, United States
CATEGORIES:Church,Groups
END:VEVENT
BEGIN:VEVENT
DTSTART;TZID=America/New_York:20270324T133000
DTEND;TZID=America/New_York:20270324T153000
DTSTAMP:20260423T135241
CREATED:20260226T161400Z
LAST-MODIFIED:20260226T161400Z
UID:10021710-1805895000-1805902200@epworth.faith
SUMMARY:Parkinson's Group Meeting/Activity (Branford Lounge)
DESCRIPTION:
URL:https://epworth.faith/event/parkinsons-group-meeting-activity-branford-lounge/2027-03-24/
LOCATION:Epworth United Methodist Church\, 19285 Holland Glade Road\, Rehoboth Beach\, DE\, 19971\, United States
CATEGORIES:Church,Groups
END:VEVENT
BEGIN:VEVENT
DTSTART;TZID=America/New_York:20270428T133000
DTEND;TZID=America/New_York:20270428T153000
DTSTAMP:20260423T135241
CREATED:20260226T161400Z
LAST-MODIFIED:20260226T161400Z
UID:10021711-1808919000-1808926200@epworth.faith
SUMMARY:Parkinson's Group Meeting/Activity (Branford Lounge)
DESCRIPTION:
URL:https://epworth.faith/event/parkinsons-group-meeting-activity-branford-lounge/2027-04-28/
LOCATION:Epworth United Methodist Church\, 19285 Holland Glade Road\, Rehoboth Beach\, DE\, 19971\, United States
CATEGORIES:Church,Groups
END:VEVENT
BEGIN:VEVENT
DTSTART;TZID=America/New_York:20270526T133000
DTEND;TZID=America/New_York:20270526T153000
DTSTAMP:20260423T135241
CREATED:20260226T161400Z
LAST-MODIFIED:20260226T161400Z
UID:10021712-1811338200-1811345400@epworth.faith
SUMMARY:Parkinson's Group Meeting/Activity (Branford Lounge)
DESCRIPTION:
URL:https://epworth.faith/event/parkinsons-group-meeting-activity-branford-lounge/2027-05-26/
LOCATION:Epworth United Methodist Church\, 19285 Holland Glade Road\, Rehoboth Beach\, DE\, 19971\, United States
CATEGORIES:Church,Groups
END:VEVENT
BEGIN:VEVENT
DTSTART;TZID=America/New_York:20270623T133000
DTEND;TZID=America/New_York:20270623T153000
DTSTAMP:20260423T135241
CREATED:20260226T161400Z
LAST-MODIFIED:20260226T161400Z
UID:10021713-1813757400-1813764600@epworth.faith
SUMMARY:Parkinson's Group Meeting/Activity (Branford Lounge)
DESCRIPTION:
URL:https://epworth.faith/event/parkinsons-group-meeting-activity-branford-lounge/2027-06-23/
LOCATION:Epworth United Methodist Church\, 19285 Holland Glade Road\, Rehoboth Beach\, DE\, 19971\, United States
CATEGORIES:Church,Groups
END:VEVENT
BEGIN:VEVENT
DTSTART;TZID=America/New_York:20270728T133000
DTEND;TZID=America/New_York:20270728T153000
DTSTAMP:20260423T135241
CREATED:20260226T161400Z
LAST-MODIFIED:20260226T161400Z
UID:10021714-1816781400-1816788600@epworth.faith
SUMMARY:Parkinson's Group Meeting/Activity (Branford Lounge)
DESCRIPTION:
URL:https://epworth.faith/event/parkinsons-group-meeting-activity-branford-lounge/2027-07-28/
LOCATION:Epworth United Methodist Church\, 19285 Holland Glade Road\, Rehoboth Beach\, DE\, 19971\, United States
CATEGORIES:Church,Groups
END:VEVENT
BEGIN:VEVENT
DTSTART;TZID=America/New_York:20270825T133000
DTEND;TZID=America/New_York:20270825T153000
DTSTAMP:20260423T135241
CREATED:20260226T161400Z
LAST-MODIFIED:20260226T161400Z
UID:10021715-1819200600-1819207800@epworth.faith
SUMMARY:Parkinson's Group Meeting/Activity (Branford Lounge)
DESCRIPTION:
URL:https://epworth.faith/event/parkinsons-group-meeting-activity-branford-lounge/2027-08-25/
LOCATION:Epworth United Methodist Church\, 19285 Holland Glade Road\, Rehoboth Beach\, DE\, 19971\, United States
CATEGORIES:Church,Groups
END:VEVENT
BEGIN:VEVENT
DTSTART;TZID=America/New_York:20270922T133000
DTEND;TZID=America/New_York:20270922T153000
DTSTAMP:20260423T135241
CREATED:20260226T161400Z
LAST-MODIFIED:20260226T161400Z
UID:10021716-1821619800-1821627000@epworth.faith
SUMMARY:Parkinson's Group Meeting/Activity (Branford Lounge)
DESCRIPTION:
URL:https://epworth.faith/event/parkinsons-group-meeting-activity-branford-lounge/2027-09-22/
LOCATION:Epworth United Methodist Church\, 19285 Holland Glade Road\, Rehoboth Beach\, DE\, 19971\, United States
CATEGORIES:Church,Groups
END:VEVENT
BEGIN:VEVENT
DTSTART;TZID=America/New_York:20271027T133000
DTEND;TZID=America/New_York:20271027T153000
DTSTAMP:20260423T135241
CREATED:20260226T161400Z
LAST-MODIFIED:20260226T161400Z
UID:10021717-1824643800-1824651000@epworth.faith
SUMMARY:Parkinson's Group Meeting/Activity (Branford Lounge)
DESCRIPTION:
URL:https://epworth.faith/event/parkinsons-group-meeting-activity-branford-lounge/2027-10-27/
LOCATION:Epworth United Methodist Church\, 19285 Holland Glade Road\, Rehoboth Beach\, DE\, 19971\, United States
CATEGORIES:Church,Groups
END:VEVENT
BEGIN:VEVENT
DTSTART;TZID=America/New_York:20271124T133000
DTEND;TZID=America/New_York:20271124T153000
DTSTAMP:20260423T135241
CREATED:20260226T161400Z
LAST-MODIFIED:20260226T161400Z
UID:10021718-1827063000-1827070200@epworth.faith
SUMMARY:Parkinson's Group Meeting/Activity (Branford Lounge)
DESCRIPTION:
URL:https://epworth.faith/event/parkinsons-group-meeting-activity-branford-lounge/2027-11-24/
LOCATION:Epworth United Methodist Church\, 19285 Holland Glade Road\, Rehoboth Beach\, DE\, 19971\, United States
CATEGORIES:Church,Groups
END:VEVENT
BEGIN:VEVENT
DTSTART;TZID=America/New_York:20271222T133000
DTEND;TZID=America/New_York:20271222T153000
DTSTAMP:20260423T135241
CREATED:20260226T161400Z
LAST-MODIFIED:20260226T161400Z
UID:10021719-1829482200-1829489400@epworth.faith
SUMMARY:Parkinson's Group Meeting/Activity (Branford Lounge)
DESCRIPTION:
URL:https://epworth.faith/event/parkinsons-group-meeting-activity-branford-lounge/2027-12-22/
LOCATION:Epworth United Methodist Church\, 19285 Holland Glade Road\, Rehoboth Beach\, DE\, 19971\, United States
CATEGORIES:Church,Groups
END:VEVENT
BEGIN:VEVENT
DTSTART;TZID=America/New_York:20280126T133000
DTEND;TZID=America/New_York:20280126T153000
DTSTAMP:20260423T135241
CREATED:20260226T161400Z
LAST-MODIFIED:20260226T161400Z
UID:10021720-1832506200-1832513400@epworth.faith
SUMMARY:Parkinson's Group Meeting/Activity (Branford Lounge)
DESCRIPTION:
URL:https://epworth.faith/event/parkinsons-group-meeting-activity-branford-lounge/2028-01-26/
LOCATION:Epworth United Methodist Church\, 19285 Holland Glade Road\, Rehoboth Beach\, DE\, 19971\, United States
CATEGORIES:Church,Groups
END:VEVENT
BEGIN:VEVENT
DTSTART;TZID=America/New_York:20280223T133000
DTEND;TZID=America/New_York:20280223T153000
DTSTAMP:20260423T135241
CREATED:20260226T161400Z
LAST-MODIFIED:20260226T161400Z
UID:10021721-1834925400-1834932600@epworth.faith
SUMMARY:Parkinson's Group Meeting/Activity (Branford Lounge)
DESCRIPTION:
URL:https://epworth.faith/event/parkinsons-group-meeting-activity-branford-lounge/2028-02-23/
LOCATION:Epworth United Methodist Church\, 19285 Holland Glade Road\, Rehoboth Beach\, DE\, 19971\, United States
CATEGORIES:Church,Groups
END:VEVENT
BEGIN:VEVENT
DTSTART;TZID=America/New_York:20280322T133000
DTEND;TZID=America/New_York:20280322T153000
DTSTAMP:20260423T135241
CREATED:20260226T161400Z
LAST-MODIFIED:20260226T161400Z
UID:10021722-1837344600-1837351800@epworth.faith
SUMMARY:Parkinson's Group Meeting/Activity (Branford Lounge)
DESCRIPTION:
URL:https://epworth.faith/event/parkinsons-group-meeting-activity-branford-lounge/2028-03-22/
LOCATION:Epworth United Methodist Church\, 19285 Holland Glade Road\, Rehoboth Beach\, DE\, 19971\, United States
CATEGORIES:Church,Groups
END:VEVENT
BEGIN:VEVENT
DTSTART;TZID=America/New_York:20280426T133000
DTEND;TZID=America/New_York:20280426T153000
DTSTAMP:20260423T135241
CREATED:20260226T161400Z
LAST-MODIFIED:20260226T161400Z
UID:10021723-1840368600-1840375800@epworth.faith
SUMMARY:Parkinson's Group Meeting/Activity (Branford Lounge)
DESCRIPTION:
URL:https://epworth.faith/event/parkinsons-group-meeting-activity-branford-lounge/2028-04-26/
LOCATION:Epworth United Methodist Church\, 19285 Holland Glade Road\, Rehoboth Beach\, DE\, 19971\, United States
CATEGORIES:Church,Groups
END:VEVENT
BEGIN:VEVENT
DTSTART;TZID=America/New_York:20280524T133000
DTEND;TZID=America/New_York:20280524T153000
DTSTAMP:20260423T135241
CREATED:20260226T161400Z
LAST-MODIFIED:20260226T161400Z
UID:10021724-1842787800-1842795000@epworth.faith
SUMMARY:Parkinson's Group Meeting/Activity (Branford Lounge)
DESCRIPTION:
URL:https://epworth.faith/event/parkinsons-group-meeting-activity-branford-lounge/2028-05-24/
LOCATION:Epworth United Methodist Church\, 19285 Holland Glade Road\, Rehoboth Beach\, DE\, 19971\, United States
CATEGORIES:Church,Groups
END:VEVENT
BEGIN:VEVENT
DTSTART;TZID=America/New_York:20280628T133000
DTEND;TZID=America/New_York:20280628T153000
DTSTAMP:20260423T135241
CREATED:20260226T161400Z
LAST-MODIFIED:20260226T161400Z
UID:10021725-1845811800-1845819000@epworth.faith
SUMMARY:Parkinson's Group Meeting/Activity (Branford Lounge)
DESCRIPTION:
URL:https://epworth.faith/event/parkinsons-group-meeting-activity-branford-lounge/2028-06-28/
LOCATION:Epworth United Methodist Church\, 19285 Holland Glade Road\, Rehoboth Beach\, DE\, 19971\, United States
CATEGORIES:Church,Groups
END:VEVENT
BEGIN:VEVENT
DTSTART;TZID=America/New_York:20280726T133000
DTEND;TZID=America/New_York:20280726T153000
DTSTAMP:20260423T135241
CREATED:20260226T161400Z
LAST-MODIFIED:20260226T161400Z
UID:10021726-1848231000-1848238200@epworth.faith
SUMMARY:Parkinson's Group Meeting/Activity (Branford Lounge)
DESCRIPTION:
URL:https://epworth.faith/event/parkinsons-group-meeting-activity-branford-lounge/2028-07-26/
LOCATION:Epworth United Methodist Church\, 19285 Holland Glade Road\, Rehoboth Beach\, DE\, 19971\, United States
CATEGORIES:Church,Groups
END:VEVENT
BEGIN:VEVENT
DTSTART;TZID=America/New_York:20280823T133000
DTEND;TZID=America/New_York:20280823T153000
DTSTAMP:20260423T135241
CREATED:20260226T161400Z
LAST-MODIFIED:20260226T161400Z
UID:10021727-1850650200-1850657400@epworth.faith
SUMMARY:Parkinson's Group Meeting/Activity (Branford Lounge)
DESCRIPTION:
URL:https://epworth.faith/event/parkinsons-group-meeting-activity-branford-lounge/2028-08-23/
LOCATION:Epworth United Methodist Church\, 19285 Holland Glade Road\, Rehoboth Beach\, DE\, 19971\, United States
CATEGORIES:Church,Groups
END:VEVENT
BEGIN:VEVENT
DTSTART;TZID=America/New_York:20280927T133000
DTEND;TZID=America/New_York:20280927T153000
DTSTAMP:20260423T135241
CREATED:20260226T161400Z
LAST-MODIFIED:20260226T161400Z
UID:10021728-1853674200-1853681400@epworth.faith
SUMMARY:Parkinson's Group Meeting/Activity (Branford Lounge)
DESCRIPTION:
URL:https://epworth.faith/event/parkinsons-group-meeting-activity-branford-lounge/2028-09-27/
LOCATION:Epworth United Methodist Church\, 19285 Holland Glade Road\, Rehoboth Beach\, DE\, 19971\, United States
CATEGORIES:Church,Groups
END:VEVENT
BEGIN:VEVENT
DTSTART;TZID=America/New_York:20281025T133000
DTEND;TZID=America/New_York:20281025T153000
DTSTAMP:20260423T135241
CREATED:20260226T161400Z
LAST-MODIFIED:20260226T161400Z
UID:10021729-1856093400-1856100600@epworth.faith
SUMMARY:Parkinson's Group Meeting/Activity (Branford Lounge)
DESCRIPTION:
URL:https://epworth.faith/event/parkinsons-group-meeting-activity-branford-lounge/2028-10-25/
LOCATION:Epworth United Methodist Church\, 19285 Holland Glade Road\, Rehoboth Beach\, DE\, 19971\, United States
CATEGORIES:Church,Groups
END:VEVENT
END:VCALENDAR