BEGIN:VCALENDAR
VERSION:2.0
PRODID:-//Epworth UMC - ECPv6.15.20//NONSGML v1.0//EN
CALSCALE:GREGORIAN
METHOD:PUBLISH
X-ORIGINAL-URL:https://epworth.faith
X-WR-CALDESC:Events for Epworth UMC
REFRESH-INTERVAL;VALUE=DURATION:PT1H
X-Robots-Tag:noindex
X-PUBLISHED-TTL:PT1H
BEGIN:VTIMEZONE
TZID:America/New_York
BEGIN:DAYLIGHT
TZOFFSETFROM:-0500
TZOFFSETTO:-0400
TZNAME:EDT
DTSTART:20240310T070000
END:DAYLIGHT
BEGIN:STANDARD
TZOFFSETFROM:-0400
TZOFFSETTO:-0500
TZNAME:EST
DTSTART:20241103T060000
END:STANDARD
BEGIN:DAYLIGHT
TZOFFSETFROM:-0500
TZOFFSETTO:-0400
TZNAME:EDT
DTSTART:20250309T070000
END:DAYLIGHT
BEGIN:STANDARD
TZOFFSETFROM:-0400
TZOFFSETTO:-0500
TZNAME:EST
DTSTART:20251102T060000
END:STANDARD
BEGIN:DAYLIGHT
TZOFFSETFROM:-0500
TZOFFSETTO:-0400
TZNAME:EDT
DTSTART:20260308T070000
END:DAYLIGHT
BEGIN:STANDARD
TZOFFSETFROM:-0400
TZOFFSETTO:-0500
TZNAME:EST
DTSTART:20261101T060000
END:STANDARD
END:VTIMEZONE
BEGIN:VEVENT
DTSTART;TZID=America/New_York:20250112T100000
DTEND;TZID=America/New_York:20250112T110000
DTSTAMP:20260425T211731
CREATED:20230909T152658Z
LAST-MODIFIED:20230909T161232Z
UID:10009080-1736676000-1736679600@epworth.faith
SUMMARY:Blended ASL Worship Service (Sanctuary & Online)
DESCRIPTION:YouTube Livestream\nYouTube ASL Livestream\nFacebook Livestream
URL:https://epworth.faith/event/blended-worship-service-sanctuary-on-line-2/2025-01-12/
LOCATION:Epworth United Methodist Church\, 19285 Holland Glade Road\, Rehoboth Beach\, DE\, 19971\, United States
CATEGORIES:Worship
ORGANIZER;CN="Vicki Gordy-Stith":MAILTO:vgordy-stith@epworth.faith
END:VEVENT
BEGIN:VEVENT
DTSTART;TZID=America/New_York:20250112T111500
DTEND;TZID=America/New_York:20250112T114500
DTSTAMP:20260425T211731
CREATED:20241120T193843Z
LAST-MODIFIED:20241120T193843Z
UID:10015187-1736680500-1736682300@epworth.faith
SUMMARY:Stephen Ministry Prayer Chapel (Baker Room)
DESCRIPTION:
URL:https://epworth.faith/event/stephen-ministry-prayer-chapel-baker-room/2025-01-12/
LOCATION:Epworth United Methodist Church\, 19285 Holland Glade Road\, Rehoboth Beach\, DE\, 19971\, United States
CATEGORIES:Church,Groups
END:VEVENT
BEGIN:VEVENT
DTSTART;TZID=America/New_York:20250112T113000
DTEND;TZID=America/New_York:20250112T123000
DTSTAMP:20260425T211731
CREATED:20240826T184533Z
LAST-MODIFIED:20240826T184533Z
UID:10014045-1736681400-1736685000@epworth.faith
SUMMARY:Meet Me @ Epworth Group Bible Study (Branford Lounge)
DESCRIPTION:
URL:https://epworth.faith/event/meet-me-epworth-group-bible-study-branford-lounge/2025-01-12/
LOCATION:Epworth United Methodist Church\, 19285 Holland Glade Road\, Rehoboth Beach\, DE\, 19971\, United States
CATEGORIES:Church,Groups
ORGANIZER;CN="Mickie McManamon":MAILTO:mmcmanamon@epworth.faith
END:VEVENT
BEGIN:VEVENT
DTSTART;TZID=America/New_York:20250112T113000
DTEND;TZID=America/New_York:20250112T130000
DTSTAMP:20260425T211731
CREATED:20241113T181438Z
LAST-MODIFIED:20250109T184622Z
UID:10015178-1736681400-1736686800@epworth.faith
SUMMARY:Emmaus Walk Meeting (Starnes Room)
DESCRIPTION:
URL:https://epworth.faith/event/emmaus-walk-meeting-baker-room/
LOCATION:Epworth United Methodist Church\, 19285 Holland Glade Road\, Rehoboth Beach\, DE\, 19971\, United States
CATEGORIES:Church,Groups
ORGANIZER;CN="Robin Duer":MAILTO:beachrobin12@aol.com
END:VEVENT
BEGIN:VEVENT
DTSTART;TZID=America/New_York:20250112T113000
DTEND;TZID=America/New_York:20250112T130000
DTSTAMP:20260425T211731
CREATED:20241212T154154Z
LAST-MODIFIED:20241212T154154Z
UID:10015260-1736681400-1736686800@epworth.faith
SUMMARY:New Member Orientation (Office Conference Room)
DESCRIPTION:
URL:https://epworth.faith/event/new-member-orientation-office-conference-room/
LOCATION:Epworth United Methodist Church\, 19285 Holland Glade Road\, Rehoboth Beach\, DE\, 19971\, United States
CATEGORIES:Church,Groups
ORGANIZER;CN="Todd Popham":MAILTO:sakjstr@udel.edu
END:VEVENT
BEGIN:VEVENT
DTSTART;TZID=America/New_York:20250113T170000
DTEND;TZID=America/New_York:20250113T180000
DTSTAMP:20260425T211731
CREATED:20240905T122003Z
LAST-MODIFIED:20251023T143906Z
UID:10014266-1736787600-1736791200@epworth.faith
SUMMARY:Alanon Newcomers (Baker Room)
DESCRIPTION:
URL:https://epworth.faith/event/alanon-newcomers-baker-room/2025-01-13/
LOCATION:Epworth United Methodist Church\, 19285 Holland Glade Road\, Rehoboth Beach\, DE\, 19971\, United States
CATEGORIES:Church,Groups
END:VEVENT
BEGIN:VEVENT
DTSTART;TZID=America/New_York:20250113T170000
DTEND;TZID=America/New_York:20250113T190000
DTSTAMP:20260425T211731
CREATED:20250109T155632Z
LAST-MODIFIED:20250109T155632Z
UID:10015326-1736787600-1736794800@epworth.faith
SUMMARY:Kiva Club Meeting (Youth Room)
DESCRIPTION:
URL:https://epworth.faith/event/kiva-club-meeting-youth-room/
LOCATION:Epworth United Methodist Church\, 19285 Holland Glade Road\, Rehoboth Beach\, DE\, 19971\, United States
CATEGORIES:Church,Groups
ORGANIZER;CN="Jackie Shockley":MAILTO:jacshock@aol.com
END:VEVENT
BEGIN:VEVENT
DTSTART;TZID=America/New_York:20250113T180000
DTEND;TZID=America/New_York:20250113T190000
DTSTAMP:20260425T211731
CREATED:20240905T122138Z
LAST-MODIFIED:20251023T144119Z
UID:10014318-1736791200-1736794800@epworth.faith
SUMMARY:Alanon Meeting (Branford Room)
DESCRIPTION:
URL:https://epworth.faith/event/alanon-meeting-branford-room-2/2025-01-13/
LOCATION:Epworth United Methodist Church\, 19285 Holland Glade Road\, Rehoboth Beach\, DE\, 19971\, United States
CATEGORIES:Church,Groups
END:VEVENT
BEGIN:VEVENT
DTSTART;TZID=America/New_York:20250113T183000
DTEND;TZID=America/New_York:20250113T200000
DTSTAMP:20260425T211731
CREATED:20241218T141355Z
LAST-MODIFIED:20250310T151651Z
UID:10015263-1736793000-1736798400@epworth.faith
SUMMARY:Small Study Group - Searching for Jesus (Starnes Room)
DESCRIPTION:
URL:https://epworth.faith/event/small-study-group-searching-for-jesus-starnes-room/2025-01-13/
LOCATION:Epworth United Methodist Church\, 19285 Holland Glade Road\, Rehoboth Beach\, DE\, 19971\, United States
CATEGORIES:Church,Groups
ORGANIZER;CN="David Garrett":MAILTO:dlgarrett4rb@gmail.com
END:VEVENT
BEGIN:VEVENT
DTSTART;TZID=America/New_York:20250114T090000
DTEND;TZID=America/New_York:20250114T110000
DTSTAMP:20260425T211731
CREATED:20240905T123904Z
LAST-MODIFIED:20240905T123904Z
UID:10014630-1736845200-1736852400@epworth.faith
SUMMARY:Book Study (Branford Room)
DESCRIPTION:
URL:https://epworth.faith/event/book-study-branford-room/2025-01-14/
LOCATION:Epworth United Methodist Church\, 19285 Holland Glade Road\, Rehoboth Beach\, DE\, 19971\, United States
CATEGORIES:Church,Groups
ORGANIZER;CN="Lee Ann Walling":MAILTO:leeawalling@gmail.com
END:VEVENT
BEGIN:VEVENT
DTSTART;TZID=America/New_York:20250114T093000
DTEND;TZID=America/New_York:20250114T120000
DTSTAMP:20260425T211731
CREATED:20250109T160447Z
LAST-MODIFIED:20250109T160447Z
UID:10015332-1736847000-1736856000@epworth.faith
SUMMARY:Boys & Girls Club Committee Meeting (Baker Room)
DESCRIPTION:
URL:https://epworth.faith/event/boys-girls-club-committee-meeting-baker-room/
LOCATION:Epworth United Methodist Church\, 19285 Holland Glade Road\, Rehoboth Beach\, DE\, 19971\, United States
CATEGORIES:Church,Groups
ORGANIZER;CN="Toshana Towles":MAILTO:ttowles@bgclubs.org
END:VEVENT
BEGIN:VEVENT
DTSTART;TZID=America/New_York:20250114T120000
DTEND;TZID=America/New_York:20250114T140000
DTSTAMP:20260425T211731
CREATED:20231101T154604Z
LAST-MODIFIED:20231101T154604Z
UID:10010514-1736856000-1736863200@epworth.faith
SUMMARY:Staff Meeting (Conference Room)
DESCRIPTION:
URL:https://epworth.faith/event/staff-meeting-conference-room/2025-01-14/
LOCATION:Epworth United Methodist Church\, 19285 Holland Glade Road\, Rehoboth Beach\, DE\, 19971\, United States
CATEGORIES:Church,Staff
ORGANIZER;CN="Vicki Gordy-Stith":MAILTO:vgordy-stith@epworth.faith
END:VEVENT
BEGIN:VEVENT
DTSTART;TZID=America/New_York:20250114T180000
DTEND;TZID=America/New_York:20250114T190000
DTSTAMP:20260425T211731
CREATED:20240905T121346Z
LAST-MODIFIED:20251023T144445Z
UID:10014110-1736877600-1736881200@epworth.faith
SUMMARY:Alanon Meeting (Branford Room)
DESCRIPTION:
URL:https://epworth.faith/event/alanon-meeting-branford-room/2025-01-14/
LOCATION:Epworth United Methodist Church\, 19285 Holland Glade Road\, Rehoboth Beach\, DE\, 19971\, United States
CATEGORIES:Church,Groups
END:VEVENT
BEGIN:VEVENT
DTSTART;TZID=America/New_York:20250114T190000
DTEND;TZID=America/New_York:20250114T200000
DTSTAMP:20260425T211731
CREATED:20240905T121615Z
LAST-MODIFIED:20251023T144756Z
UID:10014162-1736881200-1736884800@epworth.faith
SUMMARY:Alanon Meeting (Baker Room)
DESCRIPTION:
URL:https://epworth.faith/event/alanon-meeting-baker-room/2025-01-14/
LOCATION:Epworth United Methodist Church\, 19285 Holland Glade Road\, Rehoboth Beach\, DE\, 19971\, United States
CATEGORIES:Church,Groups
END:VEVENT
BEGIN:VEVENT
DTSTART;TZID=America/New_York:20250114T190000
DTEND;TZID=America/New_York:20250114T200000
DTSTAMP:20260425T211731
CREATED:20240905T121808Z
LAST-MODIFIED:20251023T145128Z
UID:10014214-1736881200-1736884800@epworth.faith
SUMMARY:AA Meeting (Music Room)
DESCRIPTION:
URL:https://epworth.faith/event/aa-meeting-music-room/2025-01-14/
LOCATION:Epworth United Methodist Church\, 19285 Holland Glade Road\, Rehoboth Beach\, DE\, 19971\, United States
CATEGORIES:Church,Groups
END:VEVENT
BEGIN:VEVENT
DTSTART;TZID=America/New_York:20250115T100000
DTEND;TZID=America/New_York:20250115T120000
DTSTAMP:20260425T211731
CREATED:20240509T205948Z
LAST-MODIFIED:20240509T205948Z
UID:10013434-1736935200-1736942400@epworth.faith
SUMMARY:Sisters in Christ Bible Study (Starnes Room)
DESCRIPTION:
URL:https://epworth.faith/event/sisters-in-christ-bible-study-starnes-room/2025-01-15/
LOCATION:Epworth United Methodist Church\, 19285 Holland Glade Road\, Rehoboth Beach\, DE\, 19971\, United States
CATEGORIES:Church,Groups
ORGANIZER;CN="Susan Jimenez":MAILTO:saj19971@gmail.com
END:VEVENT
BEGIN:VEVENT
DTSTART;TZID=America/New_York:20250115T120000
DTEND;TZID=America/New_York:20250115T140000
DTSTAMP:20260425T211731
CREATED:20241203T163647Z
LAST-MODIFIED:20241203T163647Z
UID:10015255-1736942400-1736949600@epworth.faith
SUMMARY:Fundraising Committee Meeting (Office Conference Room)
DESCRIPTION:
URL:https://epworth.faith/event/fundraising-committee-meeting-office-conference-room-5/
LOCATION:Epworth United Methodist Church\, 19285 Holland Glade Road\, Rehoboth Beach\, DE\, 19971\, United States
CATEGORIES:Church,Groups
ORGANIZER;CN="Linda BenderHilt":MAILTO:lbenderhilt@yahoo.com
END:VEVENT
BEGIN:VEVENT
DTSTART;TZID=America/New_York:20250115T173000
DTEND;TZID=America/New_York:20250115T183000
DTSTAMP:20260425T211731
CREATED:20250116T215324Z
LAST-MODIFIED:20250528T122635Z
UID:10016576-1736962200-1736965800@epworth.faith
SUMMARY:Memorial Bells Practice (Music Room)
DESCRIPTION:
URL:https://epworth.faith/event/memorial-bells-practice-music-room/2025-01-15/
LOCATION:Epworth United Methodist Church\, 19285 Holland Glade Road\, Rehoboth Beach\, DE\, 19971\, United States
CATEGORIES:Church,Music
ORGANIZER;CN="Doug Yetter":MAILTO:dyetter@epworth.faith
END:VEVENT
BEGIN:VEVENT
DTSTART;TZID=America/New_York:20250115T183000
DTEND;TZID=America/New_York:20250115T210000
DTSTAMP:20260425T211731
CREATED:20240321T141329Z
LAST-MODIFIED:20240321T141511Z
UID:10012581-1736965800-1736974800@epworth.faith
SUMMARY:ManKind Project (MKP) (Baker Lounge)
DESCRIPTION:
URL:https://epworth.faith/event/mankind-project-mkp-baker-lounge-4/2025-01-15/
LOCATION:Epworth United Methodist Church\, 19285 Holland Glade Road\, Rehoboth Beach\, DE\, 19971\, United States
CATEGORIES:Church,Groups
ORGANIZER;CN="Rick Buske":MAILTO:rick.buske@gmail.com
END:VEVENT
BEGIN:VEVENT
DTSTART;TZID=America/New_York:20250115T190000
DTEND;TZID=America/New_York:20250115T200000
DTSTAMP:20260425T211731
CREATED:20231212T170718Z
LAST-MODIFIED:20231212T170718Z
UID:10011928-1736967600-1736971200@epworth.faith
SUMMARY:Chancel Choir Practice (Music Wing)
DESCRIPTION:
URL:https://epworth.faith/event/chancel-choir-practice-music-wing-2/2025-01-15/
LOCATION:DE
CATEGORIES:Church,Music
END:VEVENT
BEGIN:VEVENT
DTSTART;TZID=America/New_York:20250116T100000
DTEND;TZID=America/New_York:20250116T113000
DTSTAMP:20260425T211731
CREATED:20250115T175521Z
LAST-MODIFIED:20250115T175521Z
UID:10015363-1737021600-1737027000@epworth.faith
SUMMARY:Parkinson's Voice Project Choir Project (Music Room)
DESCRIPTION:
URL:https://epworth.faith/event/parkinsons-voice-project-choir-project-music-room/2025-01-16/
LOCATION:Epworth United Methodist Church\, 19285 Holland Glade Road\, Rehoboth Beach\, DE\, 19971\, United States
CATEGORIES:Church,Groups
ORGANIZER;CN="Doug Yetter":MAILTO:dyetter@epworth.faith
END:VEVENT
BEGIN:VEVENT
DTSTART;TZID=America/New_York:20250116T100000
DTEND;TZID=America/New_York:20250116T120000
DTSTAMP:20260425T211731
CREATED:20250113T211445Z
LAST-MODIFIED:20250113T211445Z
UID:10015358-1737021600-1737028800@epworth.faith
SUMMARY:Plant Sale Committee Meeting (Starnes Room)
DESCRIPTION:
URL:https://epworth.faith/event/plant-sale-committee-meeting-starnes-room/
LOCATION:Epworth United Methodist Church\, 19285 Holland Glade Road\, Rehoboth Beach\, DE\, 19971\, United States
CATEGORIES:Church,Groups
ORGANIZER;CN="Susan Jimenez":MAILTO:saj19971@gmail.com
END:VEVENT
BEGIN:VEVENT
DTSTART;TZID=America/New_York:20250116T110000
DTEND;TZID=America/New_York:20250116T123000
DTSTAMP:20260425T211731
CREATED:20250109T163950Z
LAST-MODIFIED:20250109T164313Z
UID:10015345-1737025200-1737030600@epworth.faith
SUMMARY:Grief Support Group (Baker Room)
DESCRIPTION:
URL:https://epworth.faith/event/grief-support-group-baker-room/2025-01-16/
LOCATION:Epworth United Methodist Church\, 19285 Holland Glade Road\, Rehoboth Beach\, DE\, 19971\, United States
CATEGORIES:Church,Groups
ORGANIZER;CN="Vicki Gordy-Stith":MAILTO:vgordy-stith@epworth.faith
END:VEVENT
BEGIN:VEVENT
DTSTART;TZID=America/New_York:20250116T120000
DTEND;TZID=America/New_York:20250116T130000
DTSTAMP:20260425T211731
CREATED:20240905T122329Z
LAST-MODIFIED:20251023T150055Z
UID:10014371-1737028800-1737032400@epworth.faith
SUMMARY:Alanon Meeting (Branford Room)
DESCRIPTION:
URL:https://epworth.faith/event/alanon-meeting-branford-room-3/2025-01-16/
LOCATION:Epworth United Methodist Church\, 19285 Holland Glade Road\, Rehoboth Beach\, DE\, 19971\, United States
CATEGORIES:Church,Groups
END:VEVENT
BEGIN:VEVENT
DTSTART;TZID=America/New_York:20250116T130000
DTEND;TZID=America/New_York:20250116T143000
DTSTAMP:20260425T211731
CREATED:20250113T150558Z
LAST-MODIFIED:20250116T174857Z
UID:10015357-1737032400-1737037800@epworth.faith
SUMMARY:Social Justice Meeting (Starnes Room)
DESCRIPTION:
URL:https://epworth.faith/event/social-justice-meeting-baker-room/
LOCATION:Epworth United Methodist Church\, 19285 Holland Glade Road\, Rehoboth Beach\, DE\, 19971\, United States
CATEGORIES:Church,Groups
END:VEVENT
BEGIN:VEVENT
DTSTART;TZID=America/New_York:20250116T193000
DTEND;TZID=America/New_York:20250116T203000
DTSTAMP:20260425T211731
CREATED:20240905T122521Z
LAST-MODIFIED:20251023T150301Z
UID:10014423-1737055800-1737059400@epworth.faith
SUMMARY:AA Meeting (Baker Room)
DESCRIPTION:
URL:https://epworth.faith/event/aa-meeting-baker-room/2025-01-16/
LOCATION:Epworth United Methodist Church\, 19285 Holland Glade Road\, Rehoboth Beach\, DE\, 19971\, United States
CATEGORIES:Church,Groups
END:VEVENT
BEGIN:VEVENT
DTSTART;TZID=America/New_York:20250117T190000
DTEND;TZID=America/New_York:20250117T210000
DTSTAMP:20260425T211731
CREATED:20240826T191007Z
LAST-MODIFIED:20240826T191007Z
UID:10014069-1737140400-1737147600@epworth.faith
SUMMARY:Meet Me @ Epworth - Celebrate 2025!  Family Celebration (Fellowship Hall)
DESCRIPTION:
URL:https://epworth.faith/event/meet-me-epworth-celebrate-2025-family-celebration-fellowship-hall/
LOCATION:Epworth United Methodist Church\, 19285 Holland Glade Road\, Rehoboth Beach\, DE\, 19971\, United States
CATEGORIES:Church,Groups
ORGANIZER;CN="Mickie McManamon":MAILTO:mmcmanamon@epworth.faith
END:VEVENT
BEGIN:VEVENT
DTSTART;TZID=America/New_York:20250118T090000
DTEND;TZID=America/New_York:20250118T100000
DTSTAMP:20260425T211731
CREATED:20240905T122704Z
LAST-MODIFIED:20251023T150523Z
UID:10014475-1737190800-1737194400@epworth.faith
SUMMARY:ACA Meeting (Baker Room)
DESCRIPTION:
URL:https://epworth.faith/event/aca-meeting-baker-room/2025-01-18/
LOCATION:Epworth United Methodist Church\, 19285 Holland Glade Road\, Rehoboth Beach\, DE\, 19971\, United States
CATEGORIES:Church,Groups
END:VEVENT
BEGIN:VEVENT
DTSTART;TZID=America/New_York:20250118T100000
DTEND;TZID=America/New_York:20250118T120000
DTSTAMP:20260425T211731
CREATED:20250107T145739Z
LAST-MODIFIED:20250107T145739Z
UID:10015323-1737194400-1737201600@epworth.faith
SUMMARY:Worship Team for Sanctuary Design Change (Sancturary)
DESCRIPTION:
URL:https://epworth.faith/event/worship-team-for-sanctuary-design-change-sancturary/
LOCATION:Epworth United Methodist Church\, 19285 Holland Glade Road\, Rehoboth Beach\, DE\, 19971\, United States
CATEGORIES:Church,Groups
ORGANIZER;CN="Murray Archibald":MAILTO:rma.archibald@gmail.com
END:VEVENT
BEGIN:VEVENT
DTSTART;TZID=America/New_York:20250118T180000
DTEND;TZID=America/New_York:20250118T190000
DTSTAMP:20260425T211731
CREATED:20240905T122918Z
LAST-MODIFIED:20251023T150738Z
UID:10014527-1737223200-1737226800@epworth.faith
SUMMARY:Alanon Meeting (Baker Room)
DESCRIPTION:
URL:https://epworth.faith/event/alanon-meeting-baker-room-2/2025-01-18/
LOCATION:Epworth United Methodist Church\, 19285 Holland Glade Road\, Rehoboth Beach\, DE\, 19971\, United States
CATEGORIES:Church,Groups
END:VEVENT
END:VCALENDAR