BEGIN:VCALENDAR
VERSION:2.0
PRODID:-//Epworth UMC - ECPv6.15.20//NONSGML v1.0//EN
CALSCALE:GREGORIAN
METHOD:PUBLISH
X-ORIGINAL-URL:https://epworth.faith
X-WR-CALDESC:Events for Epworth UMC
REFRESH-INTERVAL;VALUE=DURATION:PT1H
X-Robots-Tag:noindex
X-PUBLISHED-TTL:PT1H
BEGIN:VTIMEZONE
TZID:America/New_York
BEGIN:DAYLIGHT
TZOFFSETFROM:-0500
TZOFFSETTO:-0400
TZNAME:EDT
DTSTART:20240310T070000
END:DAYLIGHT
BEGIN:STANDARD
TZOFFSETFROM:-0400
TZOFFSETTO:-0500
TZNAME:EST
DTSTART:20241103T060000
END:STANDARD
BEGIN:DAYLIGHT
TZOFFSETFROM:-0500
TZOFFSETTO:-0400
TZNAME:EDT
DTSTART:20250309T070000
END:DAYLIGHT
BEGIN:STANDARD
TZOFFSETFROM:-0400
TZOFFSETTO:-0500
TZNAME:EST
DTSTART:20251102T060000
END:STANDARD
BEGIN:DAYLIGHT
TZOFFSETFROM:-0500
TZOFFSETTO:-0400
TZNAME:EDT
DTSTART:20260308T070000
END:DAYLIGHT
BEGIN:STANDARD
TZOFFSETFROM:-0400
TZOFFSETTO:-0500
TZNAME:EST
DTSTART:20261101T060000
END:STANDARD
END:VTIMEZONE
BEGIN:VEVENT
DTSTART;TZID=America/New_York:20250720T100000
DTEND;TZID=America/New_York:20250720T110000
DTSTAMP:20260425T114356
CREATED:20230909T152658Z
LAST-MODIFIED:20230909T161232Z
UID:10009107-1753005600-1753009200@epworth.faith
SUMMARY:Blended ASL Worship Service (Sanctuary & Online)
DESCRIPTION:YouTube Livestream\nYouTube ASL Livestream\nFacebook Livestream
URL:https://epworth.faith/event/blended-worship-service-sanctuary-on-line-2/2025-07-20/
LOCATION:Epworth United Methodist Church\, 19285 Holland Glade Road\, Rehoboth Beach\, DE\, 19971\, United States
CATEGORIES:Worship
ORGANIZER;CN="Vicki Gordy-Stith":MAILTO:vgordy-stith@epworth.faith
END:VEVENT
BEGIN:VEVENT
DTSTART;TZID=America/New_York:20250720T110000
DTEND;TZID=America/New_York:20250720T120000
DTSTAMP:20260425T114356
CREATED:20250213T171024Z
LAST-MODIFIED:20250320T165437Z
UID:10015912-1753009200-1753012800@epworth.faith
SUMMARY:Coffee Conversation - After Service (Fellowship Hall)
DESCRIPTION:
URL:https://epworth.faith/event/coffee-conversation-after-service-fellowship-hall-2/2025-07-20/
LOCATION:Epworth United Methodist Church\, 19285 Holland Glade Road\, Rehoboth Beach\, DE\, 19971\, United States
CATEGORIES:Church,Worship
ORGANIZER;CN="Vicki Gordy-Stith":MAILTO:vgordy-stith@epworth.faith
END:VEVENT
BEGIN:VEVENT
DTSTART;TZID=America/New_York:20250720T110000
DTEND;TZID=America/New_York:20250720T124500
DTSTAMP:20260425T114356
CREATED:20250303T202501Z
LAST-MODIFIED:20250303T202548Z
UID:10015576-1753009200-1753015500@epworth.faith
SUMMARY:Flower Ministry for Arrangements (Starnes Room)
DESCRIPTION:
URL:https://epworth.faith/event/flower-ministry-for-arrangements-starnes-room/2025-07-20/
LOCATION:Epworth United Methodist Church\, 19285 Holland Glade Road\, Rehoboth Beach\, DE\, 19971\, United States
CATEGORIES:Church,Groups
ORGANIZER;CN="Val Linder":MAILTO:rovalinder@comcast.net
END:VEVENT
BEGIN:VEVENT
DTSTART;TZID=America/New_York:20250720T111500
DTEND;TZID=America/New_York:20250720T114500
DTSTAMP:20260425T114356
CREATED:20241120T193843Z
LAST-MODIFIED:20241120T193843Z
UID:10015214-1753010100-1753011900@epworth.faith
SUMMARY:Stephen Ministry Prayer Chapel (Baker Room)
DESCRIPTION:
URL:https://epworth.faith/event/stephen-ministry-prayer-chapel-baker-room/2025-07-20/
LOCATION:Epworth United Methodist Church\, 19285 Holland Glade Road\, Rehoboth Beach\, DE\, 19971\, United States
CATEGORIES:Church,Groups
END:VEVENT
BEGIN:VEVENT
DTSTART;TZID=America/New_York:20250720T140000
DTEND;TZID=America/New_York:20250720T220000
DTSTAMP:20260425T114356
CREATED:20241211T143613Z
LAST-MODIFIED:20250701T145900Z
UID:10015259-1753020000-1753048800@epworth.faith
SUMMARY:Seaside Jewish Community Summer Concert featuring John McCutcheon - 7:00 pm - Doors open at 6:30 pm (Sanctuary & Music Room)
DESCRIPTION:Seaside is pleased to welcome John McCutcheon\, a Grammy nominated singer\, songwriter and multi-instrumentalist musician for its 2024 summer concert.  Along with his storytelling and fun\, listeners will hear this master musician play hammer dulcimer\, banjo\, piano\, harmonica\, guitar and more. His Rehoboth performance is part of an extensive nationwide concert tour. \nTicket Prices\n$36 for Adults\n$18 for Youth (ages 6-18)\nFREE for children under 6 \nAll seats are general admission. \nCheck out John McCutcheon at  https://www.youtube.com/watch?v=uH40q-nsXNA  and https://www.youtube.com/watch?v=Qfw6Y1xNyng
URL:https://epworth.faith/event/seaside-jewish-community-summer-concert-sanctuary-music-room/
LOCATION:Epworth United Methodist Church\, 19285 Holland Glade Road\, Rehoboth Beach\, DE\, 19971\, United States
CATEGORIES:Church,Concerts,Facility Rentals
ORGANIZER;CN="Howie Hochman":MAILTO:executivedirector@seasidejewishcommunity.com
END:VEVENT
BEGIN:VEVENT
DTSTART;TZID=America/New_York:20250721T170000
DTEND;TZID=America/New_York:20250721T180000
DTSTAMP:20260425T114356
CREATED:20240905T122003Z
LAST-MODIFIED:20251023T143906Z
UID:10014293-1753117200-1753120800@epworth.faith
SUMMARY:Alanon Newcomers (Baker Room)
DESCRIPTION:
URL:https://epworth.faith/event/alanon-newcomers-baker-room/2025-07-21/
LOCATION:Epworth United Methodist Church\, 19285 Holland Glade Road\, Rehoboth Beach\, DE\, 19971\, United States
CATEGORIES:Church,Groups
END:VEVENT
BEGIN:VEVENT
DTSTART;TZID=America/New_York:20250721T180000
DTEND;TZID=America/New_York:20250721T190000
DTSTAMP:20260425T114356
CREATED:20240905T122138Z
LAST-MODIFIED:20251023T144119Z
UID:10014345-1753120800-1753124400@epworth.faith
SUMMARY:Alanon Meeting (Branford Room)
DESCRIPTION:
URL:https://epworth.faith/event/alanon-meeting-branford-room-2/2025-07-21/
LOCATION:Epworth United Methodist Church\, 19285 Holland Glade Road\, Rehoboth Beach\, DE\, 19971\, United States
CATEGORIES:Church,Groups
END:VEVENT
BEGIN:VEVENT
DTSTART;TZID=America/New_York:20250722T120000
DTEND;TZID=America/New_York:20250722T140000
DTSTAMP:20260425T114356
CREATED:20231101T154604Z
LAST-MODIFIED:20231101T154604Z
UID:10010541-1753185600-1753192800@epworth.faith
SUMMARY:Staff Meeting (Conference Room)
DESCRIPTION:
URL:https://epworth.faith/event/staff-meeting-conference-room/2025-07-22/
LOCATION:Epworth United Methodist Church\, 19285 Holland Glade Road\, Rehoboth Beach\, DE\, 19971\, United States
CATEGORIES:Church,Staff
ORGANIZER;CN="Vicki Gordy-Stith":MAILTO:vgordy-stith@epworth.faith
END:VEVENT
BEGIN:VEVENT
DTSTART;TZID=America/New_York:20250722T140000
DTEND;TZID=America/New_York:20250722T170000
DTSTAMP:20260425T114356
CREATED:20250709T184523Z
LAST-MODIFIED:20250709T184523Z
UID:10016978-1753192800-1753203600@epworth.faith
SUMMARY:Stitching Group (Branford Room)
DESCRIPTION:
URL:https://epworth.faith/event/stitching-group-branford-room/2025-07-22/
LOCATION:Epworth United Methodist Church\, 19285 Holland Glade Road\, Rehoboth Beach\, DE\, 19971\, United States
CATEGORIES:Church,Groups
END:VEVENT
BEGIN:VEVENT
DTSTART;TZID=America/New_York:20250722T180000
DTEND;TZID=America/New_York:20250722T190000
DTSTAMP:20260425T114356
CREATED:20240905T121346Z
LAST-MODIFIED:20251023T144445Z
UID:10014137-1753207200-1753210800@epworth.faith
SUMMARY:Alanon Meeting (Branford Room)
DESCRIPTION:
URL:https://epworth.faith/event/alanon-meeting-branford-room/2025-07-22/
LOCATION:Epworth United Methodist Church\, 19285 Holland Glade Road\, Rehoboth Beach\, DE\, 19971\, United States
CATEGORIES:Church,Groups
END:VEVENT
BEGIN:VEVENT
DTSTART;TZID=America/New_York:20250722T190000
DTEND;TZID=America/New_York:20250722T200000
DTSTAMP:20260425T114356
CREATED:20240905T121615Z
LAST-MODIFIED:20251023T144756Z
UID:10014189-1753210800-1753214400@epworth.faith
SUMMARY:Alanon Meeting (Baker Room)
DESCRIPTION:
URL:https://epworth.faith/event/alanon-meeting-baker-room/2025-07-22/
LOCATION:Epworth United Methodist Church\, 19285 Holland Glade Road\, Rehoboth Beach\, DE\, 19971\, United States
CATEGORIES:Church,Groups
END:VEVENT
BEGIN:VEVENT
DTSTART;TZID=America/New_York:20250722T190000
DTEND;TZID=America/New_York:20250722T200000
DTSTAMP:20260425T114356
CREATED:20240905T121808Z
LAST-MODIFIED:20251023T145128Z
UID:10014241-1753210800-1753214400@epworth.faith
SUMMARY:AA Meeting (Music Room)
DESCRIPTION:
URL:https://epworth.faith/event/aa-meeting-music-room/2025-07-22/
LOCATION:Epworth United Methodist Church\, 19285 Holland Glade Road\, Rehoboth Beach\, DE\, 19971\, United States
CATEGORIES:Church,Groups
END:VEVENT
BEGIN:VEVENT
DTSTART;TZID=America/New_York:20250723T173000
DTEND;TZID=America/New_York:20250723T183000
DTSTAMP:20260425T114356
CREATED:20250116T215058Z
LAST-MODIFIED:20250911T132405Z
UID:10017360-1753291800-1753295400@epworth.faith
SUMMARY:Chancel Choir Practice (Music Room)
DESCRIPTION:
URL:https://epworth.faith/event/chancel-choir-practice-music-room-2/2025-07-23/
LOCATION:Epworth United Methodist Church\, 19285 Holland Glade Road\, Rehoboth Beach\, DE\, 19971\, United States
CATEGORIES:Church,Groups
ORGANIZER;CN="Doug Yetter":MAILTO:dyetter@epworth.faith
END:VEVENT
BEGIN:VEVENT
DTSTART;TZID=America/New_York:20250723T173000
DTEND;TZID=America/New_York:20250723T183000
DTSTAMP:20260425T114356
CREATED:20250528T123510Z
LAST-MODIFIED:20250528T123938Z
UID:10016645-1753291800-1753295400@epworth.faith
SUMMARY:Praise Team Practice (Sanctuary)
DESCRIPTION:
URL:https://epworth.faith/event/praise-team-practice-music-room/2025-07-23/
LOCATION:Epworth United Methodist Church\, 19285 Holland Glade Road\, Rehoboth Beach\, DE\, 19971\, United States
CATEGORIES:Church,Music
ORGANIZER;CN="Doug Yetter":MAILTO:dyetter@epworth.faith
END:VEVENT
BEGIN:VEVENT
DTSTART;TZID=America/New_York:20250724T093000
DTEND;TZID=America/New_York:20250724T103000
DTSTAMP:20260425T114356
CREATED:20250521T185021Z
LAST-MODIFIED:20260205T141334Z
UID:10016554-1753349400-1753353000@epworth.faith
SUMMARY:Alzheimer/Dementia Support Group (Baker Room)
DESCRIPTION:
URL:https://epworth.faith/event/alzheimer-dementia-support-group-baker-room/2025-07-24/
LOCATION:Epworth United Methodist Church\, 19285 Holland Glade Road\, Rehoboth Beach\, DE\, 19971\, United States
CATEGORIES:Church,Groups
ORGANIZER;CN="Harry Martens":MAILTO:HMartensiii@gmail.com
END:VEVENT
BEGIN:VEVENT
DTSTART;TZID=America/New_York:20250724T100000
DTEND;TZID=America/New_York:20250724T113000
DTSTAMP:20260425T114356
CREATED:20250306T155219Z
LAST-MODIFIED:20250306T155220Z
UID:10015830-1753351200-1753356600@epworth.faith
SUMMARY:Parkinson's Voice Project Choir Performance (Sanctuary)
DESCRIPTION:
URL:https://epworth.faith/event/parkinsons-voice-project-choir-performance-sanctuary-2/
LOCATION:Epworth United Methodist Church\, 19285 Holland Glade Road\, Rehoboth Beach\, DE\, 19971\, United States
CATEGORIES:Church,Groups
ORGANIZER;CN="Doug Yetter":MAILTO:dyetter@epworth.faith
END:VEVENT
BEGIN:VEVENT
DTSTART;TZID=America/New_York:20250724T110000
DTEND;TZID=America/New_York:20250724T120000
DTSTAMP:20260425T114356
CREATED:20250513T184931Z
LAST-MODIFIED:20260129T210925Z
UID:10016441-1753354800-1753358400@epworth.faith
SUMMARY:Grief Group (Baker Room)
DESCRIPTION:
URL:https://epworth.faith/event/grief-group-baker-room/2025-07-24/
LOCATION:Epworth United Methodist Church\, 19285 Holland Glade Road\, Rehoboth Beach\, DE\, 19971\, United States
ORGANIZER;CN="Vicki Gordy-Stith":MAILTO:vgordy-stith@epworth.faith
END:VEVENT
BEGIN:VEVENT
DTSTART;TZID=America/New_York:20250724T120000
DTEND;TZID=America/New_York:20250724T130000
DTSTAMP:20260425T114356
CREATED:20240905T122329Z
LAST-MODIFIED:20251023T150055Z
UID:10014398-1753358400-1753362000@epworth.faith
SUMMARY:Alanon Meeting (Branford Room)
DESCRIPTION:
URL:https://epworth.faith/event/alanon-meeting-branford-room-3/2025-07-24/
LOCATION:Epworth United Methodist Church\, 19285 Holland Glade Road\, Rehoboth Beach\, DE\, 19971\, United States
CATEGORIES:Church,Groups
END:VEVENT
BEGIN:VEVENT
DTSTART;TZID=America/New_York:20250724T193000
DTEND;TZID=America/New_York:20250724T203000
DTSTAMP:20260425T114356
CREATED:20240905T122521Z
LAST-MODIFIED:20251023T150301Z
UID:10014450-1753385400-1753389000@epworth.faith
SUMMARY:AA Meeting (Baker Room)
DESCRIPTION:
URL:https://epworth.faith/event/aa-meeting-baker-room/2025-07-24/
LOCATION:Epworth United Methodist Church\, 19285 Holland Glade Road\, Rehoboth Beach\, DE\, 19971\, United States
CATEGORIES:Church,Groups
END:VEVENT
BEGIN:VEVENT
DTSTART;TZID=America/New_York:20250726T090000
DTEND;TZID=America/New_York:20250726T100000
DTSTAMP:20260425T114356
CREATED:20240905T122704Z
LAST-MODIFIED:20251023T150523Z
UID:10014502-1753520400-1753524000@epworth.faith
SUMMARY:ACA Meeting (Baker Room)
DESCRIPTION:
URL:https://epworth.faith/event/aca-meeting-baker-room/2025-07-26/
LOCATION:Epworth United Methodist Church\, 19285 Holland Glade Road\, Rehoboth Beach\, DE\, 19971\, United States
CATEGORIES:Church,Groups
END:VEVENT
BEGIN:VEVENT
DTSTART;TZID=America/New_York:20250726T180000
DTEND;TZID=America/New_York:20250726T190000
DTSTAMP:20260425T114356
CREATED:20240905T122918Z
LAST-MODIFIED:20251023T150738Z
UID:10014554-1753552800-1753556400@epworth.faith
SUMMARY:Alanon Meeting (Baker Room)
DESCRIPTION:
URL:https://epworth.faith/event/alanon-meeting-baker-room-2/2025-07-26/
LOCATION:Epworth United Methodist Church\, 19285 Holland Glade Road\, Rehoboth Beach\, DE\, 19971\, United States
CATEGORIES:Church,Groups
END:VEVENT
BEGIN:VEVENT
DTSTART;TZID=America/New_York:20250726T180000
DTEND;TZID=America/New_York:20250726T190000
DTSTAMP:20260425T114356
CREATED:20240905T123154Z
LAST-MODIFIED:20251023T152520Z
UID:10014606-1753552800-1753556400@epworth.faith
SUMMARY:AA Meeting (Branford Room)
DESCRIPTION:
URL:https://epworth.faith/event/aa-meeting-branford-room/2025-07-26/
LOCATION:Epworth United Methodist Church\, 19285 Holland Glade Road\, Rehoboth Beach\, DE\, 19971\, United States
CATEGORIES:Church,Groups
END:VEVENT
END:VCALENDAR