BEGIN:VCALENDAR
VERSION:2.0
PRODID:-//Epworth UMC - ECPv6.15.20//NONSGML v1.0//EN
CALSCALE:GREGORIAN
METHOD:PUBLISH
X-WR-CALNAME:Epworth UMC
X-ORIGINAL-URL:https://epworth.faith
X-WR-CALDESC:Events for Epworth UMC
REFRESH-INTERVAL;VALUE=DURATION:PT1H
X-Robots-Tag:noindex
X-PUBLISHED-TTL:PT1H
BEGIN:VTIMEZONE
TZID:America/New_York
BEGIN:DAYLIGHT
TZOFFSETFROM:-0500
TZOFFSETTO:-0400
TZNAME:EDT
DTSTART:20250309T070000
END:DAYLIGHT
BEGIN:STANDARD
TZOFFSETFROM:-0400
TZOFFSETTO:-0500
TZNAME:EST
DTSTART:20251102T060000
END:STANDARD
BEGIN:DAYLIGHT
TZOFFSETFROM:-0500
TZOFFSETTO:-0400
TZNAME:EDT
DTSTART:20260308T070000
END:DAYLIGHT
BEGIN:STANDARD
TZOFFSETFROM:-0400
TZOFFSETTO:-0500
TZNAME:EST
DTSTART:20261101T060000
END:STANDARD
BEGIN:DAYLIGHT
TZOFFSETFROM:-0500
TZOFFSETTO:-0400
TZNAME:EDT
DTSTART:20270314T070000
END:DAYLIGHT
BEGIN:STANDARD
TZOFFSETFROM:-0400
TZOFFSETTO:-0500
TZNAME:EST
DTSTART:20271107T060000
END:STANDARD
END:VTIMEZONE
BEGIN:VEVENT
DTSTART;TZID=America/New_York:20261129T100000
DTEND;TZID=America/New_York:20261129T110000
DTSTAMP:20260425T064318
CREATED:20230909T152658Z
LAST-MODIFIED:20230909T161232Z
UID:10009178-1795946400-1795950000@epworth.faith
SUMMARY:Blended ASL Worship Service (Sanctuary & Online)
DESCRIPTION:YouTube Livestream\nYouTube ASL Livestream\nFacebook Livestream
URL:https://epworth.faith/event/blended-worship-service-sanctuary-on-line-2/2026-11-29/
LOCATION:Epworth United Methodist Church\, 19285 Holland Glade Road\, Rehoboth Beach\, DE\, 19971\, United States
CATEGORIES:Worship
ORGANIZER;CN="Vicki Gordy-Stith":MAILTO:vgordy-stith@epworth.faith
END:VEVENT
BEGIN:VEVENT
DTSTART;TZID=America/New_York:20261129T110000
DTEND;TZID=America/New_York:20261129T124500
DTSTAMP:20260425T064318
CREATED:20250303T202501Z
LAST-MODIFIED:20250303T202548Z
UID:10015647-1795950000-1795956300@epworth.faith
SUMMARY:Flower Ministry for Arrangements (Starnes Room)
DESCRIPTION:
URL:https://epworth.faith/event/flower-ministry-for-arrangements-starnes-room/2026-11-29/
LOCATION:Epworth United Methodist Church\, 19285 Holland Glade Road\, Rehoboth Beach\, DE\, 19971\, United States
CATEGORIES:Church,Groups
ORGANIZER;CN="Val Linder":MAILTO:rovalinder@comcast.net
END:VEVENT
BEGIN:VEVENT
DTSTART;TZID=America/New_York:20261129T111500
DTEND;TZID=America/New_York:20261129T114500
DTSTAMP:20260425T064318
CREATED:20251023T142658Z
LAST-MODIFIED:20251023T142658Z
UID:10018098-1795950900-1795952700@epworth.faith
SUMMARY:Stephen Ministry Prayer Chapel (Baker Room)
DESCRIPTION:
URL:https://epworth.faith/event/stephen-ministry-prayer-chapel-baker-room-2/2026-11-29/
LOCATION:Epworth United Methodist Church\, 19285 Holland Glade Road\, Rehoboth Beach\, DE\, 19971\, United States
CATEGORIES:Church,Groups
END:VEVENT
BEGIN:VEVENT
DTSTART;TZID=America/New_York:20261129T183000
DTEND;TZID=America/New_York:20261129T200000
DTSTAMP:20260425T064318
CREATED:20260330T140431Z
LAST-MODIFIED:20260330T140434Z
UID:10022169-1795977000-1795982400@epworth.faith
SUMMARY:Youth Holiday Sing Along (Sanctuary)
DESCRIPTION:
URL:https://epworth.faith/event/youth-holiday-sing-along-sanctuary/
LOCATION:Epworth United Methodist Church\, 19285 Holland Glade Road\, Rehoboth Beach\, DE\, 19971\, United States
CATEGORIES:Church,Concerts,Facility Rentals,Youth
END:VEVENT
BEGIN:VEVENT
DTSTART;TZID=America/New_York:20261130T130000
DTEND;TZID=America/New_York:20261130T160000
DTSTAMP:20260425T064318
CREATED:20260219T154418Z
LAST-MODIFIED:20260219T154418Z
UID:10021676-1796043600-1796054400@epworth.faith
SUMMARY:Cookie Baking for Cookie Walk (Kitchen)
DESCRIPTION:
URL:https://epworth.faith/event/cookie-baking-for-cookie-walk-kitchen/
LOCATION:Epworth United Methodist Church\, 19285 Holland Glade Road\, Rehoboth Beach\, DE\, 19971\, United States
CATEGORIES:Church,Groups
END:VEVENT
BEGIN:VEVENT
DTSTART;TZID=America/New_York:20261130T170000
DTEND;TZID=America/New_York:20261130T180000
DTSTAMP:20260425T064318
CREATED:20240905T122003Z
LAST-MODIFIED:20251023T143906Z
UID:10018349-1796058000-1796061600@epworth.faith
SUMMARY:Alanon Newcomers (Baker Room)
DESCRIPTION:
URL:https://epworth.faith/event/alanon-newcomers-baker-room/2026-11-30/
LOCATION:Epworth United Methodist Church\, 19285 Holland Glade Road\, Rehoboth Beach\, DE\, 19971\, United States
CATEGORIES:Church,Groups
END:VEVENT
BEGIN:VEVENT
DTSTART;TZID=America/New_York:20261130T180000
DTEND;TZID=America/New_York:20261130T190000
DTSTAMP:20260425T064318
CREATED:20240905T122138Z
LAST-MODIFIED:20251023T144119Z
UID:10018600-1796061600-1796065200@epworth.faith
SUMMARY:Alanon Meeting (Branford Room)
DESCRIPTION:
URL:https://epworth.faith/event/alanon-meeting-branford-room-2/2026-11-30/
LOCATION:Epworth United Methodist Church\, 19285 Holland Glade Road\, Rehoboth Beach\, DE\, 19971\, United States
CATEGORIES:Church,Groups
END:VEVENT
BEGIN:VEVENT
DTSTART;TZID=America/New_York:20261130T180000
DTEND;TZID=America/New_York:20261130T193000
DTSTAMP:20260425T064318
CREATED:20250925T182614Z
LAST-MODIFIED:20250929T160622Z
UID:10017798-1796061600-1796067000@epworth.faith
SUMMARY:Social Justice Meeting (Starnes Room)
DESCRIPTION:
URL:https://epworth.faith/event/social-justice-meeting-starnes-room/2026-11-30/
LOCATION:Epworth United Methodist Church\, 19285 Holland Glade Road\, Rehoboth Beach\, DE\, 19971\, United States
CATEGORIES:Church,Groups
END:VEVENT
BEGIN:VEVENT
DTSTART;VALUE=DATE:20261201
DTEND;VALUE=DATE:20261215
DTSTAMP:20260425T064318
CREATED:20251208T190826Z
LAST-MODIFIED:20251208T190924Z
UID:10020933-1796083200-1797292799@epworth.faith
SUMMARY:Christmas Gift Organization (Starnes Room)
DESCRIPTION:
URL:https://epworth.faith/event/christmas-gift-organization-starnes-room/
LOCATION:Epworth United Methodist Church\, 19285 Holland Glade Road\, Rehoboth Beach\, DE\, 19971\, United States
CATEGORIES:Church,Groups
ORGANIZER;CN="Sue Brenton":MAILTO:myshadow143@verizon.net
END:VEVENT
BEGIN:VEVENT
DTSTART;TZID=America/New_York:20261201T120000
DTEND;TZID=America/New_York:20261201T140000
DTSTAMP:20260425T064318
CREATED:20231101T154604Z
LAST-MODIFIED:20231101T154604Z
UID:10010612-1796126400-1796133600@epworth.faith
SUMMARY:Staff Meeting (Conference Room)
DESCRIPTION:
URL:https://epworth.faith/event/staff-meeting-conference-room/2026-12-01/
LOCATION:Epworth United Methodist Church\, 19285 Holland Glade Road\, Rehoboth Beach\, DE\, 19971\, United States
CATEGORIES:Church,Staff
ORGANIZER;CN="Vicki Gordy-Stith":MAILTO:vgordy-stith@epworth.faith
END:VEVENT
BEGIN:VEVENT
DTSTART;TZID=America/New_York:20261201T130000
DTEND;TZID=America/New_York:20261201T160000
DTSTAMP:20260425T064318
CREATED:20260219T154527Z
LAST-MODIFIED:20260219T154527Z
UID:10021677-1796130000-1796140800@epworth.faith
SUMMARY:Cookie Baking for Cookie Walk (Kitchen)
DESCRIPTION:
URL:https://epworth.faith/event/cookie-baking-for-cookie-walk-kitchen-2/
LOCATION:Epworth United Methodist Church\, 19285 Holland Glade Road\, Rehoboth Beach\, DE\, 19971\, United States
CATEGORIES:Church,Groups
END:VEVENT
BEGIN:VEVENT
DTSTART;TZID=America/New_York:20261201T180000
DTEND;TZID=America/New_York:20261201T190000
DTSTAMP:20260425T064318
CREATED:20240905T121346Z
LAST-MODIFIED:20251023T144445Z
UID:10018851-1796148000-1796151600@epworth.faith
SUMMARY:Alanon Meeting (Branford Room)
DESCRIPTION:
URL:https://epworth.faith/event/alanon-meeting-branford-room/2026-12-01/
LOCATION:Epworth United Methodist Church\, 19285 Holland Glade Road\, Rehoboth Beach\, DE\, 19971\, United States
CATEGORIES:Church,Groups
END:VEVENT
BEGIN:VEVENT
DTSTART;TZID=America/New_York:20261201T180000
DTEND;TZID=America/New_York:20261201T200000
DTSTAMP:20260425T064318
CREATED:20250529T174528Z
LAST-MODIFIED:20250529T174528Z
UID:10016770-1796148000-1796155200@epworth.faith
SUMMARY:SPRC Meeting (Office Conference Room)
DESCRIPTION:
URL:https://epworth.faith/event/sprc-meeting-office-conference-room/2026-12-01/
LOCATION:Epworth United Methodist Church\, 19285 Holland Glade Road\, Rehoboth Beach\, DE\, 19971\, United States
CATEGORIES:Church,Groups
ORGANIZER;CN="Sandy Pierce":MAILTO:sfpierce01@gmail.com
END:VEVENT
BEGIN:VEVENT
DTSTART;TZID=America/New_York:20261201T184500
DTEND;TZID=America/New_York:20261201T200000
DTSTAMP:20260425T064318
CREATED:20250821T173340Z
LAST-MODIFIED:20250821T173340Z
UID:10017076-1796150700-1796155200@epworth.faith
SUMMARY:Faith Friends & Issues Group (Zoom)
DESCRIPTION:
URL:https://epworth.faith/event/faith-friends-issues-group-zoom/2026-12-01/
LOCATION:Epworth United Methodist Church\, 19285 Holland Glade Road\, Rehoboth Beach\, DE\, 19971\, United States
CATEGORIES:Church,Groups
ORGANIZER;CN="Sandy Paulen":MAILTO:sandypaulen@gmail.com
END:VEVENT
BEGIN:VEVENT
DTSTART;TZID=America/New_York:20261201T190000
DTEND;TZID=America/New_York:20261201T200000
DTSTAMP:20260425T064318
CREATED:20240905T121615Z
LAST-MODIFIED:20251023T144756Z
UID:10019102-1796151600-1796155200@epworth.faith
SUMMARY:Alanon Meeting (Baker Room)
DESCRIPTION:
URL:https://epworth.faith/event/alanon-meeting-baker-room/2026-12-01/
LOCATION:Epworth United Methodist Church\, 19285 Holland Glade Road\, Rehoboth Beach\, DE\, 19971\, United States
CATEGORIES:Church,Groups
END:VEVENT
BEGIN:VEVENT
DTSTART;TZID=America/New_York:20261201T190000
DTEND;TZID=America/New_York:20261201T200000
DTSTAMP:20260425T064318
CREATED:20240905T121808Z
LAST-MODIFIED:20251023T145128Z
UID:10019353-1796151600-1796155200@epworth.faith
SUMMARY:AA Meeting (Music Room)
DESCRIPTION:
URL:https://epworth.faith/event/aa-meeting-music-room/2026-12-01/
LOCATION:Epworth United Methodist Church\, 19285 Holland Glade Road\, Rehoboth Beach\, DE\, 19971\, United States
CATEGORIES:Church,Groups
END:VEVENT
BEGIN:VEVENT
DTSTART;TZID=America/New_York:20261202T090000
DTEND;TZID=America/New_York:20261202T160000
DTSTAMP:20260425T064318
CREATED:20260219T154619Z
LAST-MODIFIED:20260219T154619Z
UID:10021678-1796202000-1796227200@epworth.faith
SUMMARY:Cookie Baking for Cookie Walk (Kitchen)
DESCRIPTION:
URL:https://epworth.faith/event/cookie-baking-for-cookie-walk-kitchen-3/
LOCATION:Epworth United Methodist Church\, 19285 Holland Glade Road\, Rehoboth Beach\, DE\, 19971\, United States
CATEGORIES:Church,Groups
END:VEVENT
BEGIN:VEVENT
DTSTART;TZID=America/New_York:20261202T183000
DTEND;TZID=America/New_York:20261202T210000
DTSTAMP:20260425T064318
CREATED:20240321T141039Z
LAST-MODIFIED:20240321T141039Z
UID:10012484-1796236200-1796245200@epworth.faith
SUMMARY:ManKind Project (MKP) (Baker Lounge)
DESCRIPTION:
URL:https://epworth.faith/event/mankind-project-mkp-baker-lounge-3/2026-12-02/
LOCATION:Epworth United Methodist Church\, 19285 Holland Glade Road\, Rehoboth Beach\, DE\, 19971\, United States
CATEGORIES:Church,Groups
ORGANIZER;CN="Rick Buske":MAILTO:rick.buske@gmail.com
END:VEVENT
BEGIN:VEVENT
DTSTART;TZID=America/New_York:20261203T090000
DTEND;TZID=America/New_York:20261203T120000
DTSTAMP:20260425T064318
CREATED:20260219T154703Z
LAST-MODIFIED:20260219T180326Z
UID:10021679-1796288400-1796299200@epworth.faith
SUMMARY:Cookie Baking for Cookie Walk (Kitchen)
DESCRIPTION:
URL:https://epworth.faith/event/cookie-baking-for-cookie-walk-kitchen-4/
LOCATION:Epworth United Methodist Church\, 19285 Holland Glade Road\, Rehoboth Beach\, DE\, 19971\, United States
CATEGORIES:Church,Groups
END:VEVENT
BEGIN:VEVENT
DTSTART;TZID=America/New_York:20261203T093000
DTEND;TZID=America/New_York:20261203T103000
DTSTAMP:20260425T064318
CREATED:20250521T185021Z
LAST-MODIFIED:20260205T141334Z
UID:10021198-1796290200-1796293800@epworth.faith
SUMMARY:Alzheimer/Dementia Support Group (Baker Room)
DESCRIPTION:
URL:https://epworth.faith/event/alzheimer-dementia-support-group-baker-room/2026-12-03/
LOCATION:Epworth United Methodist Church\, 19285 Holland Glade Road\, Rehoboth Beach\, DE\, 19971\, United States
CATEGORIES:Church,Groups
ORGANIZER;CN="Harry Martens":MAILTO:HMartensiii@gmail.com
END:VEVENT
BEGIN:VEVENT
DTSTART;TZID=America/New_York:20261203T110000
DTEND;TZID=America/New_York:20261203T120000
DTSTAMP:20260425T064318
CREATED:20250513T184931Z
LAST-MODIFIED:20260129T210925Z
UID:10021094-1796295600-1796299200@epworth.faith
SUMMARY:Grief Group (Baker Room)
DESCRIPTION:
URL:https://epworth.faith/event/grief-group-baker-room/2026-12-03/
LOCATION:Epworth United Methodist Church\, 19285 Holland Glade Road\, Rehoboth Beach\, DE\, 19971\, United States
ORGANIZER;CN="Vicki Gordy-Stith":MAILTO:vgordy-stith@epworth.faith
END:VEVENT
BEGIN:VEVENT
DTSTART;TZID=America/New_York:20261203T120000
DTEND;TZID=America/New_York:20261203T130000
DTSTAMP:20260425T064318
CREATED:20240905T122329Z
LAST-MODIFIED:20251023T150055Z
UID:10019605-1796299200-1796302800@epworth.faith
SUMMARY:Alanon Meeting (Branford Room)
DESCRIPTION:
URL:https://epworth.faith/event/alanon-meeting-branford-room-3/2026-12-03/
LOCATION:Epworth United Methodist Church\, 19285 Holland Glade Road\, Rehoboth Beach\, DE\, 19971\, United States
CATEGORIES:Church,Groups
END:VEVENT
BEGIN:VEVENT
DTSTART;TZID=America/New_York:20261203T130000
DTEND;TZID=America/New_York:20261203T143000
DTSTAMP:20260425T064318
CREATED:20260218T181808Z
LAST-MODIFIED:20260218T181808Z
UID:10021453-1796302800-1796308200@epworth.faith
SUMMARY:Social Justice Meeting (Starnes Room)
DESCRIPTION:
URL:https://epworth.faith/event/social-justice-meeting-starnes-room-2/2026-12-03/
LOCATION:Epworth United Methodist Church\, 19285 Holland Glade Road\, Rehoboth Beach\, DE\, 19971\, United States
CATEGORIES:Church,Groups
END:VEVENT
BEGIN:VEVENT
DTSTART;TZID=America/New_York:20261203T193000
DTEND;TZID=America/New_York:20261203T203000
DTSTAMP:20260425T064318
CREATED:20240905T122521Z
LAST-MODIFIED:20251023T150301Z
UID:10019856-1796326200-1796329800@epworth.faith
SUMMARY:AA Meeting (Baker Room)
DESCRIPTION:
URL:https://epworth.faith/event/aa-meeting-baker-room/2026-12-03/
LOCATION:Epworth United Methodist Church\, 19285 Holland Glade Road\, Rehoboth Beach\, DE\, 19971\, United States
CATEGORIES:Church,Groups
END:VEVENT
BEGIN:VEVENT
DTSTART;TZID=America/New_York:20261205T090000
DTEND;TZID=America/New_York:20261205T100000
DTSTAMP:20260425T064318
CREATED:20240905T122704Z
LAST-MODIFIED:20251023T150523Z
UID:10020107-1796461200-1796464800@epworth.faith
SUMMARY:ACA Meeting (Baker Room)
DESCRIPTION:
URL:https://epworth.faith/event/aca-meeting-baker-room/2026-12-05/
LOCATION:Epworth United Methodist Church\, 19285 Holland Glade Road\, Rehoboth Beach\, DE\, 19971\, United States
CATEGORIES:Church,Groups
END:VEVENT
BEGIN:VEVENT
DTSTART;TZID=America/New_York:20261205T180000
DTEND;TZID=America/New_York:20261205T190000
DTSTAMP:20260425T064318
CREATED:20240905T122918Z
LAST-MODIFIED:20251023T150738Z
UID:10020358-1796493600-1796497200@epworth.faith
SUMMARY:Alanon Meeting (Baker Room)
DESCRIPTION:
URL:https://epworth.faith/event/alanon-meeting-baker-room-2/2026-12-05/
LOCATION:Epworth United Methodist Church\, 19285 Holland Glade Road\, Rehoboth Beach\, DE\, 19971\, United States
CATEGORIES:Church,Groups
END:VEVENT
BEGIN:VEVENT
DTSTART;TZID=America/New_York:20261205T180000
DTEND;TZID=America/New_York:20261205T190000
DTSTAMP:20260425T064318
CREATED:20240905T123154Z
LAST-MODIFIED:20251023T152520Z
UID:10020609-1796493600-1796497200@epworth.faith
SUMMARY:AA Meeting (Branford Room)
DESCRIPTION:
URL:https://epworth.faith/event/aa-meeting-branford-room/2026-12-05/
LOCATION:Epworth United Methodist Church\, 19285 Holland Glade Road\, Rehoboth Beach\, DE\, 19971\, United States
CATEGORIES:Church,Groups
END:VEVENT
END:VCALENDAR