BEGIN:VCALENDAR
VERSION:2.0
PRODID:-//Epworth UMC - ECPv6.15.20//NONSGML v1.0//EN
CALSCALE:GREGORIAN
METHOD:PUBLISH
X-WR-CALNAME:Epworth UMC
X-ORIGINAL-URL:https://epworth.faith
X-WR-CALDESC:Events for Epworth UMC
REFRESH-INTERVAL;VALUE=DURATION:PT1H
X-Robots-Tag:noindex
X-PUBLISHED-TTL:PT1H
BEGIN:VTIMEZONE
TZID:America/New_York
BEGIN:DAYLIGHT
TZOFFSETFROM:-0500
TZOFFSETTO:-0400
TZNAME:EDT
DTSTART:20250309T070000
END:DAYLIGHT
BEGIN:STANDARD
TZOFFSETFROM:-0400
TZOFFSETTO:-0500
TZNAME:EST
DTSTART:20251102T060000
END:STANDARD
BEGIN:DAYLIGHT
TZOFFSETFROM:-0500
TZOFFSETTO:-0400
TZNAME:EDT
DTSTART:20260308T070000
END:DAYLIGHT
BEGIN:STANDARD
TZOFFSETFROM:-0400
TZOFFSETTO:-0500
TZNAME:EST
DTSTART:20261101T060000
END:STANDARD
BEGIN:DAYLIGHT
TZOFFSETFROM:-0500
TZOFFSETTO:-0400
TZNAME:EDT
DTSTART:20270314T070000
END:DAYLIGHT
BEGIN:STANDARD
TZOFFSETFROM:-0400
TZOFFSETTO:-0500
TZNAME:EST
DTSTART:20271107T060000
END:STANDARD
END:VTIMEZONE
BEGIN:VEVENT
DTSTART;TZID=America/New_York:20260604T150000
DTEND;TZID=America/New_York:20260604T183000
DTSTAMP:20260423T171447
CREATED:20260416T161542Z
LAST-MODIFIED:20260416T161542Z
UID:10022198-1780585200-1780597800@epworth.faith
SUMMARY:Boys & Girls Activity Event (Fellowship Hall)
DESCRIPTION:
URL:https://epworth.faith/event/boys-girls-activity-event-fellowship-hall/
LOCATION:Epworth United Methodist Church\, 19285 Holland Glade Road\, Rehoboth Beach\, DE\, 19971\, United States
CATEGORIES:Church,Groups
ORGANIZER;CN="Avara Brown":MAILTO:AvBrown@bgclubs.org
END:VEVENT
BEGIN:VEVENT
DTSTART;TZID=America/New_York:20260611T150000
DTEND;TZID=America/New_York:20260611T183000
DTSTAMP:20260423T171447
CREATED:20260416T161603Z
LAST-MODIFIED:20260416T161603Z
UID:10022199-1781190000-1781202600@epworth.faith
SUMMARY:Boys & Girls Activity Event (Fellowship Hall)
DESCRIPTION:
URL:https://epworth.faith/event/boys-girls-activity-event-fellowship-hall-2/
LOCATION:Epworth United Methodist Church\, 19285 Holland Glade Road\, Rehoboth Beach\, DE\, 19971\, United States
CATEGORIES:Church,Groups
ORGANIZER;CN="Avara Brown":MAILTO:AvBrown@bgclubs.org
END:VEVENT
BEGIN:VEVENT
DTSTART;TZID=America/New_York:20260702T150000
DTEND;TZID=America/New_York:20260702T180000
DTSTAMP:20260423T171447
CREATED:20260416T162329Z
LAST-MODIFIED:20260416T162329Z
UID:10022200-1783004400-1783015200@epworth.faith
SUMMARY:Boys & Girls Club Family Fun Night (Back Parking Lot)
DESCRIPTION:
URL:https://epworth.faith/event/boys-girls-club-family-fun-night-back-parking-lot/
LOCATION:Epworth United Methodist Church\, 19285 Holland Glade Road\, Rehoboth Beach\, DE\, 19971\, United States
CATEGORIES:Church,Groups
ORGANIZER;CN="Avara Brown":MAILTO:AvBrown@bgclubs.org
END:VEVENT
END:VCALENDAR