BEGIN:VCALENDAR
VERSION:2.0
PRODID:-//Epworth UMC - ECPv6.15.20//NONSGML v1.0//EN
CALSCALE:GREGORIAN
METHOD:PUBLISH
X-WR-CALNAME:Epworth UMC
X-ORIGINAL-URL:https://epworth.faith
X-WR-CALDESC:Events for Epworth UMC
REFRESH-INTERVAL;VALUE=DURATION:PT1H
X-Robots-Tag:noindex
X-PUBLISHED-TTL:PT1H
BEGIN:VTIMEZONE
TZID:America/New_York
BEGIN:DAYLIGHT
TZOFFSETFROM:-0500
TZOFFSETTO:-0400
TZNAME:EDT
DTSTART:20220313T070000
END:DAYLIGHT
BEGIN:STANDARD
TZOFFSETFROM:-0400
TZOFFSETTO:-0500
TZNAME:EST
DTSTART:20221106T060000
END:STANDARD
BEGIN:DAYLIGHT
TZOFFSETFROM:-0500
TZOFFSETTO:-0400
TZNAME:EDT
DTSTART:20230312T070000
END:DAYLIGHT
BEGIN:STANDARD
TZOFFSETFROM:-0400
TZOFFSETTO:-0500
TZNAME:EST
DTSTART:20231105T060000
END:STANDARD
BEGIN:DAYLIGHT
TZOFFSETFROM:-0500
TZOFFSETTO:-0400
TZNAME:EDT
DTSTART:20240310T070000
END:DAYLIGHT
BEGIN:STANDARD
TZOFFSETFROM:-0400
TZOFFSETTO:-0500
TZNAME:EST
DTSTART:20241103T060000
END:STANDARD
END:VTIMEZONE
BEGIN:VEVENT
DTSTART;TZID=America/New_York:20230808T090000
DTEND;TZID=America/New_York:20230808T140000
DTSTAMP:20260425T172108
CREATED:20230628T143925Z
LAST-MODIFIED:20230628T143925Z
UID:10008767-1691485200-1691503200@epworth.faith
SUMMARY:Preschool Camp (Rooms 1 & 2)
DESCRIPTION:
URL:https://epworth.faith/event/preschool-camp-rooms-1-2-2/2023-08-08/
LOCATION:Epworth United Methodist Church\, 19285 Holland Glade Road\, Rehoboth Beach\, DE\, 19971\, United States
CATEGORIES:Preschool
ORGANIZER;CN="Betsy Plowman":MAILTO:bplowman@epworth.faith
END:VEVENT
BEGIN:VEVENT
DTSTART;TZID=America/New_York:20230807T090000
DTEND;TZID=America/New_York:20230807T140000
DTSTAMP:20260425T172108
CREATED:20230628T144425Z
LAST-MODIFIED:20230628T144425Z
UID:10008785-1691398800-1691416800@epworth.faith
SUMMARY:Preschool Camp (Rooms 1 & 2)
DESCRIPTION:
URL:https://epworth.faith/event/preschool-camp-rooms-1-2-3/2023-08-07/
LOCATION:Epworth United Methodist Church\, 19285 Holland Glade Road\, Rehoboth Beach\, DE\, 19971\, United States
CATEGORIES:Preschool
ORGANIZER;CN="Betsy Plowman":MAILTO:bplowman@epworth.faith
END:VEVENT
BEGIN:VEVENT
DTSTART;TZID=America/New_York:20230807T090000
DTEND;TZID=America/New_York:20230807T140000
DTSTAMP:20260425T172108
CREATED:20230628T143925Z
LAST-MODIFIED:20230628T143925Z
UID:10008766-1691398800-1691416800@epworth.faith
SUMMARY:Preschool Camp (Rooms 1 & 2)
DESCRIPTION:
URL:https://epworth.faith/event/preschool-camp-rooms-1-2-2/2023-08-07/
LOCATION:Epworth United Methodist Church\, 19285 Holland Glade Road\, Rehoboth Beach\, DE\, 19971\, United States
CATEGORIES:Preschool
ORGANIZER;CN="Betsy Plowman":MAILTO:bplowman@epworth.faith
END:VEVENT
BEGIN:VEVENT
DTSTART;TZID=America/New_York:20230806T090000
DTEND;TZID=America/New_York:20230806T140000
DTSTAMP:20260425T172108
CREATED:20230628T143925Z
LAST-MODIFIED:20230628T143925Z
UID:10008765-1691312400-1691330400@epworth.faith
SUMMARY:Preschool Camp (Rooms 1 & 2)
DESCRIPTION:
URL:https://epworth.faith/event/preschool-camp-rooms-1-2-2/2023-08-06/
LOCATION:Epworth United Methodist Church\, 19285 Holland Glade Road\, Rehoboth Beach\, DE\, 19971\, United States
CATEGORIES:Preschool
ORGANIZER;CN="Betsy Plowman":MAILTO:bplowman@epworth.faith
END:VEVENT
BEGIN:VEVENT
DTSTART;TZID=America/New_York:20230805T090000
DTEND;TZID=America/New_York:20230805T140000
DTSTAMP:20260425T172108
CREATED:20230628T143925Z
LAST-MODIFIED:20230628T143925Z
UID:10008764-1691226000-1691244000@epworth.faith
SUMMARY:Preschool Camp (Rooms 1 & 2)
DESCRIPTION:
URL:https://epworth.faith/event/preschool-camp-rooms-1-2-2/2023-08-05/
LOCATION:Epworth United Methodist Church\, 19285 Holland Glade Road\, Rehoboth Beach\, DE\, 19971\, United States
CATEGORIES:Preschool
ORGANIZER;CN="Betsy Plowman":MAILTO:bplowman@epworth.faith
END:VEVENT
BEGIN:VEVENT
DTSTART;TZID=America/New_York:20230804T090000
DTEND;TZID=America/New_York:20230804T140000
DTSTAMP:20260425T172108
CREATED:20230628T143925Z
LAST-MODIFIED:20230628T143925Z
UID:10008763-1691139600-1691157600@epworth.faith
SUMMARY:Preschool Camp (Rooms 1 & 2)
DESCRIPTION:
URL:https://epworth.faith/event/preschool-camp-rooms-1-2-2/2023-08-04/
LOCATION:Epworth United Methodist Church\, 19285 Holland Glade Road\, Rehoboth Beach\, DE\, 19971\, United States
CATEGORIES:Preschool
ORGANIZER;CN="Betsy Plowman":MAILTO:bplowman@epworth.faith
END:VEVENT
BEGIN:VEVENT
DTSTART;TZID=America/New_York:20230803T090000
DTEND;TZID=America/New_York:20230803T140000
DTSTAMP:20260425T172108
CREATED:20230628T143925Z
LAST-MODIFIED:20230628T143925Z
UID:10008762-1691053200-1691071200@epworth.faith
SUMMARY:Preschool Camp (Rooms 1 & 2)
DESCRIPTION:
URL:https://epworth.faith/event/preschool-camp-rooms-1-2-2/2023-08-03/
LOCATION:Epworth United Methodist Church\, 19285 Holland Glade Road\, Rehoboth Beach\, DE\, 19971\, United States
CATEGORIES:Preschool
ORGANIZER;CN="Betsy Plowman":MAILTO:bplowman@epworth.faith
END:VEVENT
BEGIN:VEVENT
DTSTART;TZID=America/New_York:20230802T090000
DTEND;TZID=America/New_York:20230802T140000
DTSTAMP:20260425T172108
CREATED:20230628T143925Z
LAST-MODIFIED:20230628T143925Z
UID:10008761-1690966800-1690984800@epworth.faith
SUMMARY:Preschool Camp (Rooms 1 & 2)
DESCRIPTION:
URL:https://epworth.faith/event/preschool-camp-rooms-1-2-2/2023-08-02/
LOCATION:Epworth United Methodist Church\, 19285 Holland Glade Road\, Rehoboth Beach\, DE\, 19971\, United States
CATEGORIES:Preschool
ORGANIZER;CN="Betsy Plowman":MAILTO:bplowman@epworth.faith
END:VEVENT
BEGIN:VEVENT
DTSTART;TZID=America/New_York:20230801T090000
DTEND;TZID=America/New_York:20230801T140000
DTSTAMP:20260425T172108
CREATED:20230628T143925Z
LAST-MODIFIED:20230628T143925Z
UID:10008760-1690880400-1690898400@epworth.faith
SUMMARY:Preschool Camp (Rooms 1 & 2)
DESCRIPTION:
URL:https://epworth.faith/event/preschool-camp-rooms-1-2-2/2023-08-01/
LOCATION:Epworth United Methodist Church\, 19285 Holland Glade Road\, Rehoboth Beach\, DE\, 19971\, United States
CATEGORIES:Preschool
ORGANIZER;CN="Betsy Plowman":MAILTO:bplowman@epworth.faith
END:VEVENT
BEGIN:VEVENT
DTSTART;TZID=America/New_York:20230731T090000
DTEND;TZID=America/New_York:20230731T140000
DTSTAMP:20260425T172108
CREATED:20230628T143925Z
LAST-MODIFIED:20230628T143925Z
UID:10008759-1690794000-1690812000@epworth.faith
SUMMARY:Preschool Camp (Rooms 1 & 2)
DESCRIPTION:
URL:https://epworth.faith/event/preschool-camp-rooms-1-2-2/2023-07-31/
LOCATION:Epworth United Methodist Church\, 19285 Holland Glade Road\, Rehoboth Beach\, DE\, 19971\, United States
CATEGORIES:Preschool
ORGANIZER;CN="Betsy Plowman":MAILTO:bplowman@epworth.faith
END:VEVENT
BEGIN:VEVENT
DTSTART;TZID=America/New_York:20230730T090000
DTEND;TZID=America/New_York:20230730T140000
DTSTAMP:20260425T172108
CREATED:20230628T143925Z
LAST-MODIFIED:20230628T143925Z
UID:10008758-1690707600-1690725600@epworth.faith
SUMMARY:Preschool Camp (Rooms 1 & 2)
DESCRIPTION:
URL:https://epworth.faith/event/preschool-camp-rooms-1-2-2/2023-07-30/
LOCATION:Epworth United Methodist Church\, 19285 Holland Glade Road\, Rehoboth Beach\, DE\, 19971\, United States
CATEGORIES:Preschool
ORGANIZER;CN="Betsy Plowman":MAILTO:bplowman@epworth.faith
END:VEVENT
BEGIN:VEVENT
DTSTART;TZID=America/New_York:20230729T090000
DTEND;TZID=America/New_York:20230729T140000
DTSTAMP:20260425T172108
CREATED:20230628T143925Z
LAST-MODIFIED:20230628T143925Z
UID:10008757-1690621200-1690639200@epworth.faith
SUMMARY:Preschool Camp (Rooms 1 & 2)
DESCRIPTION:
URL:https://epworth.faith/event/preschool-camp-rooms-1-2-2/2023-07-29/
LOCATION:Epworth United Methodist Church\, 19285 Holland Glade Road\, Rehoboth Beach\, DE\, 19971\, United States
CATEGORIES:Preschool
ORGANIZER;CN="Betsy Plowman":MAILTO:bplowman@epworth.faith
END:VEVENT
BEGIN:VEVENT
DTSTART;TZID=America/New_York:20230728T090000
DTEND;TZID=America/New_York:20230728T140000
DTSTAMP:20260425T172108
CREATED:20230628T143925Z
LAST-MODIFIED:20230628T143925Z
UID:10008756-1690534800-1690552800@epworth.faith
SUMMARY:Preschool Camp (Rooms 1 & 2)
DESCRIPTION:
URL:https://epworth.faith/event/preschool-camp-rooms-1-2-2/2023-07-28/
LOCATION:Epworth United Methodist Church\, 19285 Holland Glade Road\, Rehoboth Beach\, DE\, 19971\, United States
CATEGORIES:Preschool
ORGANIZER;CN="Betsy Plowman":MAILTO:bplowman@epworth.faith
END:VEVENT
BEGIN:VEVENT
DTSTART;TZID=America/New_York:20230727T090000
DTEND;TZID=America/New_York:20230727T140000
DTSTAMP:20260425T172108
CREATED:20230628T143925Z
LAST-MODIFIED:20230628T143925Z
UID:10008755-1690448400-1690466400@epworth.faith
SUMMARY:Preschool Camp (Rooms 1 & 2)
DESCRIPTION:
URL:https://epworth.faith/event/preschool-camp-rooms-1-2-2/2023-07-27/
LOCATION:Epworth United Methodist Church\, 19285 Holland Glade Road\, Rehoboth Beach\, DE\, 19971\, United States
CATEGORIES:Preschool
ORGANIZER;CN="Betsy Plowman":MAILTO:bplowman@epworth.faith
END:VEVENT
BEGIN:VEVENT
DTSTART;TZID=America/New_York:20230726T090000
DTEND;TZID=America/New_York:20230726T140000
DTSTAMP:20260425T172108
CREATED:20230628T143925Z
LAST-MODIFIED:20230628T143925Z
UID:10008754-1690362000-1690380000@epworth.faith
SUMMARY:Preschool Camp (Rooms 1 & 2)
DESCRIPTION:
URL:https://epworth.faith/event/preschool-camp-rooms-1-2-2/2023-07-26/
LOCATION:Epworth United Methodist Church\, 19285 Holland Glade Road\, Rehoboth Beach\, DE\, 19971\, United States
CATEGORIES:Preschool
ORGANIZER;CN="Betsy Plowman":MAILTO:bplowman@epworth.faith
END:VEVENT
BEGIN:VEVENT
DTSTART;TZID=America/New_York:20230725T090000
DTEND;TZID=America/New_York:20230725T140000
DTSTAMP:20260425T172108
CREATED:20230628T143925Z
LAST-MODIFIED:20230628T143925Z
UID:10008753-1690275600-1690293600@epworth.faith
SUMMARY:Preschool Camp (Rooms 1 & 2)
DESCRIPTION:
URL:https://epworth.faith/event/preschool-camp-rooms-1-2-2/2023-07-25/
LOCATION:Epworth United Methodist Church\, 19285 Holland Glade Road\, Rehoboth Beach\, DE\, 19971\, United States
CATEGORIES:Preschool
ORGANIZER;CN="Betsy Plowman":MAILTO:bplowman@epworth.faith
END:VEVENT
BEGIN:VEVENT
DTSTART;TZID=America/New_York:20230724T090000
DTEND;TZID=America/New_York:20230724T140000
DTSTAMP:20260425T172108
CREATED:20230628T143925Z
LAST-MODIFIED:20230628T143925Z
UID:10008752-1690189200-1690207200@epworth.faith
SUMMARY:Preschool Camp (Rooms 1 & 2)
DESCRIPTION:
URL:https://epworth.faith/event/preschool-camp-rooms-1-2-2/2023-07-24/
LOCATION:Epworth United Methodist Church\, 19285 Holland Glade Road\, Rehoboth Beach\, DE\, 19971\, United States
CATEGORIES:Preschool
ORGANIZER;CN="Betsy Plowman":MAILTO:bplowman@epworth.faith
END:VEVENT
BEGIN:VEVENT
DTSTART;TZID=America/New_York:20230721T090000
DTEND;TZID=America/New_York:20230721T140000
DTSTAMP:20260425T172108
CREATED:20230628T143421Z
LAST-MODIFIED:20230628T143421Z
UID:10008751-1689930000-1689948000@epworth.faith
SUMMARY:Preschool Camp (Rooms 1 & 2)
DESCRIPTION:
URL:https://epworth.faith/event/preschool-camp-rooms-1-2/2023-07-21/
LOCATION:Epworth United Methodist Church\, 19285 Holland Glade Road\, Rehoboth Beach\, DE\, 19971\, United States
CATEGORIES:Preschool
ORGANIZER;CN="Betsy Plowman":MAILTO:bplowman@epworth.faith
END:VEVENT
BEGIN:VEVENT
DTSTART;TZID=America/New_York:20230720T090000
DTEND;TZID=America/New_York:20230720T140000
DTSTAMP:20260425T172108
CREATED:20230628T143421Z
LAST-MODIFIED:20230628T143421Z
UID:10008750-1689843600-1689861600@epworth.faith
SUMMARY:Preschool Camp (Rooms 1 & 2)
DESCRIPTION:
URL:https://epworth.faith/event/preschool-camp-rooms-1-2/2023-07-20/
LOCATION:Epworth United Methodist Church\, 19285 Holland Glade Road\, Rehoboth Beach\, DE\, 19971\, United States
CATEGORIES:Preschool
ORGANIZER;CN="Betsy Plowman":MAILTO:bplowman@epworth.faith
END:VEVENT
BEGIN:VEVENT
DTSTART;TZID=America/New_York:20230719T090000
DTEND;TZID=America/New_York:20230719T140000
DTSTAMP:20260425T172108
CREATED:20230628T143421Z
LAST-MODIFIED:20230628T143421Z
UID:10008749-1689757200-1689775200@epworth.faith
SUMMARY:Preschool Camp (Rooms 1 & 2)
DESCRIPTION:
URL:https://epworth.faith/event/preschool-camp-rooms-1-2/2023-07-19/
LOCATION:Epworth United Methodist Church\, 19285 Holland Glade Road\, Rehoboth Beach\, DE\, 19971\, United States
CATEGORIES:Preschool
ORGANIZER;CN="Betsy Plowman":MAILTO:bplowman@epworth.faith
END:VEVENT
BEGIN:VEVENT
DTSTART;TZID=America/New_York:20230718T090000
DTEND;TZID=America/New_York:20230718T140000
DTSTAMP:20260425T172108
CREATED:20230628T143421Z
LAST-MODIFIED:20230628T143421Z
UID:10008748-1689670800-1689688800@epworth.faith
SUMMARY:Preschool Camp (Rooms 1 & 2)
DESCRIPTION:
URL:https://epworth.faith/event/preschool-camp-rooms-1-2/2023-07-18/
LOCATION:Epworth United Methodist Church\, 19285 Holland Glade Road\, Rehoboth Beach\, DE\, 19971\, United States
CATEGORIES:Preschool
ORGANIZER;CN="Betsy Plowman":MAILTO:bplowman@epworth.faith
END:VEVENT
BEGIN:VEVENT
DTSTART;TZID=America/New_York:20230717T090000
DTEND;TZID=America/New_York:20230717T140000
DTSTAMP:20260425T172108
CREATED:20230628T143421Z
LAST-MODIFIED:20230628T143421Z
UID:10008747-1689584400-1689602400@epworth.faith
SUMMARY:Preschool Camp (Rooms 1 & 2)
DESCRIPTION:
URL:https://epworth.faith/event/preschool-camp-rooms-1-2/2023-07-17/
LOCATION:Epworth United Methodist Church\, 19285 Holland Glade Road\, Rehoboth Beach\, DE\, 19971\, United States
CATEGORIES:Preschool
ORGANIZER;CN="Betsy Plowman":MAILTO:bplowman@epworth.faith
END:VEVENT
BEGIN:VEVENT
DTSTART;TZID=America/New_York:20230524T093000
DTEND;TZID=America/New_York:20230524T113000
DTSTAMP:20260425T172108
CREATED:20230419T160830Z
LAST-MODIFIED:20230419T160830Z
UID:10008569-1684920600-1684927800@epworth.faith
SUMMARY:Preschool Program (Sanctuary & Fellowship Hall)
DESCRIPTION:
URL:https://epworth.faith/event/preschool-program-sanctuary-fellowship-hall/
LOCATION:Epworth United Methodist Church\, 19285 Holland Glade Road\, Rehoboth Beach\, DE\, 19971\, United States
CATEGORIES:Preschool
ORGANIZER;CN="Betsy Plowman":MAILTO:bplowman@epworth.faith
END:VEVENT
BEGIN:VEVENT
DTSTART;TZID=America/New_York:20230523T093000
DTEND;TZID=America/New_York:20230523T120000
DTSTAMP:20260425T172108
CREATED:20230419T160033Z
LAST-MODIFIED:20230419T160611Z
UID:10008204-1684834200-1684843200@epworth.faith
SUMMARY:Preschool Program practice (Sanctuary)
DESCRIPTION:
URL:https://epworth.faith/event/preschool-program-practice-sanctuary-2/2023-05-23/
LOCATION:Epworth United Methodist Church\, 19285 Holland Glade Road\, Rehoboth Beach\, DE\, 19971\, United States
CATEGORIES:Preschool
ORGANIZER;CN="Betsy Plowman":MAILTO:bplowman@epworth.faith
END:VEVENT
BEGIN:VEVENT
DTSTART;TZID=America/New_York:20230522T093000
DTEND;TZID=America/New_York:20230522T120000
DTSTAMP:20260425T172108
CREATED:20230419T160033Z
LAST-MODIFIED:20230419T160611Z
UID:10008203-1684747800-1684756800@epworth.faith
SUMMARY:Preschool Program practice (Sanctuary)
DESCRIPTION:
URL:https://epworth.faith/event/preschool-program-practice-sanctuary-2/2023-05-22/
LOCATION:Epworth United Methodist Church\, 19285 Holland Glade Road\, Rehoboth Beach\, DE\, 19971\, United States
CATEGORIES:Preschool
ORGANIZER;CN="Betsy Plowman":MAILTO:bplowman@epworth.faith
END:VEVENT
BEGIN:VEVENT
DTSTART;TZID=America/New_York:20230519T093000
DTEND;TZID=America/New_York:20230519T120000
DTSTAMP:20260425T172108
CREATED:20230419T160033Z
LAST-MODIFIED:20230419T160611Z
UID:10008200-1684488600-1684497600@epworth.faith
SUMMARY:Preschool Program practice (Sanctuary)
DESCRIPTION:
URL:https://epworth.faith/event/preschool-program-practice-sanctuary-2/2023-05-19/
LOCATION:Epworth United Methodist Church\, 19285 Holland Glade Road\, Rehoboth Beach\, DE\, 19971\, United States
CATEGORIES:Preschool
ORGANIZER;CN="Betsy Plowman":MAILTO:bplowman@epworth.faith
END:VEVENT
BEGIN:VEVENT
DTSTART;TZID=America/New_York:20230518T093000
DTEND;TZID=America/New_York:20230518T120000
DTSTAMP:20260425T172108
CREATED:20230419T160033Z
LAST-MODIFIED:20230419T160611Z
UID:10008199-1684402200-1684411200@epworth.faith
SUMMARY:Preschool Program practice (Sanctuary)
DESCRIPTION:
URL:https://epworth.faith/event/preschool-program-practice-sanctuary-2/2023-05-18/
LOCATION:Epworth United Methodist Church\, 19285 Holland Glade Road\, Rehoboth Beach\, DE\, 19971\, United States
CATEGORIES:Preschool
ORGANIZER;CN="Betsy Plowman":MAILTO:bplowman@epworth.faith
END:VEVENT
BEGIN:VEVENT
DTSTART;TZID=America/New_York:20230517T093000
DTEND;TZID=America/New_York:20230517T120000
DTSTAMP:20260425T172108
CREATED:20230419T160033Z
LAST-MODIFIED:20230419T160611Z
UID:10008198-1684315800-1684324800@epworth.faith
SUMMARY:Preschool Program practice (Sanctuary)
DESCRIPTION:
URL:https://epworth.faith/event/preschool-program-practice-sanctuary-2/2023-05-17/
LOCATION:Epworth United Methodist Church\, 19285 Holland Glade Road\, Rehoboth Beach\, DE\, 19971\, United States
CATEGORIES:Preschool
ORGANIZER;CN="Betsy Plowman":MAILTO:bplowman@epworth.faith
END:VEVENT
BEGIN:VEVENT
DTSTART;TZID=America/New_York:20230516T093000
DTEND;TZID=America/New_York:20230516T120000
DTSTAMP:20260425T172108
CREATED:20230419T160033Z
LAST-MODIFIED:20230419T160611Z
UID:10008197-1684229400-1684238400@epworth.faith
SUMMARY:Preschool Program practice (Sanctuary)
DESCRIPTION:
URL:https://epworth.faith/event/preschool-program-practice-sanctuary-2/2023-05-16/
LOCATION:Epworth United Methodist Church\, 19285 Holland Glade Road\, Rehoboth Beach\, DE\, 19971\, United States
CATEGORIES:Preschool
ORGANIZER;CN="Betsy Plowman":MAILTO:bplowman@epworth.faith
END:VEVENT
BEGIN:VEVENT
DTSTART;TZID=America/New_York:20230515T091500
DTEND;TZID=America/New_York:20230515T103000
DTSTAMP:20260425T172108
CREATED:20230419T155900Z
LAST-MODIFIED:20230419T155900Z
UID:10008196-1684142100-1684146600@epworth.faith
SUMMARY:Preschool Program practice (Sanctuary)
DESCRIPTION:
URL:https://epworth.faith/event/preschool-program-practice-sanctuary/
LOCATION:Epworth United Methodist Church\, 19285 Holland Glade Road\, Rehoboth Beach\, DE\, 19971\, United States
CATEGORIES:Preschool
ORGANIZER;CN="Betsy Plowman":MAILTO:bplowman@epworth.faith
END:VEVENT
END:VCALENDAR