BEGIN:VCALENDAR
VERSION:2.0
PRODID:-//Epworth UMC - ECPv6.15.20//NONSGML v1.0//EN
CALSCALE:GREGORIAN
METHOD:PUBLISH
X-WR-CALNAME:Epworth UMC
X-ORIGINAL-URL:https://epworth.faith
X-WR-CALDESC:Events for Epworth UMC
REFRESH-INTERVAL;VALUE=DURATION:PT1H
X-Robots-Tag:noindex
X-PUBLISHED-TTL:PT1H
BEGIN:VTIMEZONE
TZID:America/New_York
BEGIN:DAYLIGHT
TZOFFSETFROM:-0500
TZOFFSETTO:-0400
TZNAME:EDT
DTSTART:20220313T070000
END:DAYLIGHT
BEGIN:STANDARD
TZOFFSETFROM:-0400
TZOFFSETTO:-0500
TZNAME:EST
DTSTART:20221106T060000
END:STANDARD
BEGIN:DAYLIGHT
TZOFFSETFROM:-0500
TZOFFSETTO:-0400
TZNAME:EDT
DTSTART:20230312T070000
END:DAYLIGHT
BEGIN:STANDARD
TZOFFSETFROM:-0400
TZOFFSETTO:-0500
TZNAME:EST
DTSTART:20231105T060000
END:STANDARD
BEGIN:DAYLIGHT
TZOFFSETFROM:-0500
TZOFFSETTO:-0400
TZNAME:EDT
DTSTART:20240310T070000
END:DAYLIGHT
BEGIN:STANDARD
TZOFFSETFROM:-0400
TZOFFSETTO:-0500
TZNAME:EST
DTSTART:20241103T060000
END:STANDARD
END:VTIMEZONE
BEGIN:VEVENT
DTSTART;TZID=America/New_York:20231128T100000
DTEND;TZID=America/New_York:20231128T120000
DTSTAMP:20260424T163404
CREATED:20230503T150544Z
LAST-MODIFIED:20230503T150544Z
UID:10008602-1701165600-1701172800@epworth.faith
SUMMARY:Narcam Training (Outside)
DESCRIPTION:
URL:https://epworth.faith/event/narcam-training-outside-2/2023-11-28/
LOCATION:Epworth United Methodist Church\, 19285 Holland Glade Road\, Rehoboth Beach\, DE\, 19971\, United States
CATEGORIES:Facility Rentals
ORGANIZER;CN="Bo Gordy-Stith":MAILTO:bgordy-stith@epworth.faith
END:VEVENT
BEGIN:VEVENT
DTSTART;TZID=America/New_York:20231116T093000
DTEND;TZID=America/New_York:20231116T123000
DTSTAMP:20260424T163404
CREATED:20231031T162020Z
LAST-MODIFIED:20231101T154957Z
UID:10010191-1700127000-1700137800@epworth.faith
SUMMARY:LRAC Training (Starnes Room)
DESCRIPTION:
URL:https://epworth.faith/event/lrac-training-baker-lounge/
LOCATION:Epworth United Methodist Church\, 19285 Holland Glade Road\, Rehoboth Beach\, DE\, 19971\, United States
CATEGORIES:LRAC
ORGANIZER;CN="Bo Gordy-Stith":MAILTO:bgordy-stith@epworth.faith
END:VEVENT
BEGIN:VEVENT
DTSTART;TZID=America/New_York:20231114T130000
DTEND;TZID=America/New_York:20231114T134500
DTSTAMP:20260424T163404
CREATED:20231101T154722Z
LAST-MODIFIED:20231101T154722Z
UID:10010713-1699966800-1699969500@epworth.faith
SUMMARY:LRAC Grant Committee (Starnes Room)
DESCRIPTION:
URL:https://epworth.faith/event/lrac-grant-committee-starnes-room/
LOCATION:Epworth United Methodist Church\, 19285 Holland Glade Road\, Rehoboth Beach\, DE\, 19971\, United States
CATEGORIES:LRAC
ORGANIZER;CN="Bo Gordy-Stith":MAILTO:bgordy-stith@epworth.faith
END:VEVENT
BEGIN:VEVENT
DTSTART;TZID=America/New_York:20231113T103000
DTEND;TZID=America/New_York:20231113T120000
DTSTAMP:20260424T163404
CREATED:20231031T155834Z
LAST-MODIFIED:20231031T155834Z
UID:10010190-1699871400-1699876800@epworth.faith
SUMMARY:LRAC Board Meeting (Administrative Mtg Room)
DESCRIPTION:
URL:https://epworth.faith/event/lrac-board-meeting-administrative-mtg-room/
LOCATION:Epworth United Methodist Church\, 19285 Holland Glade Road\, Rehoboth Beach\, DE\, 19971\, United States
ORGANIZER;CN="Bo Gordy-Stith":MAILTO:bgordy-stith@epworth.faith
END:VEVENT
BEGIN:VEVENT
DTSTART;TZID=America/New_York:20231108T190000
DTEND;TZID=America/New_York:20231108T200000
DTSTAMP:20260424T163404
CREATED:20230913T141450Z
LAST-MODIFIED:20230913T154308Z
UID:10009380-1699470000-1699473600@epworth.faith
SUMMARY:What We Mean When We Say God Group
DESCRIPTION:Zoom Link   \nWe’re in the midst of another time of reformation (some might say reckoning) for the church. The fastest growing religion in America is “none” and nearly everyone prefers being spiritual to religious. Our reliance on hollow dogmatic formulations of our faith is the very heart of this crisis. We’re a come-and-listen community in a come-and-show-us world. Yet the blessing in this crisis may be a call to explore and to articulate our own faith. \nJoin me for an exploratory faith conversation about the God we serve and worship\, and how articulating what we mean when we say God can enrich our faith and bless others.
URL:https://epworth.faith/event/what-we-mean-when-we-say-god-group/2023-11-08/
CATEGORIES:Church,Groups
ATTACH;FMTTYPE=image/png:https://epworth.faith/wp-content/uploads/2023/09/WWMWWSG.png
ORGANIZER;CN="Bo Gordy-Stith":MAILTO:bgordy-stith@epworth.faith
END:VEVENT
BEGIN:VEVENT
DTSTART;TZID=America/New_York:20231101T190000
DTEND;TZID=America/New_York:20231101T200000
DTSTAMP:20260424T163404
CREATED:20230913T141450Z
LAST-MODIFIED:20230913T154308Z
UID:10009379-1698865200-1698868800@epworth.faith
SUMMARY:What We Mean When We Say God Group
DESCRIPTION:Zoom Link   \nWe’re in the midst of another time of reformation (some might say reckoning) for the church. The fastest growing religion in America is “none” and nearly everyone prefers being spiritual to religious. Our reliance on hollow dogmatic formulations of our faith is the very heart of this crisis. We’re a come-and-listen community in a come-and-show-us world. Yet the blessing in this crisis may be a call to explore and to articulate our own faith. \nJoin me for an exploratory faith conversation about the God we serve and worship\, and how articulating what we mean when we say God can enrich our faith and bless others.
URL:https://epworth.faith/event/what-we-mean-when-we-say-god-group/2023-11-01/
CATEGORIES:Church,Groups
ATTACH;FMTTYPE=image/png:https://epworth.faith/wp-content/uploads/2023/09/WWMWWSG.png
ORGANIZER;CN="Bo Gordy-Stith":MAILTO:bgordy-stith@epworth.faith
END:VEVENT
BEGIN:VEVENT
DTSTART;TZID=America/New_York:20231026T140000
DTEND;TZID=America/New_York:20231026T160000
DTSTAMP:20260424T163404
CREATED:20230503T150406Z
LAST-MODIFIED:20230503T150406Z
UID:10008598-1698328800-1698336000@epworth.faith
SUMMARY:Narcam Training (outside)
DESCRIPTION:
URL:https://epworth.faith/event/narcam-training-outside/2023-10-26/
LOCATION:Epworth United Methodist Church\, 19285 Holland Glade Road\, Rehoboth Beach\, DE\, 19971\, United States
CATEGORIES:Facility Rentals
ORGANIZER;CN="Bo Gordy-Stith":MAILTO:bgordy-stith@epworth.faith
END:VEVENT
BEGIN:VEVENT
DTSTART;TZID=America/New_York:20231025T190000
DTEND;TZID=America/New_York:20231025T200000
DTSTAMP:20260424T163404
CREATED:20230913T141450Z
LAST-MODIFIED:20230913T154308Z
UID:10009378-1698260400-1698264000@epworth.faith
SUMMARY:What We Mean When We Say God Group
DESCRIPTION:Zoom Link   \nWe’re in the midst of another time of reformation (some might say reckoning) for the church. The fastest growing religion in America is “none” and nearly everyone prefers being spiritual to religious. Our reliance on hollow dogmatic formulations of our faith is the very heart of this crisis. We’re a come-and-listen community in a come-and-show-us world. Yet the blessing in this crisis may be a call to explore and to articulate our own faith. \nJoin me for an exploratory faith conversation about the God we serve and worship\, and how articulating what we mean when we say God can enrich our faith and bless others.
URL:https://epworth.faith/event/what-we-mean-when-we-say-god-group/2023-10-25/
CATEGORIES:Church,Groups
ATTACH;FMTTYPE=image/png:https://epworth.faith/wp-content/uploads/2023/09/WWMWWSG.png
ORGANIZER;CN="Bo Gordy-Stith":MAILTO:bgordy-stith@epworth.faith
END:VEVENT
BEGIN:VEVENT
DTSTART;TZID=America/New_York:20231018T190000
DTEND;TZID=America/New_York:20231018T200000
DTSTAMP:20260424T163404
CREATED:20230913T141450Z
LAST-MODIFIED:20230913T154308Z
UID:10009377-1697655600-1697659200@epworth.faith
SUMMARY:What We Mean When We Say God Group
DESCRIPTION:Zoom Link   \nWe’re in the midst of another time of reformation (some might say reckoning) for the church. The fastest growing religion in America is “none” and nearly everyone prefers being spiritual to religious. Our reliance on hollow dogmatic formulations of our faith is the very heart of this crisis. We’re a come-and-listen community in a come-and-show-us world. Yet the blessing in this crisis may be a call to explore and to articulate our own faith. \nJoin me for an exploratory faith conversation about the God we serve and worship\, and how articulating what we mean when we say God can enrich our faith and bless others.
URL:https://epworth.faith/event/what-we-mean-when-we-say-god-group/2023-10-18/
CATEGORIES:Church,Groups
ATTACH;FMTTYPE=image/png:https://epworth.faith/wp-content/uploads/2023/09/WWMWWSG.png
ORGANIZER;CN="Bo Gordy-Stith":MAILTO:bgordy-stith@epworth.faith
END:VEVENT
BEGIN:VEVENT
DTSTART;TZID=America/New_York:20231011T190000
DTEND;TZID=America/New_York:20231011T200000
DTSTAMP:20260424T163404
CREATED:20230913T141450Z
LAST-MODIFIED:20230913T154308Z
UID:10009376-1697050800-1697054400@epworth.faith
SUMMARY:What We Mean When We Say God Group
DESCRIPTION:Zoom Link   \nWe’re in the midst of another time of reformation (some might say reckoning) for the church. The fastest growing religion in America is “none” and nearly everyone prefers being spiritual to religious. Our reliance on hollow dogmatic formulations of our faith is the very heart of this crisis. We’re a come-and-listen community in a come-and-show-us world. Yet the blessing in this crisis may be a call to explore and to articulate our own faith. \nJoin me for an exploratory faith conversation about the God we serve and worship\, and how articulating what we mean when we say God can enrich our faith and bless others.
URL:https://epworth.faith/event/what-we-mean-when-we-say-god-group/2023-10-11/
CATEGORIES:Church,Groups
ATTACH;FMTTYPE=image/png:https://epworth.faith/wp-content/uploads/2023/09/WWMWWSG.png
ORGANIZER;CN="Bo Gordy-Stith":MAILTO:bgordy-stith@epworth.faith
END:VEVENT
BEGIN:VEVENT
DTSTART;TZID=America/New_York:20231004T190000
DTEND;TZID=America/New_York:20231004T200000
DTSTAMP:20260424T163404
CREATED:20230913T141450Z
LAST-MODIFIED:20230913T154308Z
UID:10009375-1696446000-1696449600@epworth.faith
SUMMARY:What We Mean When We Say God Group
DESCRIPTION:Zoom Link   \nWe’re in the midst of another time of reformation (some might say reckoning) for the church. The fastest growing religion in America is “none” and nearly everyone prefers being spiritual to religious. Our reliance on hollow dogmatic formulations of our faith is the very heart of this crisis. We’re a come-and-listen community in a come-and-show-us world. Yet the blessing in this crisis may be a call to explore and to articulate our own faith. \nJoin me for an exploratory faith conversation about the God we serve and worship\, and how articulating what we mean when we say God can enrich our faith and bless others.
URL:https://epworth.faith/event/what-we-mean-when-we-say-god-group/2023-10-04/
CATEGORIES:Church,Groups
ATTACH;FMTTYPE=image/png:https://epworth.faith/wp-content/uploads/2023/09/WWMWWSG.png
ORGANIZER;CN="Bo Gordy-Stith":MAILTO:bgordy-stith@epworth.faith
END:VEVENT
BEGIN:VEVENT
DTSTART;TZID=America/New_York:20230926T100000
DTEND;TZID=America/New_York:20230926T120000
DTSTAMP:20260424T163404
CREATED:20230503T150544Z
LAST-MODIFIED:20230503T150544Z
UID:10008601-1695722400-1695729600@epworth.faith
SUMMARY:Narcam Training (Outside)
DESCRIPTION:
URL:https://epworth.faith/event/narcam-training-outside-2/2023-09-26/
LOCATION:Epworth United Methodist Church\, 19285 Holland Glade Road\, Rehoboth Beach\, DE\, 19971\, United States
CATEGORIES:Facility Rentals
ORGANIZER;CN="Bo Gordy-Stith":MAILTO:bgordy-stith@epworth.faith
END:VEVENT
BEGIN:VEVENT
DTSTART;TZID=America/New_York:20230911T090000
DTEND;TZID=America/New_York:20230911T170000
DTSTAMP:20260424T163404
CREATED:20230909T152120Z
LAST-MODIFIED:20230909T152120Z
UID:10008999-1694422800-1694451600@epworth.faith
SUMMARY:Tech Set-up - Sanctuary
DESCRIPTION:Technical set-up for CAMP Ensemble Music of the Night Concert\nBarry Bugg
URL:https://epworth.faith/event/tech-set-up-sanctuary/
ORGANIZER;CN="Bo Gordy-Stith":MAILTO:bgordy-stith@epworth.faith
END:VEVENT
BEGIN:VEVENT
DTSTART;TZID=America/New_York:20230824T140000
DTEND;TZID=America/New_York:20230824T160000
DTSTAMP:20260424T163404
CREATED:20230503T150406Z
LAST-MODIFIED:20230503T150406Z
UID:10008597-1692885600-1692892800@epworth.faith
SUMMARY:Narcam Training (outside)
DESCRIPTION:
URL:https://epworth.faith/event/narcam-training-outside/2023-08-24/
LOCATION:Epworth United Methodist Church\, 19285 Holland Glade Road\, Rehoboth Beach\, DE\, 19971\, United States
CATEGORIES:Facility Rentals
ORGANIZER;CN="Bo Gordy-Stith":MAILTO:bgordy-stith@epworth.faith
END:VEVENT
BEGIN:VEVENT
DTSTART;TZID=America/New_York:20230823T100000
DTEND;TZID=America/New_York:20230823T130000
DTSTAMP:20260424T163404
CREATED:20230823T121821Z
LAST-MODIFIED:20230823T121821Z
UID:10008995-1692784800-1692795600@epworth.faith
SUMMARY:LRAC Board Training - Conference Room
DESCRIPTION:
URL:https://epworth.faith/event/lrac-board-training-conference-room/
LOCATION:Epworth United Methodist Church\, 19285 Holland Glade Road\, Rehoboth Beach\, DE\, 19971\, United States
ORGANIZER;CN="Bo Gordy-Stith":MAILTO:bgordy-stith@epworth.faith
END:VEVENT
BEGIN:VEVENT
DTSTART;TZID=America/New_York:20230725T100000
DTEND;TZID=America/New_York:20230725T120000
DTSTAMP:20260424T163404
CREATED:20230503T150544Z
LAST-MODIFIED:20230503T150544Z
UID:10008600-1690279200-1690286400@epworth.faith
SUMMARY:Narcam Training (Outside)
DESCRIPTION:
URL:https://epworth.faith/event/narcam-training-outside-2/2023-07-25/
LOCATION:Epworth United Methodist Church\, 19285 Holland Glade Road\, Rehoboth Beach\, DE\, 19971\, United States
CATEGORIES:Facility Rentals
ORGANIZER;CN="Bo Gordy-Stith":MAILTO:bgordy-stith@epworth.faith
END:VEVENT
BEGIN:VEVENT
DTSTART;TZID=America/New_York:20230622T140000
DTEND;TZID=America/New_York:20230622T160000
DTSTAMP:20260424T163404
CREATED:20230503T150406Z
LAST-MODIFIED:20230503T150406Z
UID:10008596-1687442400-1687449600@epworth.faith
SUMMARY:Narcam Training (outside)
DESCRIPTION:
URL:https://epworth.faith/event/narcam-training-outside/2023-06-22/
LOCATION:Epworth United Methodist Church\, 19285 Holland Glade Road\, Rehoboth Beach\, DE\, 19971\, United States
CATEGORIES:Facility Rentals
ORGANIZER;CN="Bo Gordy-Stith":MAILTO:bgordy-stith@epworth.faith
END:VEVENT
BEGIN:VEVENT
DTSTART;TZID=America/New_York:20230518T100000
DTEND;TZID=America/New_York:20230518T140000
DTSTAMP:20260424T163404
CREATED:20230515T141043Z
LAST-MODIFIED:20230515T141423Z
UID:10008608-1684404000-1684418400@epworth.faith
SUMMARY:LRAC BOD Training (Conf. Room)
DESCRIPTION:
URL:https://epworth.faith/event/lrac-bod-training/
CATEGORIES:LRAC
ORGANIZER;CN="Bo Gordy-Stith":MAILTO:bgordy-stith@epworth.faith
END:VEVENT
BEGIN:VEVENT
DTSTART;TZID=America/New_York:20230425T183000
DTEND;TZID=America/New_York:20230425T193000
DTSTAMP:20260424T163404
CREATED:20230417T154624Z
LAST-MODIFIED:20230424T133743Z
UID:10008194-1682447400-1682451000@epworth.faith
SUMMARY:LRAC Board Meeting (Branford Lounge)
DESCRIPTION:LRAC quarterly board of directors’ open meeting – featuring reports from LRAC ministry partners and board committees. The open meeting will be followed immediately (from 7:30-8:15) by a closed session of the Board of Directors.
URL:https://epworth.faith/event/lrac-board-meeting/
CATEGORIES:LRAC
ATTACH;FMTTYPE=image/png:https://epworth.faith/wp-content/uploads/2023/04/LRAC-Logo-New.png
ORGANIZER;CN="Bo Gordy-Stith":MAILTO:bgordy-stith@epworth.faith
END:VEVENT
BEGIN:VEVENT
DTSTART;TZID=America/New_York:20230402T113000
DTEND;TZID=America/New_York:20230402T123000
DTSTAMP:20260424T163404
CREATED:20230216T170851Z
LAST-MODIFIED:20230227T164627Z
UID:10008078-1680435000-1680438600@epworth.faith
SUMMARY:Sermon Discussion Group (Zoom Meeting)
DESCRIPTION:Zoom Link
URL:https://epworth.faith/event/sermon-discussion-group-zoom-meeting/2023-04-02/
LOCATION:Zoom
CATEGORIES:Groups
ORGANIZER;CN="Bo Gordy-Stith":MAILTO:bgordy-stith@epworth.faith
END:VEVENT
BEGIN:VEVENT
DTSTART;TZID=America/New_York:20230330T183000
DTEND;TZID=America/New_York:20230330T193000
DTSTAMP:20260424T163404
CREATED:20230227T145210Z
LAST-MODIFIED:20230227T145211Z
UID:10008060-1680201000-1680204600@epworth.faith
SUMMARY:12 Most Important Chapters of the Bible Part 2 (Zoom Meeting)
DESCRIPTION:https://us02web.zoom.us/j/86293053427?pwd=Z0hQcy9IemhoZlJHZWNRU1lQMkNzZz09
URL:https://epworth.faith/event/12-most-important-chapters-of-the-bible-part-2-zoom-meeting-2/2023-03-30/
LOCATION:Zoom
CATEGORIES:Groups
ORGANIZER;CN="Bo Gordy-Stith":MAILTO:bgordy-stith@epworth.faith
END:VEVENT
BEGIN:VEVENT
DTSTART;TZID=America/New_York:20230326T113000
DTEND;TZID=America/New_York:20230326T123000
DTSTAMP:20260424T163404
CREATED:20230216T170851Z
LAST-MODIFIED:20230227T164627Z
UID:10008077-1679830200-1679833800@epworth.faith
SUMMARY:Sermon Discussion Group (Zoom Meeting)
DESCRIPTION:Zoom Link
URL:https://epworth.faith/event/sermon-discussion-group-zoom-meeting/2023-03-26/
LOCATION:Zoom
CATEGORIES:Groups
ORGANIZER;CN="Bo Gordy-Stith":MAILTO:bgordy-stith@epworth.faith
END:VEVENT
BEGIN:VEVENT
DTSTART;TZID=America/New_York:20230323T183000
DTEND;TZID=America/New_York:20230323T193000
DTSTAMP:20260424T163404
CREATED:20230227T145210Z
LAST-MODIFIED:20230227T145211Z
UID:10008059-1679596200-1679599800@epworth.faith
SUMMARY:12 Most Important Chapters of the Bible Part 2 (Zoom Meeting)
DESCRIPTION:https://us02web.zoom.us/j/86293053427?pwd=Z0hQcy9IemhoZlJHZWNRU1lQMkNzZz09
URL:https://epworth.faith/event/12-most-important-chapters-of-the-bible-part-2-zoom-meeting-2/2023-03-23/
LOCATION:Zoom
CATEGORIES:Groups
ORGANIZER;CN="Bo Gordy-Stith":MAILTO:bgordy-stith@epworth.faith
END:VEVENT
BEGIN:VEVENT
DTSTART;TZID=America/New_York:20230319T113000
DTEND;TZID=America/New_York:20230319T123000
DTSTAMP:20260424T163404
CREATED:20230216T170851Z
LAST-MODIFIED:20230227T164627Z
UID:10008076-1679225400-1679229000@epworth.faith
SUMMARY:Sermon Discussion Group (Zoom Meeting)
DESCRIPTION:Zoom Link
URL:https://epworth.faith/event/sermon-discussion-group-zoom-meeting/2023-03-19/
LOCATION:Zoom
CATEGORIES:Groups
ORGANIZER;CN="Bo Gordy-Stith":MAILTO:bgordy-stith@epworth.faith
END:VEVENT
BEGIN:VEVENT
DTSTART;TZID=America/New_York:20230316T183000
DTEND;TZID=America/New_York:20230316T193000
DTSTAMP:20260424T163404
CREATED:20230227T145210Z
LAST-MODIFIED:20230227T145211Z
UID:10008058-1678991400-1678995000@epworth.faith
SUMMARY:12 Most Important Chapters of the Bible Part 2 (Zoom Meeting)
DESCRIPTION:https://us02web.zoom.us/j/86293053427?pwd=Z0hQcy9IemhoZlJHZWNRU1lQMkNzZz09
URL:https://epworth.faith/event/12-most-important-chapters-of-the-bible-part-2-zoom-meeting-2/2023-03-16/
LOCATION:Zoom
CATEGORIES:Groups
ORGANIZER;CN="Bo Gordy-Stith":MAILTO:bgordy-stith@epworth.faith
END:VEVENT
BEGIN:VEVENT
DTSTART;TZID=America/New_York:20230312T113000
DTEND;TZID=America/New_York:20230312T123000
DTSTAMP:20260424T163404
CREATED:20230216T170851Z
LAST-MODIFIED:20230227T164627Z
UID:10008075-1678620600-1678624200@epworth.faith
SUMMARY:Sermon Discussion Group (Zoom Meeting)
DESCRIPTION:Zoom Link
URL:https://epworth.faith/event/sermon-discussion-group-zoom-meeting/2023-03-12/
LOCATION:Zoom
CATEGORIES:Groups
ORGANIZER;CN="Bo Gordy-Stith":MAILTO:bgordy-stith@epworth.faith
END:VEVENT
BEGIN:VEVENT
DTSTART;TZID=America/New_York:20230309T183000
DTEND;TZID=America/New_York:20230309T193000
DTSTAMP:20260424T163404
CREATED:20230227T145210Z
LAST-MODIFIED:20230227T145211Z
UID:10008057-1678386600-1678390200@epworth.faith
SUMMARY:12 Most Important Chapters of the Bible Part 2 (Zoom Meeting)
DESCRIPTION:https://us02web.zoom.us/j/86293053427?pwd=Z0hQcy9IemhoZlJHZWNRU1lQMkNzZz09
URL:https://epworth.faith/event/12-most-important-chapters-of-the-bible-part-2-zoom-meeting-2/2023-03-09/
LOCATION:Zoom
CATEGORIES:Groups
ORGANIZER;CN="Bo Gordy-Stith":MAILTO:bgordy-stith@epworth.faith
END:VEVENT
BEGIN:VEVENT
DTSTART;TZID=America/New_York:20230305T113000
DTEND;TZID=America/New_York:20230305T123000
DTSTAMP:20260424T163404
CREATED:20230216T170851Z
LAST-MODIFIED:20230227T164627Z
UID:10008074-1678015800-1678019400@epworth.faith
SUMMARY:Sermon Discussion Group (Zoom Meeting)
DESCRIPTION:Zoom Link
URL:https://epworth.faith/event/sermon-discussion-group-zoom-meeting/2023-03-05/
LOCATION:Zoom
CATEGORIES:Groups
ORGANIZER;CN="Bo Gordy-Stith":MAILTO:bgordy-stith@epworth.faith
END:VEVENT
BEGIN:VEVENT
DTSTART;TZID=America/New_York:20230302T183000
DTEND;TZID=America/New_York:20230302T193000
DTSTAMP:20260424T163404
CREATED:20230227T145210Z
LAST-MODIFIED:20230227T145211Z
UID:10008056-1677781800-1677785400@epworth.faith
SUMMARY:12 Most Important Chapters of the Bible Part 2 (Zoom Meeting)
DESCRIPTION:https://us02web.zoom.us/j/86293053427?pwd=Z0hQcy9IemhoZlJHZWNRU1lQMkNzZz09
URL:https://epworth.faith/event/12-most-important-chapters-of-the-bible-part-2-zoom-meeting-2/2023-03-02/
LOCATION:Zoom
CATEGORIES:Groups
ORGANIZER;CN="Bo Gordy-Stith":MAILTO:bgordy-stith@epworth.faith
END:VEVENT
BEGIN:VEVENT
DTSTART;TZID=America/New_York:20230226T113000
DTEND;TZID=America/New_York:20230226T123000
DTSTAMP:20260424T163404
CREATED:20230216T170851Z
LAST-MODIFIED:20230227T164627Z
UID:10008073-1677411000-1677414600@epworth.faith
SUMMARY:Sermon Discussion Group (Zoom Meeting)
DESCRIPTION:Zoom Link
URL:https://epworth.faith/event/sermon-discussion-group-zoom-meeting/2023-02-26/
LOCATION:Zoom
CATEGORIES:Groups
ORGANIZER;CN="Bo Gordy-Stith":MAILTO:bgordy-stith@epworth.faith
END:VEVENT
END:VCALENDAR