BEGIN:VCALENDAR
VERSION:2.0
PRODID:-//Epworth UMC - ECPv6.15.20//NONSGML v1.0//EN
CALSCALE:GREGORIAN
METHOD:PUBLISH
X-ORIGINAL-URL:https://epworth.faith
X-WR-CALDESC:Events for Epworth UMC
REFRESH-INTERVAL;VALUE=DURATION:PT1H
X-Robots-Tag:noindex
X-PUBLISHED-TTL:PT1H
BEGIN:VTIMEZONE
TZID:America/New_York
BEGIN:DAYLIGHT
TZOFFSETFROM:-0500
TZOFFSETTO:-0400
TZNAME:EDT
DTSTART:20200308T070000
END:DAYLIGHT
BEGIN:STANDARD
TZOFFSETFROM:-0400
TZOFFSETTO:-0500
TZNAME:EST
DTSTART:20201101T060000
END:STANDARD
BEGIN:DAYLIGHT
TZOFFSETFROM:-0500
TZOFFSETTO:-0400
TZNAME:EDT
DTSTART:20210314T070000
END:DAYLIGHT
BEGIN:STANDARD
TZOFFSETFROM:-0400
TZOFFSETTO:-0500
TZNAME:EST
DTSTART:20211107T060000
END:STANDARD
BEGIN:DAYLIGHT
TZOFFSETFROM:-0500
TZOFFSETTO:-0400
TZNAME:EDT
DTSTART:20220313T070000
END:DAYLIGHT
BEGIN:STANDARD
TZOFFSETFROM:-0400
TZOFFSETTO:-0500
TZNAME:EST
DTSTART:20221106T060000
END:STANDARD
BEGIN:DAYLIGHT
TZOFFSETFROM:-0500
TZOFFSETTO:-0400
TZNAME:EDT
DTSTART:20230312T070000
END:DAYLIGHT
BEGIN:STANDARD
TZOFFSETFROM:-0400
TZOFFSETTO:-0500
TZNAME:EST
DTSTART:20231105T060000
END:STANDARD
BEGIN:DAYLIGHT
TZOFFSETFROM:-0500
TZOFFSETTO:-0400
TZNAME:EDT
DTSTART:20240310T070000
END:DAYLIGHT
BEGIN:STANDARD
TZOFFSETFROM:-0400
TZOFFSETTO:-0500
TZNAME:EST
DTSTART:20241103T060000
END:STANDARD
BEGIN:DAYLIGHT
TZOFFSETFROM:-0500
TZOFFSETTO:-0400
TZNAME:EDT
DTSTART:20250309T070000
END:DAYLIGHT
BEGIN:STANDARD
TZOFFSETFROM:-0400
TZOFFSETTO:-0500
TZNAME:EST
DTSTART:20251102T060000
END:STANDARD
BEGIN:DAYLIGHT
TZOFFSETFROM:-0500
TZOFFSETTO:-0400
TZNAME:EDT
DTSTART:20260308T070000
END:DAYLIGHT
BEGIN:STANDARD
TZOFFSETFROM:-0400
TZOFFSETTO:-0500
TZNAME:EST
DTSTART:20261101T060000
END:STANDARD
END:VTIMEZONE
BEGIN:VEVENT
DTSTART;TZID=America/New_York:20250907T110000
DTEND;TZID=America/New_York:20250907T120000
DTSTAMP:20260424T211027
CREATED:20250904T162253Z
LAST-MODIFIED:20250904T162253Z
UID:10017286-1757242800-1757246400@epworth.faith
SUMMARY:Mission Meeting (Branford Room)
DESCRIPTION:
URL:https://epworth.faith/event/mission-meeting-branford-room/
LOCATION:Epworth United Methodist Church\, 19285 Holland Glade Road\, Rehoboth Beach\, DE\, 19971\, United States
CATEGORIES:Church,Groups
ORGANIZER;CN="Bob Paulen":MAILTO:bobpaulen@yahoo.com
END:VEVENT
BEGIN:VEVENT
DTSTART;TZID=America/New_York:20250410T183000
DTEND;TZID=America/New_York:20250410T200000
DTSTAMP:20260424T211027
CREATED:20250116T214257Z
LAST-MODIFIED:20250220T191246Z
UID:10015395-1744309800-1744315200@epworth.faith
SUMMARY:Eleventh Commandment Study Group (Branford Room)
DESCRIPTION:
URL:https://epworth.faith/event/eleventh-commandment-study-group-starnes-room/2025-04-10/
LOCATION:Epworth United Methodist Church\, 19285 Holland Glade Road\, Rehoboth Beach\, DE\, 19971\, United States
CATEGORIES:Church,Groups
ORGANIZER;CN="Bob Paulen":MAILTO:bobpaulen@yahoo.com
END:VEVENT
BEGIN:VEVENT
DTSTART;TZID=America/New_York:20250403T183000
DTEND;TZID=America/New_York:20250403T200000
DTSTAMP:20260424T211027
CREATED:20250116T214257Z
LAST-MODIFIED:20250220T191246Z
UID:10015394-1743705000-1743710400@epworth.faith
SUMMARY:Eleventh Commandment Study Group (Branford Room)
DESCRIPTION:
URL:https://epworth.faith/event/eleventh-commandment-study-group-starnes-room/2025-04-03/
LOCATION:Epworth United Methodist Church\, 19285 Holland Glade Road\, Rehoboth Beach\, DE\, 19971\, United States
CATEGORIES:Church,Groups
ORGANIZER;CN="Bob Paulen":MAILTO:bobpaulen@yahoo.com
END:VEVENT
BEGIN:VEVENT
DTSTART;TZID=America/New_York:20250327T183000
DTEND;TZID=America/New_York:20250327T200000
DTSTAMP:20260424T211027
CREATED:20250116T214257Z
LAST-MODIFIED:20250220T191246Z
UID:10015393-1743100200-1743105600@epworth.faith
SUMMARY:Eleventh Commandment Study Group (Branford Room)
DESCRIPTION:
URL:https://epworth.faith/event/eleventh-commandment-study-group-starnes-room/2025-03-27/
LOCATION:Epworth United Methodist Church\, 19285 Holland Glade Road\, Rehoboth Beach\, DE\, 19971\, United States
CATEGORIES:Church,Groups
ORGANIZER;CN="Bob Paulen":MAILTO:bobpaulen@yahoo.com
END:VEVENT
BEGIN:VEVENT
DTSTART;TZID=America/New_York:20250320T183000
DTEND;TZID=America/New_York:20250320T200000
DTSTAMP:20260424T211027
CREATED:20250116T214257Z
LAST-MODIFIED:20250220T191246Z
UID:10015392-1742495400-1742500800@epworth.faith
SUMMARY:Eleventh Commandment Study Group (Branford Room)
DESCRIPTION:
URL:https://epworth.faith/event/eleventh-commandment-study-group-starnes-room/2025-03-20/
LOCATION:Epworth United Methodist Church\, 19285 Holland Glade Road\, Rehoboth Beach\, DE\, 19971\, United States
CATEGORIES:Church,Groups
ORGANIZER;CN="Bob Paulen":MAILTO:bobpaulen@yahoo.com
END:VEVENT
BEGIN:VEVENT
DTSTART;TZID=America/New_York:20250313T183000
DTEND;TZID=America/New_York:20250313T200000
DTSTAMP:20260424T211027
CREATED:20250116T214257Z
LAST-MODIFIED:20250220T191246Z
UID:10015391-1741890600-1741896000@epworth.faith
SUMMARY:Eleventh Commandment Study Group (Branford Room)
DESCRIPTION:
URL:https://epworth.faith/event/eleventh-commandment-study-group-starnes-room/2025-03-13/
LOCATION:Epworth United Methodist Church\, 19285 Holland Glade Road\, Rehoboth Beach\, DE\, 19971\, United States
CATEGORIES:Church,Groups
ORGANIZER;CN="Bob Paulen":MAILTO:bobpaulen@yahoo.com
END:VEVENT
BEGIN:VEVENT
DTSTART;TZID=America/New_York:20250306T183000
DTEND;TZID=America/New_York:20250306T200000
DTSTAMP:20260424T211027
CREATED:20250116T214257Z
LAST-MODIFIED:20250220T191246Z
UID:10015390-1741285800-1741291200@epworth.faith
SUMMARY:Eleventh Commandment Study Group (Branford Room)
DESCRIPTION:
URL:https://epworth.faith/event/eleventh-commandment-study-group-starnes-room/2025-03-06/
LOCATION:Epworth United Methodist Church\, 19285 Holland Glade Road\, Rehoboth Beach\, DE\, 19971\, United States
CATEGORIES:Church,Groups
ORGANIZER;CN="Bob Paulen":MAILTO:bobpaulen@yahoo.com
END:VEVENT
BEGIN:VEVENT
DTSTART;TZID=America/New_York:20220723T120000
DTEND;TZID=America/New_York:20220723T150000
DTSTAMP:20260424T211027
CREATED:20220331T152421Z
LAST-MODIFIED:20220331T152421Z
UID:10006288-1658577600-1658588400@epworth.faith
SUMMARY:Paulen Reunion (Fellowship Hall)
DESCRIPTION:
URL:https://epworth.faith/event/paulen-reunion-fellowship-hall/
LOCATION:Epworth United Methodist Church\, 19285 Holland Glade Road\, Rehoboth Beach\, DE\, 19971\, United States
ORGANIZER;CN="Bob Paulen":MAILTO:bobpaulen@yahoo.com
END:VEVENT
BEGIN:VEVENT
DTSTART;TZID=America/New_York:20220119T100000
DTEND;TZID=America/New_York:20220119T120000
DTSTAMP:20260424T211027
CREATED:20220105T200908Z
LAST-MODIFIED:20220105T200908Z
UID:10005868-1642586400-1642593600@epworth.faith
SUMMARY:Tiny Houses in Baker Lounge
DESCRIPTION:
URL:https://epworth.faith/event/tiny-houses-in-baker-lounge/
LOCATION:Epworth United Methodist Church\, 19285 Holland Glade Road\, Rehoboth Beach\, DE\, 19971\, United States
CATEGORIES:Groups
ORGANIZER;CN="Bob Paulen":MAILTO:bobpaulen@yahoo.com
END:VEVENT
BEGIN:VEVENT
DTSTART;TZID=America/New_York:20211116T100000
DTEND;TZID=America/New_York:20211116T120000
DTSTAMP:20260424T211027
CREATED:20211020T144522Z
LAST-MODIFIED:20211020T144522Z
UID:10004359-1637056800-1637064000@epworth.faith
SUMMARY:Affordable Housing
DESCRIPTION:Affordable Housing meets in the Baker Lounge.
URL:https://epworth.faith/event/affordable-housing/
LOCATION:Epworth United Methodist Church\, 19285 Holland Glade Road\, Rehoboth Beach\, DE\, 19971\, United States
CATEGORIES:Church
ORGANIZER;CN="Bob Paulen":MAILTO:bobpaulen@yahoo.com
END:VEVENT
BEGIN:VEVENT
DTSTART;TZID=America/New_York:20211019T100000
DTEND;TZID=America/New_York:20211019T120000
DTSTAMP:20260424T211027
CREATED:20211006T161541Z
LAST-MODIFIED:20211011T162403Z
UID:10004149-1634637600-1634644800@epworth.faith
SUMMARY:Affordable Housing Group
DESCRIPTION:The meeting about housing in Sussex will be held in the Baker Lounge. \nPoint of contact is the Rev. Bob Paulin \n[contact-form][contact-field label=”Name” type=”name”  required=”true” /][contact-field label=”Email” type=”email” required=”true” /][contact-field label=”Website” type=”url” /][contact-field label=”Message” type=”textarea” /][/contact-form]
URL:https://epworth.faith/event/tiny-houses/
LOCATION:Epworth United Methodist Church\, 19285 Holland Glade Road\, Rehoboth Beach\, DE\, 19971\, United States
CATEGORIES:Church,Groups
ATTACH;FMTTYPE=image/jpeg:https://epworth.faith/wp-content/uploads/2021/10/tumbleweed-tiny-house-image-five-cypress-20-600-x-400.jpg
ORGANIZER;CN="Bob Paulen":MAILTO:bobpaulen@yahoo.com
END:VEVENT
END:VCALENDAR