BEGIN:VCALENDAR
VERSION:2.0
PRODID:-//Epworth UMC - ECPv6.15.20//NONSGML v1.0//EN
CALSCALE:GREGORIAN
METHOD:PUBLISH
X-ORIGINAL-URL:https://epworth.faith
X-WR-CALDESC:Events for Epworth UMC
REFRESH-INTERVAL;VALUE=DURATION:PT1H
X-Robots-Tag:noindex
X-PUBLISHED-TTL:PT1H
BEGIN:VTIMEZONE
TZID:America/New_York
BEGIN:DAYLIGHT
TZOFFSETFROM:-0500
TZOFFSETTO:-0400
TZNAME:EDT
DTSTART:20210314T070000
END:DAYLIGHT
BEGIN:STANDARD
TZOFFSETFROM:-0400
TZOFFSETTO:-0500
TZNAME:EST
DTSTART:20211107T060000
END:STANDARD
BEGIN:DAYLIGHT
TZOFFSETFROM:-0500
TZOFFSETTO:-0400
TZNAME:EDT
DTSTART:20220313T070000
END:DAYLIGHT
BEGIN:STANDARD
TZOFFSETFROM:-0400
TZOFFSETTO:-0500
TZNAME:EST
DTSTART:20221106T060000
END:STANDARD
BEGIN:DAYLIGHT
TZOFFSETFROM:-0500
TZOFFSETTO:-0400
TZNAME:EDT
DTSTART:20230312T070000
END:DAYLIGHT
BEGIN:STANDARD
TZOFFSETFROM:-0400
TZOFFSETTO:-0500
TZNAME:EST
DTSTART:20231105T060000
END:STANDARD
END:VTIMEZONE
BEGIN:VEVENT
DTSTART;TZID=America/New_York:20221005T180000
DTEND;TZID=America/New_York:20221005T190000
DTSTAMP:20260425T073739
CREATED:20211208T171312Z
LAST-MODIFIED:20211208T171312Z
UID:10004471-1664992800-1664996400@epworth.faith
SUMMARY:Alanon
DESCRIPTION:Alanon meets in the Baker Lounge
URL:https://epworth.faith/event/alanon-6/2022-10-05/
LOCATION:Epworth United Methodist Church\, 19285 Holland Glade Road\, Rehoboth Beach\, DE\, 19971\, United States
CATEGORIES:Facility Rentals
ORGANIZER;CN="Bruce Sannino":MAILTO:brucesannino@yahoo.com
END:VEVENT
BEGIN:VEVENT
DTSTART;TZID=America/New_York:20220928T180000
DTEND;TZID=America/New_York:20220928T190000
DTSTAMP:20260425T073739
CREATED:20211208T171312Z
LAST-MODIFIED:20211208T171312Z
UID:10004470-1664388000-1664391600@epworth.faith
SUMMARY:Alanon
DESCRIPTION:Alanon meets in the Baker Lounge
URL:https://epworth.faith/event/alanon-6/2022-09-28/
LOCATION:Epworth United Methodist Church\, 19285 Holland Glade Road\, Rehoboth Beach\, DE\, 19971\, United States
CATEGORIES:Facility Rentals
ORGANIZER;CN="Bruce Sannino":MAILTO:brucesannino@yahoo.com
END:VEVENT
BEGIN:VEVENT
DTSTART;TZID=America/New_York:20220921T180000
DTEND;TZID=America/New_York:20220921T190000
DTSTAMP:20260425T073739
CREATED:20211208T171312Z
LAST-MODIFIED:20211208T171312Z
UID:10004469-1663783200-1663786800@epworth.faith
SUMMARY:Alanon
DESCRIPTION:Alanon meets in the Baker Lounge
URL:https://epworth.faith/event/alanon-6/2022-09-21/
LOCATION:Epworth United Methodist Church\, 19285 Holland Glade Road\, Rehoboth Beach\, DE\, 19971\, United States
CATEGORIES:Facility Rentals
ORGANIZER;CN="Bruce Sannino":MAILTO:brucesannino@yahoo.com
END:VEVENT
BEGIN:VEVENT
DTSTART;TZID=America/New_York:20220914T180000
DTEND;TZID=America/New_York:20220914T190000
DTSTAMP:20260425T073739
CREATED:20211208T171312Z
LAST-MODIFIED:20211208T171312Z
UID:10004468-1663178400-1663182000@epworth.faith
SUMMARY:Alanon
DESCRIPTION:Alanon meets in the Baker Lounge
URL:https://epworth.faith/event/alanon-6/2022-09-14/
LOCATION:Epworth United Methodist Church\, 19285 Holland Glade Road\, Rehoboth Beach\, DE\, 19971\, United States
CATEGORIES:Facility Rentals
ORGANIZER;CN="Bruce Sannino":MAILTO:brucesannino@yahoo.com
END:VEVENT
BEGIN:VEVENT
DTSTART;TZID=America/New_York:20220907T180000
DTEND;TZID=America/New_York:20220907T190000
DTSTAMP:20260425T073739
CREATED:20211208T171312Z
LAST-MODIFIED:20211208T171312Z
UID:10004467-1662573600-1662577200@epworth.faith
SUMMARY:Alanon
DESCRIPTION:Alanon meets in the Baker Lounge
URL:https://epworth.faith/event/alanon-6/2022-09-07/
LOCATION:Epworth United Methodist Church\, 19285 Holland Glade Road\, Rehoboth Beach\, DE\, 19971\, United States
CATEGORIES:Facility Rentals
ORGANIZER;CN="Bruce Sannino":MAILTO:brucesannino@yahoo.com
END:VEVENT
BEGIN:VEVENT
DTSTART;TZID=America/New_York:20220831T180000
DTEND;TZID=America/New_York:20220831T190000
DTSTAMP:20260425T073739
CREATED:20211208T171312Z
LAST-MODIFIED:20211208T171312Z
UID:10004466-1661968800-1661972400@epworth.faith
SUMMARY:Alanon
DESCRIPTION:Alanon meets in the Baker Lounge
URL:https://epworth.faith/event/alanon-6/2022-08-31/
LOCATION:Epworth United Methodist Church\, 19285 Holland Glade Road\, Rehoboth Beach\, DE\, 19971\, United States
CATEGORIES:Facility Rentals
ORGANIZER;CN="Bruce Sannino":MAILTO:brucesannino@yahoo.com
END:VEVENT
BEGIN:VEVENT
DTSTART;TZID=America/New_York:20220824T180000
DTEND;TZID=America/New_York:20220824T190000
DTSTAMP:20260425T073739
CREATED:20211208T171312Z
LAST-MODIFIED:20211208T171312Z
UID:10004465-1661364000-1661367600@epworth.faith
SUMMARY:Alanon
DESCRIPTION:Alanon meets in the Baker Lounge
URL:https://epworth.faith/event/alanon-6/2022-08-24/
LOCATION:Epworth United Methodist Church\, 19285 Holland Glade Road\, Rehoboth Beach\, DE\, 19971\, United States
CATEGORIES:Facility Rentals
ORGANIZER;CN="Bruce Sannino":MAILTO:brucesannino@yahoo.com
END:VEVENT
BEGIN:VEVENT
DTSTART;TZID=America/New_York:20220817T180000
DTEND;TZID=America/New_York:20220817T190000
DTSTAMP:20260425T073739
CREATED:20211208T171312Z
LAST-MODIFIED:20211208T171312Z
UID:10004464-1660759200-1660762800@epworth.faith
SUMMARY:Alanon
DESCRIPTION:Alanon meets in the Baker Lounge
URL:https://epworth.faith/event/alanon-6/2022-08-17/
LOCATION:Epworth United Methodist Church\, 19285 Holland Glade Road\, Rehoboth Beach\, DE\, 19971\, United States
CATEGORIES:Facility Rentals
ORGANIZER;CN="Bruce Sannino":MAILTO:brucesannino@yahoo.com
END:VEVENT
BEGIN:VEVENT
DTSTART;TZID=America/New_York:20220810T180000
DTEND;TZID=America/New_York:20220810T190000
DTSTAMP:20260425T073739
CREATED:20211208T171312Z
LAST-MODIFIED:20211208T171312Z
UID:10004463-1660154400-1660158000@epworth.faith
SUMMARY:Alanon
DESCRIPTION:Alanon meets in the Baker Lounge
URL:https://epworth.faith/event/alanon-6/2022-08-10/
LOCATION:Epworth United Methodist Church\, 19285 Holland Glade Road\, Rehoboth Beach\, DE\, 19971\, United States
CATEGORIES:Facility Rentals
ORGANIZER;CN="Bruce Sannino":MAILTO:brucesannino@yahoo.com
END:VEVENT
BEGIN:VEVENT
DTSTART;TZID=America/New_York:20220803T180000
DTEND;TZID=America/New_York:20220803T190000
DTSTAMP:20260425T073739
CREATED:20211208T171312Z
LAST-MODIFIED:20211208T171312Z
UID:10004462-1659549600-1659553200@epworth.faith
SUMMARY:Alanon
DESCRIPTION:Alanon meets in the Baker Lounge
URL:https://epworth.faith/event/alanon-6/2022-08-03/
LOCATION:Epworth United Methodist Church\, 19285 Holland Glade Road\, Rehoboth Beach\, DE\, 19971\, United States
CATEGORIES:Facility Rentals
ORGANIZER;CN="Bruce Sannino":MAILTO:brucesannino@yahoo.com
END:VEVENT
BEGIN:VEVENT
DTSTART;TZID=America/New_York:20220727T180000
DTEND;TZID=America/New_York:20220727T190000
DTSTAMP:20260425T073739
CREATED:20211208T171312Z
LAST-MODIFIED:20211208T171312Z
UID:10004461-1658944800-1658948400@epworth.faith
SUMMARY:Alanon
DESCRIPTION:Alanon meets in the Baker Lounge
URL:https://epworth.faith/event/alanon-6/2022-07-27/
LOCATION:Epworth United Methodist Church\, 19285 Holland Glade Road\, Rehoboth Beach\, DE\, 19971\, United States
CATEGORIES:Facility Rentals
ORGANIZER;CN="Bruce Sannino":MAILTO:brucesannino@yahoo.com
END:VEVENT
BEGIN:VEVENT
DTSTART;TZID=America/New_York:20220720T180000
DTEND;TZID=America/New_York:20220720T190000
DTSTAMP:20260425T073739
CREATED:20211208T171312Z
LAST-MODIFIED:20211208T171312Z
UID:10004460-1658340000-1658343600@epworth.faith
SUMMARY:Alanon
DESCRIPTION:Alanon meets in the Baker Lounge
URL:https://epworth.faith/event/alanon-6/2022-07-20/
LOCATION:Epworth United Methodist Church\, 19285 Holland Glade Road\, Rehoboth Beach\, DE\, 19971\, United States
CATEGORIES:Facility Rentals
ORGANIZER;CN="Bruce Sannino":MAILTO:brucesannino@yahoo.com
END:VEVENT
BEGIN:VEVENT
DTSTART;TZID=America/New_York:20220713T180000
DTEND;TZID=America/New_York:20220713T190000
DTSTAMP:20260425T073739
CREATED:20211208T171312Z
LAST-MODIFIED:20211208T171312Z
UID:10004459-1657735200-1657738800@epworth.faith
SUMMARY:Alanon
DESCRIPTION:Alanon meets in the Baker Lounge
URL:https://epworth.faith/event/alanon-6/2022-07-13/
LOCATION:Epworth United Methodist Church\, 19285 Holland Glade Road\, Rehoboth Beach\, DE\, 19971\, United States
CATEGORIES:Facility Rentals
ORGANIZER;CN="Bruce Sannino":MAILTO:brucesannino@yahoo.com
END:VEVENT
BEGIN:VEVENT
DTSTART;TZID=America/New_York:20220706T180000
DTEND;TZID=America/New_York:20220706T190000
DTSTAMP:20260425T073739
CREATED:20211208T171312Z
LAST-MODIFIED:20211208T171312Z
UID:10004458-1657130400-1657134000@epworth.faith
SUMMARY:Alanon
DESCRIPTION:Alanon meets in the Baker Lounge
URL:https://epworth.faith/event/alanon-6/2022-07-06/
LOCATION:Epworth United Methodist Church\, 19285 Holland Glade Road\, Rehoboth Beach\, DE\, 19971\, United States
CATEGORIES:Facility Rentals
ORGANIZER;CN="Bruce Sannino":MAILTO:brucesannino@yahoo.com
END:VEVENT
BEGIN:VEVENT
DTSTART;TZID=America/New_York:20220629T180000
DTEND;TZID=America/New_York:20220629T190000
DTSTAMP:20260425T073739
CREATED:20211208T171312Z
LAST-MODIFIED:20211208T171312Z
UID:10004457-1656525600-1656529200@epworth.faith
SUMMARY:Alanon
DESCRIPTION:Alanon meets in the Baker Lounge
URL:https://epworth.faith/event/alanon-6/2022-06-29/
LOCATION:Epworth United Methodist Church\, 19285 Holland Glade Road\, Rehoboth Beach\, DE\, 19971\, United States
CATEGORIES:Facility Rentals
ORGANIZER;CN="Bruce Sannino":MAILTO:brucesannino@yahoo.com
END:VEVENT
BEGIN:VEVENT
DTSTART;TZID=America/New_York:20220622T180000
DTEND;TZID=America/New_York:20220622T190000
DTSTAMP:20260425T073739
CREATED:20211208T171312Z
LAST-MODIFIED:20211208T171312Z
UID:10004456-1655920800-1655924400@epworth.faith
SUMMARY:Alanon
DESCRIPTION:Alanon meets in the Baker Lounge
URL:https://epworth.faith/event/alanon-6/2022-06-22/
LOCATION:Epworth United Methodist Church\, 19285 Holland Glade Road\, Rehoboth Beach\, DE\, 19971\, United States
CATEGORIES:Facility Rentals
ORGANIZER;CN="Bruce Sannino":MAILTO:brucesannino@yahoo.com
END:VEVENT
BEGIN:VEVENT
DTSTART;TZID=America/New_York:20220615T180000
DTEND;TZID=America/New_York:20220615T190000
DTSTAMP:20260425T073739
CREATED:20211208T171312Z
LAST-MODIFIED:20211208T171312Z
UID:10004455-1655316000-1655319600@epworth.faith
SUMMARY:Alanon
DESCRIPTION:Alanon meets in the Baker Lounge
URL:https://epworth.faith/event/alanon-6/2022-06-15/
LOCATION:Epworth United Methodist Church\, 19285 Holland Glade Road\, Rehoboth Beach\, DE\, 19971\, United States
CATEGORIES:Facility Rentals
ORGANIZER;CN="Bruce Sannino":MAILTO:brucesannino@yahoo.com
END:VEVENT
BEGIN:VEVENT
DTSTART;TZID=America/New_York:20220608T180000
DTEND;TZID=America/New_York:20220608T190000
DTSTAMP:20260425T073739
CREATED:20211208T171312Z
LAST-MODIFIED:20211208T171312Z
UID:10004454-1654711200-1654714800@epworth.faith
SUMMARY:Alanon
DESCRIPTION:Alanon meets in the Baker Lounge
URL:https://epworth.faith/event/alanon-6/2022-06-08/
LOCATION:Epworth United Methodist Church\, 19285 Holland Glade Road\, Rehoboth Beach\, DE\, 19971\, United States
CATEGORIES:Facility Rentals
ORGANIZER;CN="Bruce Sannino":MAILTO:brucesannino@yahoo.com
END:VEVENT
BEGIN:VEVENT
DTSTART;TZID=America/New_York:20220601T180000
DTEND;TZID=America/New_York:20220601T190000
DTSTAMP:20260425T073739
CREATED:20211208T171312Z
LAST-MODIFIED:20211208T171312Z
UID:10004453-1654106400-1654110000@epworth.faith
SUMMARY:Alanon
DESCRIPTION:Alanon meets in the Baker Lounge
URL:https://epworth.faith/event/alanon-6/2022-06-01/
LOCATION:Epworth United Methodist Church\, 19285 Holland Glade Road\, Rehoboth Beach\, DE\, 19971\, United States
CATEGORIES:Facility Rentals
ORGANIZER;CN="Bruce Sannino":MAILTO:brucesannino@yahoo.com
END:VEVENT
BEGIN:VEVENT
DTSTART;TZID=America/New_York:20220525T180000
DTEND;TZID=America/New_York:20220525T190000
DTSTAMP:20260425T073739
CREATED:20211208T171312Z
LAST-MODIFIED:20211208T171312Z
UID:10004452-1653501600-1653505200@epworth.faith
SUMMARY:Alanon
DESCRIPTION:Alanon meets in the Baker Lounge
URL:https://epworth.faith/event/alanon-6/2022-05-25/
LOCATION:Epworth United Methodist Church\, 19285 Holland Glade Road\, Rehoboth Beach\, DE\, 19971\, United States
CATEGORIES:Facility Rentals
ORGANIZER;CN="Bruce Sannino":MAILTO:brucesannino@yahoo.com
END:VEVENT
BEGIN:VEVENT
DTSTART;TZID=America/New_York:20220518T180000
DTEND;TZID=America/New_York:20220518T190000
DTSTAMP:20260425T073739
CREATED:20211208T171312Z
LAST-MODIFIED:20211208T171312Z
UID:10004451-1652896800-1652900400@epworth.faith
SUMMARY:Alanon
DESCRIPTION:Alanon meets in the Baker Lounge
URL:https://epworth.faith/event/alanon-6/2022-05-18/
LOCATION:Epworth United Methodist Church\, 19285 Holland Glade Road\, Rehoboth Beach\, DE\, 19971\, United States
CATEGORIES:Facility Rentals
ORGANIZER;CN="Bruce Sannino":MAILTO:brucesannino@yahoo.com
END:VEVENT
BEGIN:VEVENT
DTSTART;TZID=America/New_York:20220511T180000
DTEND;TZID=America/New_York:20220511T190000
DTSTAMP:20260425T073739
CREATED:20211208T171312Z
LAST-MODIFIED:20211208T171312Z
UID:10004450-1652292000-1652295600@epworth.faith
SUMMARY:Alanon
DESCRIPTION:Alanon meets in the Baker Lounge
URL:https://epworth.faith/event/alanon-6/2022-05-11/
LOCATION:Epworth United Methodist Church\, 19285 Holland Glade Road\, Rehoboth Beach\, DE\, 19971\, United States
CATEGORIES:Facility Rentals
ORGANIZER;CN="Bruce Sannino":MAILTO:brucesannino@yahoo.com
END:VEVENT
BEGIN:VEVENT
DTSTART;TZID=America/New_York:20220504T180000
DTEND;TZID=America/New_York:20220504T190000
DTSTAMP:20260425T073739
CREATED:20211208T171312Z
LAST-MODIFIED:20211208T171312Z
UID:10004449-1651687200-1651690800@epworth.faith
SUMMARY:Alanon
DESCRIPTION:Alanon meets in the Baker Lounge
URL:https://epworth.faith/event/alanon-6/2022-05-04/
LOCATION:Epworth United Methodist Church\, 19285 Holland Glade Road\, Rehoboth Beach\, DE\, 19971\, United States
CATEGORIES:Facility Rentals
ORGANIZER;CN="Bruce Sannino":MAILTO:brucesannino@yahoo.com
END:VEVENT
BEGIN:VEVENT
DTSTART;TZID=America/New_York:20220427T180000
DTEND;TZID=America/New_York:20220427T190000
DTSTAMP:20260425T073739
CREATED:20211208T171312Z
LAST-MODIFIED:20211208T171312Z
UID:10004448-1651082400-1651086000@epworth.faith
SUMMARY:Alanon
DESCRIPTION:Alanon meets in the Baker Lounge
URL:https://epworth.faith/event/alanon-6/2022-04-27/
LOCATION:Epworth United Methodist Church\, 19285 Holland Glade Road\, Rehoboth Beach\, DE\, 19971\, United States
CATEGORIES:Facility Rentals
ORGANIZER;CN="Bruce Sannino":MAILTO:brucesannino@yahoo.com
END:VEVENT
BEGIN:VEVENT
DTSTART;TZID=America/New_York:20220420T180000
DTEND;TZID=America/New_York:20220420T190000
DTSTAMP:20260425T073739
CREATED:20211208T171312Z
LAST-MODIFIED:20211208T171312Z
UID:10004447-1650477600-1650481200@epworth.faith
SUMMARY:Alanon
DESCRIPTION:Alanon meets in the Baker Lounge
URL:https://epworth.faith/event/alanon-6/2022-04-20/
LOCATION:Epworth United Methodist Church\, 19285 Holland Glade Road\, Rehoboth Beach\, DE\, 19971\, United States
CATEGORIES:Facility Rentals
ORGANIZER;CN="Bruce Sannino":MAILTO:brucesannino@yahoo.com
END:VEVENT
BEGIN:VEVENT
DTSTART;TZID=America/New_York:20220413T180000
DTEND;TZID=America/New_York:20220413T190000
DTSTAMP:20260425T073739
CREATED:20211208T171312Z
LAST-MODIFIED:20211208T171312Z
UID:10004446-1649872800-1649876400@epworth.faith
SUMMARY:Alanon
DESCRIPTION:Alanon meets in the Baker Lounge
URL:https://epworth.faith/event/alanon-6/2022-04-13/
LOCATION:Epworth United Methodist Church\, 19285 Holland Glade Road\, Rehoboth Beach\, DE\, 19971\, United States
CATEGORIES:Facility Rentals
ORGANIZER;CN="Bruce Sannino":MAILTO:brucesannino@yahoo.com
END:VEVENT
BEGIN:VEVENT
DTSTART;TZID=America/New_York:20220406T180000
DTEND;TZID=America/New_York:20220406T190000
DTSTAMP:20260425T073739
CREATED:20211208T171312Z
LAST-MODIFIED:20211208T171312Z
UID:10004445-1649268000-1649271600@epworth.faith
SUMMARY:Alanon
DESCRIPTION:Alanon meets in the Baker Lounge
URL:https://epworth.faith/event/alanon-6/2022-04-06/
LOCATION:Epworth United Methodist Church\, 19285 Holland Glade Road\, Rehoboth Beach\, DE\, 19971\, United States
CATEGORIES:Facility Rentals
ORGANIZER;CN="Bruce Sannino":MAILTO:brucesannino@yahoo.com
END:VEVENT
BEGIN:VEVENT
DTSTART;TZID=America/New_York:20220330T180000
DTEND;TZID=America/New_York:20220330T190000
DTSTAMP:20260425T073739
CREATED:20211208T171312Z
LAST-MODIFIED:20211208T171312Z
UID:10004444-1648663200-1648666800@epworth.faith
SUMMARY:Alanon
DESCRIPTION:Alanon meets in the Baker Lounge
URL:https://epworth.faith/event/alanon-6/2022-03-30/
LOCATION:Epworth United Methodist Church\, 19285 Holland Glade Road\, Rehoboth Beach\, DE\, 19971\, United States
CATEGORIES:Facility Rentals
ORGANIZER;CN="Bruce Sannino":MAILTO:brucesannino@yahoo.com
END:VEVENT
BEGIN:VEVENT
DTSTART;TZID=America/New_York:20220323T180000
DTEND;TZID=America/New_York:20220323T190000
DTSTAMP:20260425T073739
CREATED:20211208T171312Z
LAST-MODIFIED:20211208T171312Z
UID:10004443-1648058400-1648062000@epworth.faith
SUMMARY:Alanon
DESCRIPTION:Alanon meets in the Baker Lounge
URL:https://epworth.faith/event/alanon-6/2022-03-23/
LOCATION:Epworth United Methodist Church\, 19285 Holland Glade Road\, Rehoboth Beach\, DE\, 19971\, United States
CATEGORIES:Facility Rentals
ORGANIZER;CN="Bruce Sannino":MAILTO:brucesannino@yahoo.com
END:VEVENT
BEGIN:VEVENT
DTSTART;TZID=America/New_York:20220316T180000
DTEND;TZID=America/New_York:20220316T190000
DTSTAMP:20260425T073739
CREATED:20211208T171312Z
LAST-MODIFIED:20211208T171312Z
UID:10004442-1647453600-1647457200@epworth.faith
SUMMARY:Alanon
DESCRIPTION:Alanon meets in the Baker Lounge
URL:https://epworth.faith/event/alanon-6/2022-03-16/
LOCATION:Epworth United Methodist Church\, 19285 Holland Glade Road\, Rehoboth Beach\, DE\, 19971\, United States
CATEGORIES:Facility Rentals
ORGANIZER;CN="Bruce Sannino":MAILTO:brucesannino@yahoo.com
END:VEVENT
END:VCALENDAR