BEGIN:VCALENDAR
VERSION:2.0
PRODID:-//Epworth UMC - ECPv6.15.20//NONSGML v1.0//EN
CALSCALE:GREGORIAN
METHOD:PUBLISH
X-ORIGINAL-URL:https://epworth.faith
X-WR-CALDESC:Events for Epworth UMC
REFRESH-INTERVAL;VALUE=DURATION:PT1H
X-Robots-Tag:noindex
X-PUBLISHED-TTL:PT1H
BEGIN:VTIMEZONE
TZID:America/New_York
BEGIN:DAYLIGHT
TZOFFSETFROM:-0500
TZOFFSETTO:-0400
TZNAME:EDT
DTSTART:20210314T070000
END:DAYLIGHT
BEGIN:STANDARD
TZOFFSETFROM:-0400
TZOFFSETTO:-0500
TZNAME:EST
DTSTART:20211107T060000
END:STANDARD
BEGIN:DAYLIGHT
TZOFFSETFROM:-0500
TZOFFSETTO:-0400
TZNAME:EDT
DTSTART:20220313T070000
END:DAYLIGHT
BEGIN:STANDARD
TZOFFSETFROM:-0400
TZOFFSETTO:-0500
TZNAME:EST
DTSTART:20221106T060000
END:STANDARD
BEGIN:DAYLIGHT
TZOFFSETFROM:-0500
TZOFFSETTO:-0400
TZNAME:EDT
DTSTART:20230312T070000
END:DAYLIGHT
BEGIN:STANDARD
TZOFFSETFROM:-0400
TZOFFSETTO:-0500
TZNAME:EST
DTSTART:20231105T060000
END:STANDARD
END:VTIMEZONE
BEGIN:VEVENT
DTSTART;TZID=America/New_York:20220126T180000
DTEND;TZID=America/New_York:20220126T190000
DTSTAMP:20260425T231730
CREATED:20211208T171312Z
LAST-MODIFIED:20211208T171312Z
UID:10004435-1643220000-1643223600@epworth.faith
SUMMARY:Alanon
DESCRIPTION:Alanon meets in the Baker Lounge
URL:https://epworth.faith/event/alanon-6/2022-01-26/
LOCATION:Epworth United Methodist Church\, 19285 Holland Glade Road\, Rehoboth Beach\, DE\, 19971\, United States
CATEGORIES:Facility Rentals
ORGANIZER;CN="Bruce Sannino":MAILTO:brucesannino@yahoo.com
END:VEVENT
BEGIN:VEVENT
DTSTART;TZID=America/New_York:20220119T180000
DTEND;TZID=America/New_York:20220119T190000
DTSTAMP:20260425T231730
CREATED:20211208T171312Z
LAST-MODIFIED:20211208T171312Z
UID:10004434-1642615200-1642618800@epworth.faith
SUMMARY:Alanon
DESCRIPTION:Alanon meets in the Baker Lounge
URL:https://epworth.faith/event/alanon-6/2022-01-19/
LOCATION:Epworth United Methodist Church\, 19285 Holland Glade Road\, Rehoboth Beach\, DE\, 19971\, United States
CATEGORIES:Facility Rentals
ORGANIZER;CN="Bruce Sannino":MAILTO:brucesannino@yahoo.com
END:VEVENT
BEGIN:VEVENT
DTSTART;TZID=America/New_York:20220112T180000
DTEND;TZID=America/New_York:20220112T190000
DTSTAMP:20260425T231730
CREATED:20211208T171312Z
LAST-MODIFIED:20211208T171312Z
UID:10004433-1642010400-1642014000@epworth.faith
SUMMARY:Alanon
DESCRIPTION:Alanon meets in the Baker Lounge
URL:https://epworth.faith/event/alanon-6/2022-01-12/
LOCATION:Epworth United Methodist Church\, 19285 Holland Glade Road\, Rehoboth Beach\, DE\, 19971\, United States
CATEGORIES:Facility Rentals
ORGANIZER;CN="Bruce Sannino":MAILTO:brucesannino@yahoo.com
END:VEVENT
BEGIN:VEVENT
DTSTART;TZID=America/New_York:20220105T180000
DTEND;TZID=America/New_York:20220105T190000
DTSTAMP:20260425T231730
CREATED:20211208T171312Z
LAST-MODIFIED:20211208T171312Z
UID:10004432-1641405600-1641409200@epworth.faith
SUMMARY:Alanon
DESCRIPTION:Alanon meets in the Baker Lounge
URL:https://epworth.faith/event/alanon-6/2022-01-05/
LOCATION:Epworth United Methodist Church\, 19285 Holland Glade Road\, Rehoboth Beach\, DE\, 19971\, United States
CATEGORIES:Facility Rentals
ORGANIZER;CN="Bruce Sannino":MAILTO:brucesannino@yahoo.com
END:VEVENT
END:VCALENDAR