BEGIN:VCALENDAR
VERSION:2.0
PRODID:-//Epworth UMC - ECPv6.15.20//NONSGML v1.0//EN
CALSCALE:GREGORIAN
METHOD:PUBLISH
X-WR-CALNAME:Epworth UMC
X-ORIGINAL-URL:https://epworth.faith
X-WR-CALDESC:Events for Epworth UMC
REFRESH-INTERVAL;VALUE=DURATION:PT1H
X-Robots-Tag:noindex
X-PUBLISHED-TTL:PT1H
BEGIN:VTIMEZONE
TZID:America/New_York
BEGIN:DAYLIGHT
TZOFFSETFROM:-0500
TZOFFSETTO:-0400
TZNAME:EDT
DTSTART:20220313T070000
END:DAYLIGHT
BEGIN:STANDARD
TZOFFSETFROM:-0400
TZOFFSETTO:-0500
TZNAME:EST
DTSTART:20221106T060000
END:STANDARD
BEGIN:DAYLIGHT
TZOFFSETFROM:-0500
TZOFFSETTO:-0400
TZNAME:EDT
DTSTART:20230312T070000
END:DAYLIGHT
BEGIN:STANDARD
TZOFFSETFROM:-0400
TZOFFSETTO:-0500
TZNAME:EST
DTSTART:20231105T060000
END:STANDARD
BEGIN:DAYLIGHT
TZOFFSETFROM:-0500
TZOFFSETTO:-0400
TZNAME:EDT
DTSTART:20240310T070000
END:DAYLIGHT
BEGIN:STANDARD
TZOFFSETFROM:-0400
TZOFFSETTO:-0500
TZNAME:EST
DTSTART:20241103T060000
END:STANDARD
BEGIN:DAYLIGHT
TZOFFSETFROM:-0500
TZOFFSETTO:-0400
TZNAME:EDT
DTSTART:20250309T070000
END:DAYLIGHT
BEGIN:STANDARD
TZOFFSETFROM:-0400
TZOFFSETTO:-0500
TZNAME:EST
DTSTART:20251102T060000
END:STANDARD
END:VTIMEZONE
BEGIN:VEVENT
DTSTART;TZID=America/New_York:20240813T140000
DTEND;TZID=America/New_York:20240813T150000
DTSTAMP:20260424T173744
CREATED:20240708T121209Z
LAST-MODIFIED:20240708T121209Z
UID:10013604-1723557600-1723561200@epworth.faith
SUMMARY:Beaches Chapter of Moms Demand Action (Starnes Room)
DESCRIPTION:
URL:https://epworth.faith/event/beaches-chapter-of-moms-demand-action-starnes-room/2024-08-13/
LOCATION:Epworth United Methodist Church\, 19285 Holland Glade Road\, Rehoboth Beach\, DE\, 19971\, United States
CATEGORIES:Church,Groups
ORGANIZER;CN="Carol Psaros":MAILTO:cckpchicken@gmail.com
END:VEVENT
BEGIN:VEVENT
DTSTART;TZID=America/New_York:20240730T140000
DTEND;TZID=America/New_York:20240730T150000
DTSTAMP:20260424T173744
CREATED:20240708T121209Z
LAST-MODIFIED:20240708T121209Z
UID:10013603-1722348000-1722351600@epworth.faith
SUMMARY:Beaches Chapter of Moms Demand Action (Starnes Room)
DESCRIPTION:
URL:https://epworth.faith/event/beaches-chapter-of-moms-demand-action-starnes-room/2024-07-30/
LOCATION:Epworth United Methodist Church\, 19285 Holland Glade Road\, Rehoboth Beach\, DE\, 19971\, United States
CATEGORIES:Church,Groups
ORGANIZER;CN="Carol Psaros":MAILTO:cckpchicken@gmail.com
END:VEVENT
BEGIN:VEVENT
DTSTART;TZID=America/New_York:20240522T130000
DTEND;TZID=America/New_York:20240522T140000
DTSTAMP:20260424T173744
CREATED:20240205T140007Z
LAST-MODIFIED:20240205T140007Z
UID:10012289-1716382800-1716386400@epworth.faith
SUMMARY:Moms Demand Action (Starnes Room)
DESCRIPTION:
URL:https://epworth.faith/event/moms-demand-action-starnes-room-5/
LOCATION:Epworth United Methodist Church\, 19285 Holland Glade Road\, Rehoboth Beach\, DE\, 19971\, United States
CATEGORIES:Church,Groups
ORGANIZER;CN="Carol Psaros":MAILTO:cckpchicken@gmail.com
END:VEVENT
BEGIN:VEVENT
DTSTART;TZID=America/New_York:20240424T130000
DTEND;TZID=America/New_York:20240424T140000
DTSTAMP:20260424T173744
CREATED:20240205T135820Z
LAST-MODIFIED:20240205T135820Z
UID:10012288-1713963600-1713967200@epworth.faith
SUMMARY:Moms Demand Action (Starnes Room)
DESCRIPTION:
URL:https://epworth.faith/event/moms-demand-action-starnes-room-4/
LOCATION:Epworth United Methodist Church\, 19285 Holland Glade Road\, Rehoboth Beach\, DE\, 19971\, United States
CATEGORIES:Church,Groups
ORGANIZER;CN="Carol Psaros":MAILTO:cckpchicken@gmail.com
END:VEVENT
BEGIN:VEVENT
DTSTART;TZID=America/New_York:20240221T130000
DTEND;TZID=America/New_York:20240221T140000
DTSTAMP:20260424T173744
CREATED:20240205T135717Z
LAST-MODIFIED:20240205T135717Z
UID:10012287-1708520400-1708524000@epworth.faith
SUMMARY:Moms Demand Action (Starnes Room)
DESCRIPTION:
URL:https://epworth.faith/event/moms-demand-action-starnes-room-3/
LOCATION:Epworth United Methodist Church\, 19285 Holland Glade Road\, Rehoboth Beach\, DE\, 19971\, United States
CATEGORIES:Church,Groups
ORGANIZER;CN="Carol Psaros":MAILTO:cckpchicken@gmail.com
END:VEVENT
BEGIN:VEVENT
DTSTART;TZID=America/New_York:20240131T130000
DTEND;TZID=America/New_York:20240131T150000
DTSTAMP:20260424T173744
CREATED:20240111T194844Z
LAST-MODIFIED:20240119T171313Z
UID:10012128-1706706000-1706713200@epworth.faith
SUMMARY:Moms Demand Action (Starnes Room)
DESCRIPTION:
URL:https://epworth.faith/event/moms-demand-action-starnes-room-2/
LOCATION:Epworth United Methodist Church\, 19285 Holland Glade Road\, Rehoboth Beach\, DE\, 19971\, United States
CATEGORIES:Church,Groups
ORGANIZER;CN="Carol Psaros":MAILTO:cckpchicken@gmail.com
END:VEVENT
BEGIN:VEVENT
DTSTART;TZID=America/New_York:20231213T163000
DTEND;TZID=America/New_York:20231213T183000
DTSTAMP:20260424T173744
CREATED:20231030T155839Z
LAST-MODIFIED:20231031T160700Z
UID:10010188-1702485000-1702492200@epworth.faith
SUMMARY:Sandy Hook Remembrance Vigil (Sanctuary)
DESCRIPTION:
URL:https://epworth.faith/event/sandy-hook-remembrance-vigil-sanctuary/
LOCATION:Epworth United Methodist Church\, 19285 Holland Glade Road\, Rehoboth Beach\, DE\, 19971\, United States
ORGANIZER;CN="Carol Psaros":MAILTO:cckpchicken@gmail.com
END:VEVENT
BEGIN:VEVENT
DTSTART;TZID=America/New_York:20231127T130000
DTEND;TZID=America/New_York:20231127T140000
DTSTAMP:20260424T173744
CREATED:20231115T171314Z
LAST-MODIFIED:20231115T171314Z
UID:10011100-1701090000-1701093600@epworth.faith
SUMMARY:Moms Demand Action Rehearsal (Sanctuary)
DESCRIPTION:
URL:https://epworth.faith/event/moms-demand-action-rehearsal-sanctuary/
LOCATION:Epworth United Methodist Church\, 19285 Holland Glade Road\, Rehoboth Beach\, DE\, 19971\, United States
CATEGORIES:Church,Groups
ORGANIZER;CN="Carol Psaros":MAILTO:cckpchicken@gmail.com
END:VEVENT
END:VCALENDAR