BEGIN:VCALENDAR
VERSION:2.0
PRODID:-//Epworth UMC - ECPv6.15.20//NONSGML v1.0//EN
CALSCALE:GREGORIAN
METHOD:PUBLISH
X-ORIGINAL-URL:https://epworth.faith
X-WR-CALDESC:Events for Epworth UMC
REFRESH-INTERVAL;VALUE=DURATION:PT1H
X-Robots-Tag:noindex
X-PUBLISHED-TTL:PT1H
BEGIN:VTIMEZONE
TZID:America/New_York
BEGIN:DAYLIGHT
TZOFFSETFROM:-0500
TZOFFSETTO:-0400
TZNAME:EDT
DTSTART:20210314T070000
END:DAYLIGHT
BEGIN:STANDARD
TZOFFSETFROM:-0400
TZOFFSETTO:-0500
TZNAME:EST
DTSTART:20211107T060000
END:STANDARD
BEGIN:DAYLIGHT
TZOFFSETFROM:-0500
TZOFFSETTO:-0400
TZNAME:EDT
DTSTART:20220313T070000
END:DAYLIGHT
BEGIN:STANDARD
TZOFFSETFROM:-0400
TZOFFSETTO:-0500
TZNAME:EST
DTSTART:20221106T060000
END:STANDARD
BEGIN:DAYLIGHT
TZOFFSETFROM:-0500
TZOFFSETTO:-0400
TZNAME:EDT
DTSTART:20230312T070000
END:DAYLIGHT
BEGIN:STANDARD
TZOFFSETFROM:-0400
TZOFFSETTO:-0500
TZNAME:EST
DTSTART:20231105T060000
END:STANDARD
BEGIN:DAYLIGHT
TZOFFSETFROM:-0500
TZOFFSETTO:-0400
TZNAME:EDT
DTSTART:20240310T070000
END:DAYLIGHT
BEGIN:STANDARD
TZOFFSETFROM:-0400
TZOFFSETTO:-0500
TZNAME:EST
DTSTART:20241103T060000
END:STANDARD
BEGIN:DAYLIGHT
TZOFFSETFROM:-0500
TZOFFSETTO:-0400
TZNAME:EDT
DTSTART:20250309T070000
END:DAYLIGHT
BEGIN:STANDARD
TZOFFSETFROM:-0400
TZOFFSETTO:-0500
TZNAME:EST
DTSTART:20251102T060000
END:STANDARD
END:VTIMEZONE
BEGIN:VEVENT
DTSTART;TZID=America/New_York:20240128T180000
DTEND;TZID=America/New_York:20240128T193000
DTSTAMP:20260424T105321
CREATED:20240104T143012Z
LAST-MODIFIED:20240109T193257Z
UID:10012103-1706464800-1706470200@epworth.faith
SUMMARY:A Fresh Look at the New Testament (Starnes Room)
DESCRIPTION:
URL:https://epworth.faith/event/the-life-times-of-jesus-a-video-series-starnes-room/2024-01-28/
LOCATION:Epworth United Methodist Church\, 19285 Holland Glade Road\, Rehoboth Beach\, DE\, 19971\, United States
CATEGORIES:Church,Groups
ORGANIZER;CN="David Garrett":MAILTO:dlgarrett4rb@gmail.com
END:VEVENT
BEGIN:VEVENT
DTSTART;TZID=America/New_York:20240121T180000
DTEND;TZID=America/New_York:20240121T193000
DTSTAMP:20260424T105321
CREATED:20240104T143012Z
LAST-MODIFIED:20240109T193257Z
UID:10012102-1705860000-1705865400@epworth.faith
SUMMARY:A Fresh Look at the New Testament (Starnes Room)
DESCRIPTION:
URL:https://epworth.faith/event/the-life-times-of-jesus-a-video-series-starnes-room/2024-01-21/
LOCATION:Epworth United Methodist Church\, 19285 Holland Glade Road\, Rehoboth Beach\, DE\, 19971\, United States
CATEGORIES:Church,Groups
ORGANIZER;CN="David Garrett":MAILTO:dlgarrett4rb@gmail.com
END:VEVENT
BEGIN:VEVENT
DTSTART;TZID=America/New_York:20231009T183000
DTEND;TZID=America/New_York:20231009T203000
DTSTAMP:20260424T105321
CREATED:20230427T142128Z
LAST-MODIFIED:20230907T141120Z
UID:10008579-1696876200-1696883400@epworth.faith
SUMMARY:Ten Commandments Study (Starnes Room)
DESCRIPTION:
URL:https://epworth.faith/event/ten-commandments-study-starnesroom/2023-10-09/
LOCATION:Epworth United Methodist Church\, 19285 Holland Glade Road\, Rehoboth Beach\, DE\, 19971\, United States
CATEGORIES:Groups
ORGANIZER;CN="David Garrett":MAILTO:dlgarrett4rb@gmail.com
END:VEVENT
BEGIN:VEVENT
DTSTART;TZID=America/New_York:20231008T170000
DTEND;TZID=America/New_York:20231008T190000
DTSTAMP:20260424T105321
CREATED:20230928T163541Z
LAST-MODIFIED:20230928T163541Z
UID:10009429-1696784400-1696791600@epworth.faith
SUMMARY:Israel Trip Meeting (Starnes Room)
DESCRIPTION:
URL:https://epworth.faith/event/israel-trip-meeting-starnes-room/
LOCATION:Epworth United Methodist Church\, 19285 Holland Glade Road\, Rehoboth Beach\, DE\, 19971\, United States
CATEGORIES:Church,Groups
ORGANIZER;CN="David Garrett":MAILTO:dlgarrett4rb@gmail.com
END:VEVENT
BEGIN:VEVENT
DTSTART;TZID=America/New_York:20231002T183000
DTEND;TZID=America/New_York:20231002T203000
DTSTAMP:20260424T105321
CREATED:20230427T142128Z
LAST-MODIFIED:20230907T141120Z
UID:10008578-1696271400-1696278600@epworth.faith
SUMMARY:Ten Commandments Study (Starnes Room)
DESCRIPTION:
URL:https://epworth.faith/event/ten-commandments-study-starnesroom/2023-10-02/
LOCATION:Epworth United Methodist Church\, 19285 Holland Glade Road\, Rehoboth Beach\, DE\, 19971\, United States
CATEGORIES:Groups
ORGANIZER;CN="David Garrett":MAILTO:dlgarrett4rb@gmail.com
END:VEVENT
BEGIN:VEVENT
DTSTART;TZID=America/New_York:20230918T183000
DTEND;TZID=America/New_York:20230918T203000
DTSTAMP:20260424T105321
CREATED:20230427T142128Z
LAST-MODIFIED:20230907T141120Z
UID:10008577-1695061800-1695069000@epworth.faith
SUMMARY:Ten Commandments Study (Starnes Room)
DESCRIPTION:
URL:https://epworth.faith/event/ten-commandments-study-starnesroom/2023-09-18/
LOCATION:Epworth United Methodist Church\, 19285 Holland Glade Road\, Rehoboth Beach\, DE\, 19971\, United States
CATEGORIES:Groups
ORGANIZER;CN="David Garrett":MAILTO:dlgarrett4rb@gmail.com
END:VEVENT
BEGIN:VEVENT
DTSTART;TZID=America/New_York:20230911T183000
DTEND;TZID=America/New_York:20230911T203000
DTSTAMP:20260424T105321
CREATED:20230427T142128Z
LAST-MODIFIED:20230907T141120Z
UID:10008576-1694457000-1694464200@epworth.faith
SUMMARY:Ten Commandments Study (Starnes Room)
DESCRIPTION:
URL:https://epworth.faith/event/ten-commandments-study-starnesroom/2023-09-11/
LOCATION:Epworth United Methodist Church\, 19285 Holland Glade Road\, Rehoboth Beach\, DE\, 19971\, United States
CATEGORIES:Groups
ORGANIZER;CN="David Garrett":MAILTO:dlgarrett4rb@gmail.com
END:VEVENT
BEGIN:VEVENT
DTSTART;TZID=America/New_York:20230828T183000
DTEND;TZID=America/New_York:20230828T203000
DTSTAMP:20260424T105321
CREATED:20230821T190552Z
LAST-MODIFIED:20230821T190955Z
UID:10008979-1693247400-1693254600@epworth.faith
SUMMARY:Social Justice (Starnes Room)
DESCRIPTION:
URL:https://epworth.faith/event/social-justice-starnes-room/
LOCATION:Epworth United Methodist Church\, 19285 Holland Glade Road\, Rehoboth Beach\, DE\, 19971\, United States
CATEGORIES:Church,Groups
ORGANIZER;CN="David Garrett":MAILTO:dlgarrett4rb@gmail.com
END:VEVENT
BEGIN:VEVENT
DTSTART;TZID=America/New_York:20230515T183000
DTEND;TZID=America/New_York:20230515T200000
DTSTAMP:20260424T105321
CREATED:20230502T143830Z
LAST-MODIFIED:20230502T143830Z
UID:10008593-1684175400-1684180800@epworth.faith
SUMMARY:Social Justice (Admin. Room)
DESCRIPTION:
URL:https://epworth.faith/event/social-justice-admin-room-2/
LOCATION:Epworth United Methodist Church\, 19285 Holland Glade Road\, Rehoboth Beach\, DE\, 19971\, United States
CATEGORIES:Groups
ORGANIZER;CN="David Garrett":MAILTO:dlgarrett4rb@gmail.com
END:VEVENT
BEGIN:VEVENT
DTSTART;TZID=America/New_York:20230413T170000
DTEND;TZID=America/New_York:20230413T183000
DTSTAMP:20260424T105321
CREATED:20230228T170913Z
LAST-MODIFIED:20230228T170913Z
UID:10008095-1681405200-1681410600@epworth.faith
SUMMARY:Social Justice (Admin. Room)
DESCRIPTION:
URL:https://epworth.faith/event/social-justice-admin-room/
LOCATION:Epworth United Methodist Church\, 19285 Holland Glade Road\, Rehoboth Beach\, DE\, 19971\, United States
CATEGORIES:Groups
ORGANIZER;CN="David Garrett":MAILTO:dlgarrett4rb@gmail.com
END:VEVENT
BEGIN:VEVENT
DTSTART;TZID=America/New_York:20230410T183000
DTEND;TZID=America/New_York:20230410T200000
DTSTAMP:20260424T105321
CREATED:20230130T205610Z
LAST-MODIFIED:20230322T163021Z
UID:10008104-1681151400-1681156800@epworth.faith
SUMMARY:Lenten Bible Study (Administrative Conference Room)
DESCRIPTION:
URL:https://epworth.faith/event/lenten-bible-study-administrative-conference-room/2023-04-10/
LOCATION:Epworth United Methodist Church\, 19285 Holland Glade Road\, Rehoboth Beach\, DE\, 19971\, United States
CATEGORIES:Groups
ORGANIZER;CN="David Garrett":MAILTO:dlgarrett4rb@gmail.com
END:VEVENT
BEGIN:VEVENT
DTSTART;TZID=America/New_York:20230403T183000
DTEND;TZID=America/New_York:20230403T200000
DTSTAMP:20260424T105321
CREATED:20230130T205610Z
LAST-MODIFIED:20230322T163021Z
UID:10008052-1680546600-1680552000@epworth.faith
SUMMARY:Lenten Bible Study (Administrative Conference Room)
DESCRIPTION:
URL:https://epworth.faith/event/lenten-bible-study-administrative-conference-room/2023-04-03/
LOCATION:Epworth United Methodist Church\, 19285 Holland Glade Road\, Rehoboth Beach\, DE\, 19971\, United States
CATEGORIES:Groups
ORGANIZER;CN="David Garrett":MAILTO:dlgarrett4rb@gmail.com
END:VEVENT
BEGIN:VEVENT
DTSTART;TZID=America/New_York:20230330T173000
DTEND;TZID=America/New_York:20230330T193000
DTSTAMP:20260424T105321
CREATED:20230322T163307Z
LAST-MODIFIED:20230322T163307Z
UID:10008105-1680197400-1680204600@epworth.faith
SUMMARY:Israel Trip (Zoom Meeting)
DESCRIPTION:
URL:https://epworth.faith/event/israel-trip-zoom-meeting/
LOCATION:Zoom
CATEGORIES:Groups
ORGANIZER;CN="David Garrett":MAILTO:dlgarrett4rb@gmail.com
END:VEVENT
BEGIN:VEVENT
DTSTART;TZID=America/New_York:20230327T183000
DTEND;TZID=America/New_York:20230327T200000
DTSTAMP:20260424T105321
CREATED:20230130T205610Z
LAST-MODIFIED:20230322T163021Z
UID:10008051-1679941800-1679947200@epworth.faith
SUMMARY:Lenten Bible Study (Administrative Conference Room)
DESCRIPTION:
URL:https://epworth.faith/event/lenten-bible-study-administrative-conference-room/2023-03-27/
LOCATION:Epworth United Methodist Church\, 19285 Holland Glade Road\, Rehoboth Beach\, DE\, 19971\, United States
CATEGORIES:Groups
ORGANIZER;CN="David Garrett":MAILTO:dlgarrett4rb@gmail.com
END:VEVENT
BEGIN:VEVENT
DTSTART;TZID=America/New_York:20230320T183000
DTEND;TZID=America/New_York:20230320T200000
DTSTAMP:20260424T105321
CREATED:20230130T205610Z
LAST-MODIFIED:20230322T163021Z
UID:10008050-1679337000-1679342400@epworth.faith
SUMMARY:Lenten Bible Study (Administrative Conference Room)
DESCRIPTION:
URL:https://epworth.faith/event/lenten-bible-study-administrative-conference-room/2023-03-20/
LOCATION:Epworth United Methodist Church\, 19285 Holland Glade Road\, Rehoboth Beach\, DE\, 19971\, United States
CATEGORIES:Groups
ORGANIZER;CN="David Garrett":MAILTO:dlgarrett4rb@gmail.com
END:VEVENT
BEGIN:VEVENT
DTSTART;TZID=America/New_York:20230313T183000
DTEND;TZID=America/New_York:20230313T200000
DTSTAMP:20260424T105321
CREATED:20230130T205610Z
LAST-MODIFIED:20230322T163021Z
UID:10008049-1678732200-1678737600@epworth.faith
SUMMARY:Lenten Bible Study (Administrative Conference Room)
DESCRIPTION:
URL:https://epworth.faith/event/lenten-bible-study-administrative-conference-room/2023-03-13/
LOCATION:Epworth United Methodist Church\, 19285 Holland Glade Road\, Rehoboth Beach\, DE\, 19971\, United States
CATEGORIES:Groups
ORGANIZER;CN="David Garrett":MAILTO:dlgarrett4rb@gmail.com
END:VEVENT
BEGIN:VEVENT
DTSTART;TZID=America/New_York:20230306T183000
DTEND;TZID=America/New_York:20230306T200000
DTSTAMP:20260424T105321
CREATED:20230130T205610Z
LAST-MODIFIED:20230322T163021Z
UID:10008048-1678127400-1678132800@epworth.faith
SUMMARY:Lenten Bible Study (Administrative Conference Room)
DESCRIPTION:
URL:https://epworth.faith/event/lenten-bible-study-administrative-conference-room/2023-03-06/
LOCATION:Epworth United Methodist Church\, 19285 Holland Glade Road\, Rehoboth Beach\, DE\, 19971\, United States
CATEGORIES:Groups
ORGANIZER;CN="David Garrett":MAILTO:dlgarrett4rb@gmail.com
END:VEVENT
BEGIN:VEVENT
DTSTART;TZID=America/New_York:20230227T183000
DTEND;TZID=America/New_York:20230227T200000
DTSTAMP:20260424T105321
CREATED:20230130T205610Z
LAST-MODIFIED:20230322T163021Z
UID:10008047-1677522600-1677528000@epworth.faith
SUMMARY:Lenten Bible Study (Administrative Conference Room)
DESCRIPTION:
URL:https://epworth.faith/event/lenten-bible-study-administrative-conference-room/2023-02-27/
LOCATION:Epworth United Methodist Church\, 19285 Holland Glade Road\, Rehoboth Beach\, DE\, 19971\, United States
CATEGORIES:Groups
ORGANIZER;CN="David Garrett":MAILTO:dlgarrett4rb@gmail.com
END:VEVENT
BEGIN:VEVENT
DTSTART;TZID=America/New_York:20221116T150000
DTEND;TZID=America/New_York:20221116T170000
DTSTAMP:20260424T105321
CREATED:20221004T200357Z
LAST-MODIFIED:20221024T180023Z
UID:10006176-1668610800-1668618000@epworth.faith
SUMMARY:Israel & Egypt Trip Presentation (Sanctuary)
DESCRIPTION:
URL:https://epworth.faith/event/israel-egypt-trip-presentation-administrative-conference-room/
LOCATION:Epworth United Methodist Church\, 19285 Holland Glade Road\, Rehoboth Beach\, DE\, 19971\, United States
CATEGORIES:Groups
ORGANIZER;CN="David Garrett":MAILTO:dlgarrett4rb@gmail.com
END:VEVENT
END:VCALENDAR