BEGIN:VCALENDAR
VERSION:2.0
PRODID:-//Epworth UMC - ECPv6.15.20//NONSGML v1.0//EN
CALSCALE:GREGORIAN
METHOD:PUBLISH
X-ORIGINAL-URL:https://epworth.faith
X-WR-CALDESC:Events for Epworth UMC
REFRESH-INTERVAL;VALUE=DURATION:PT1H
X-Robots-Tag:noindex
X-PUBLISHED-TTL:PT1H
BEGIN:VTIMEZONE
TZID:America/New_York
BEGIN:DAYLIGHT
TZOFFSETFROM:-0500
TZOFFSETTO:-0400
TZNAME:EDT
DTSTART:20200308T070000
END:DAYLIGHT
BEGIN:STANDARD
TZOFFSETFROM:-0400
TZOFFSETTO:-0500
TZNAME:EST
DTSTART:20201101T060000
END:STANDARD
BEGIN:DAYLIGHT
TZOFFSETFROM:-0500
TZOFFSETTO:-0400
TZNAME:EDT
DTSTART:20210314T070000
END:DAYLIGHT
BEGIN:STANDARD
TZOFFSETFROM:-0400
TZOFFSETTO:-0500
TZNAME:EST
DTSTART:20211107T060000
END:STANDARD
BEGIN:DAYLIGHT
TZOFFSETFROM:-0500
TZOFFSETTO:-0400
TZNAME:EDT
DTSTART:20220313T070000
END:DAYLIGHT
BEGIN:STANDARD
TZOFFSETFROM:-0400
TZOFFSETTO:-0500
TZNAME:EST
DTSTART:20221106T060000
END:STANDARD
BEGIN:DAYLIGHT
TZOFFSETFROM:-0500
TZOFFSETTO:-0400
TZNAME:EDT
DTSTART:20230312T070000
END:DAYLIGHT
BEGIN:STANDARD
TZOFFSETFROM:-0400
TZOFFSETTO:-0500
TZNAME:EST
DTSTART:20231105T060000
END:STANDARD
END:VTIMEZONE
BEGIN:VEVENT
DTSTART;TZID=America/New_York:20220621T160000
DTEND;TZID=America/New_York:20220621T180000
DTSTAMP:20260425T094338
CREATED:20211006T162222Z
LAST-MODIFIED:20211208T200318Z
UID:10004158-1655827200-1655834400@epworth.faith
SUMMARY:Finance
DESCRIPTION:The Finance Committee meets in the Administrative Conference Room
URL:https://epworth.faith/event/finance/2022-06-21/
LOCATION:Epworth United Methodist Church\, 19285 Holland Glade Road\, Rehoboth Beach\, DE\, 19971\, United States
CATEGORIES:Church
ORGANIZER;CN="David Hagelin":MAILTO:dmhagelin@gmail.com
END:VEVENT
BEGIN:VEVENT
DTSTART;TZID=America/New_York:20220517T160000
DTEND;TZID=America/New_York:20220517T180000
DTSTAMP:20260425T094338
CREATED:20211006T162222Z
LAST-MODIFIED:20211208T200318Z
UID:10004157-1652803200-1652810400@epworth.faith
SUMMARY:Finance
DESCRIPTION:The Finance Committee meets in the Administrative Conference Room
URL:https://epworth.faith/event/finance/2022-05-17/
LOCATION:Epworth United Methodist Church\, 19285 Holland Glade Road\, Rehoboth Beach\, DE\, 19971\, United States
CATEGORIES:Church
ORGANIZER;CN="David Hagelin":MAILTO:dmhagelin@gmail.com
END:VEVENT
BEGIN:VEVENT
DTSTART;TZID=America/New_York:20220419T160000
DTEND;TZID=America/New_York:20220419T180000
DTSTAMP:20260425T094338
CREATED:20211006T162222Z
LAST-MODIFIED:20211208T200318Z
UID:10004156-1650384000-1650391200@epworth.faith
SUMMARY:Finance
DESCRIPTION:The Finance Committee meets in the Administrative Conference Room
URL:https://epworth.faith/event/finance/2022-04-19/
LOCATION:Epworth United Methodist Church\, 19285 Holland Glade Road\, Rehoboth Beach\, DE\, 19971\, United States
CATEGORIES:Church
ORGANIZER;CN="David Hagelin":MAILTO:dmhagelin@gmail.com
END:VEVENT
BEGIN:VEVENT
DTSTART;TZID=America/New_York:20220315T160000
DTEND;TZID=America/New_York:20220315T180000
DTSTAMP:20260425T094338
CREATED:20211006T162222Z
LAST-MODIFIED:20211208T200318Z
UID:10004155-1647360000-1647367200@epworth.faith
SUMMARY:Finance
DESCRIPTION:The Finance Committee meets in the Administrative Conference Room
URL:https://epworth.faith/event/finance/2022-03-15/
LOCATION:Epworth United Methodist Church\, 19285 Holland Glade Road\, Rehoboth Beach\, DE\, 19971\, United States
CATEGORIES:Church
ORGANIZER;CN="David Hagelin":MAILTO:dmhagelin@gmail.com
END:VEVENT
BEGIN:VEVENT
DTSTART;TZID=America/New_York:20220215T160000
DTEND;TZID=America/New_York:20220215T180000
DTSTAMP:20260425T094338
CREATED:20211006T162222Z
LAST-MODIFIED:20211208T200318Z
UID:10004154-1644940800-1644948000@epworth.faith
SUMMARY:Finance
DESCRIPTION:The Finance Committee meets in the Administrative Conference Room
URL:https://epworth.faith/event/finance/2022-02-15/
LOCATION:Epworth United Methodist Church\, 19285 Holland Glade Road\, Rehoboth Beach\, DE\, 19971\, United States
CATEGORIES:Church
ORGANIZER;CN="David Hagelin":MAILTO:dmhagelin@gmail.com
END:VEVENT
BEGIN:VEVENT
DTSTART;TZID=America/New_York:20220118T160000
DTEND;TZID=America/New_York:20220118T180000
DTSTAMP:20260425T094338
CREATED:20211006T162222Z
LAST-MODIFIED:20211208T200318Z
UID:10004153-1642521600-1642528800@epworth.faith
SUMMARY:Finance
DESCRIPTION:The Finance Committee meets in the Administrative Conference Room
URL:https://epworth.faith/event/finance/2022-01-18/
LOCATION:Epworth United Methodist Church\, 19285 Holland Glade Road\, Rehoboth Beach\, DE\, 19971\, United States
CATEGORIES:Church
ORGANIZER;CN="David Hagelin":MAILTO:dmhagelin@gmail.com
END:VEVENT
BEGIN:VEVENT
DTSTART;TZID=America/New_York:20211221T160000
DTEND;TZID=America/New_York:20211221T180000
DTSTAMP:20260425T094338
CREATED:20211006T162222Z
LAST-MODIFIED:20211208T200318Z
UID:10004152-1640102400-1640109600@epworth.faith
SUMMARY:Finance
DESCRIPTION:The Finance Committee meets in the Administrative Conference Room
URL:https://epworth.faith/event/finance/2021-12-21/
LOCATION:Epworth United Methodist Church\, 19285 Holland Glade Road\, Rehoboth Beach\, DE\, 19971\, United States
CATEGORIES:Church
ORGANIZER;CN="David Hagelin":MAILTO:dmhagelin@gmail.com
END:VEVENT
BEGIN:VEVENT
DTSTART;TZID=America/New_York:20211116T160000
DTEND;TZID=America/New_York:20211116T180000
DTSTAMP:20260425T094338
CREATED:20211006T162222Z
LAST-MODIFIED:20211208T200318Z
UID:10004151-1637078400-1637085600@epworth.faith
SUMMARY:Finance
DESCRIPTION:The Finance Committee meets in the Administrative Conference Room
URL:https://epworth.faith/event/finance/2021-11-16/
LOCATION:Epworth United Methodist Church\, 19285 Holland Glade Road\, Rehoboth Beach\, DE\, 19971\, United States
CATEGORIES:Church
ORGANIZER;CN="David Hagelin":MAILTO:dmhagelin@gmail.com
END:VEVENT
BEGIN:VEVENT
DTSTART;TZID=America/New_York:20211019T160000
DTEND;TZID=America/New_York:20211019T180000
DTSTAMP:20260425T094338
CREATED:20211006T162222Z
LAST-MODIFIED:20211208T200318Z
UID:10004150-1634659200-1634666400@epworth.faith
SUMMARY:Finance
DESCRIPTION:The Finance Committee meets in the Administrative Conference Room
URL:https://epworth.faith/event/finance/2021-10-19/
LOCATION:Epworth United Methodist Church\, 19285 Holland Glade Road\, Rehoboth Beach\, DE\, 19971\, United States
CATEGORIES:Church
ORGANIZER;CN="David Hagelin":MAILTO:dmhagelin@gmail.com
END:VEVENT
END:VCALENDAR