BEGIN:VCALENDAR
VERSION:2.0
PRODID:-//Epworth UMC - ECPv6.15.20//NONSGML v1.0//EN
CALSCALE:GREGORIAN
METHOD:PUBLISH
X-WR-CALNAME:Epworth UMC
X-ORIGINAL-URL:https://epworth.faith
X-WR-CALDESC:Events for Epworth UMC
REFRESH-INTERVAL;VALUE=DURATION:PT1H
X-Robots-Tag:noindex
X-PUBLISHED-TTL:PT1H
BEGIN:VTIMEZONE
TZID:America/New_York
BEGIN:DAYLIGHT
TZOFFSETFROM:-0500
TZOFFSETTO:-0400
TZNAME:EDT
DTSTART:20220313T070000
END:DAYLIGHT
BEGIN:STANDARD
TZOFFSETFROM:-0400
TZOFFSETTO:-0500
TZNAME:EST
DTSTART:20221106T060000
END:STANDARD
BEGIN:DAYLIGHT
TZOFFSETFROM:-0500
TZOFFSETTO:-0400
TZNAME:EDT
DTSTART:20230312T070000
END:DAYLIGHT
BEGIN:STANDARD
TZOFFSETFROM:-0400
TZOFFSETTO:-0500
TZNAME:EST
DTSTART:20231105T060000
END:STANDARD
BEGIN:DAYLIGHT
TZOFFSETFROM:-0500
TZOFFSETTO:-0400
TZNAME:EDT
DTSTART:20240310T070000
END:DAYLIGHT
BEGIN:STANDARD
TZOFFSETFROM:-0400
TZOFFSETTO:-0500
TZNAME:EST
DTSTART:20241103T060000
END:STANDARD
BEGIN:DAYLIGHT
TZOFFSETFROM:-0500
TZOFFSETTO:-0400
TZNAME:EDT
DTSTART:20250309T070000
END:DAYLIGHT
BEGIN:STANDARD
TZOFFSETFROM:-0400
TZOFFSETTO:-0500
TZNAME:EST
DTSTART:20251102T060000
END:STANDARD
BEGIN:DAYLIGHT
TZOFFSETFROM:-0500
TZOFFSETTO:-0400
TZNAME:EDT
DTSTART:20260308T070000
END:DAYLIGHT
BEGIN:STANDARD
TZOFFSETFROM:-0400
TZOFFSETTO:-0500
TZNAME:EST
DTSTART:20261101T060000
END:STANDARD
END:VTIMEZONE
BEGIN:VEVENT
DTSTART;TZID=America/New_York:20250613T180000
DTEND;TZID=America/New_York:20250613T220000
DTSTAMP:20260424T033120
CREATED:20240716T184440Z
LAST-MODIFIED:20240716T184442Z
UID:10013978-1749837600-1749852000@epworth.faith
SUMMARY:Camp Rehoboth Chorus Concert (Sanctuary & Music Room)
DESCRIPTION:
URL:https://epworth.faith/event/camp-rehoboth-chorus-concert-sanctuary-music-room-5/2025-06-13/
LOCATION:Epworth United Methodist Church\, 19285 Holland Glade Road\, Rehoboth Beach\, DE\, 19971\, United States
CATEGORIES:Church,Concerts,Facility Rentals
ORGANIZER;CN="David Scuccimarra":MAILTO:Scuch@aol.com
END:VEVENT
BEGIN:VEVENT
DTSTART;TZID=America/New_York:20250609T183000
DTEND;TZID=America/New_York:20250609T203000
DTSTAMP:20260424T033120
CREATED:20240716T191227Z
LAST-MODIFIED:20240716T191227Z
UID:10013982-1749493800-1749501000@epworth.faith
SUMMARY:Camp Rehoboth Dress Rehearsal (Sanctuary & Music Room)
DESCRIPTION:
URL:https://epworth.faith/event/camp-rehoboth-dress-rehearsal-sanctuary-music-room-4/
LOCATION:Epworth United Methodist Church\, 19285 Holland Glade Road\, Rehoboth Beach\, DE\, 19971\, United States
CATEGORIES:Church,Concerts,Facility Rentals
ORGANIZER;CN="David Scuccimarra":MAILTO:Scuch@aol.com
END:VEVENT
BEGIN:VEVENT
DTSTART;TZID=America/New_York:20250602T183000
DTEND;TZID=America/New_York:20250602T203000
DTSTAMP:20260424T033120
CREATED:20240716T191053Z
LAST-MODIFIED:20240716T191053Z
UID:10013981-1748889000-1748896200@epworth.faith
SUMMARY:Camp Rehoboth Dress Rehearsal (Sanctuary & Music Room)
DESCRIPTION:
URL:https://epworth.faith/event/camp-rehoboth-dress-rehearsal-sanctuary-music-room-3/
LOCATION:Epworth United Methodist Church\, 19285 Holland Glade Road\, Rehoboth Beach\, DE\, 19971\, United States
CATEGORIES:Church,Concerts,Facility Rentals
ORGANIZER;CN="David Scuccimarra":MAILTO:Scuch@aol.com
END:VEVENT
BEGIN:VEVENT
DTSTART;TZID=America/New_York:20250216T150000
DTEND;TZID=America/New_York:20250216T170000
DTSTAMP:20260424T033120
CREATED:20240716T183157Z
LAST-MODIFIED:20250213T221405Z
UID:10013975-1739718000-1739725200@epworth.faith
SUMMARY:Camp Rehoboth Chorus Concert (Sanctuary & Music Room)
DESCRIPTION:CAMP Rehoboth Chorus – On Broadway concert at Epworth February 16 at 3 pm (tickets\, $30) \nBuilding and Tech Support: 1-6 pm
URL:https://epworth.faith/event/camp-rehoboth-chorus-concert-sanctuary-music-room-4/
LOCATION:Epworth United Methodist Church\, 19285 Holland Glade Road\, Rehoboth Beach\, DE\, 19971\, United States
CATEGORIES:Church,Concerts,Facility Rentals
ORGANIZER;CN="David Scuccimarra":MAILTO:Scuch@aol.com
END:VEVENT
BEGIN:VEVENT
DTSTART;TZID=America/New_York:20250215T190000
DTEND;TZID=America/New_York:20250215T210000
DTSTAMP:20260424T033120
CREATED:20240716T182734Z
LAST-MODIFIED:20250213T221236Z
UID:10015535-1739646000-1739653200@epworth.faith
SUMMARY:Camp Rehoboth Chorus Concert (Sanctuary & Music Room)
DESCRIPTION:CAMP Rehoboth Chorus – On Broadway concert at Epworth February 14 and 15 at 7 pm and February 16 at 3 pm (tickets\, $30) \nBuilding and Tech Support: 6-10 pm
URL:https://epworth.faith/event/camp-rehoboth-chorus-concert-sanctuary-music-room-3/2025-02-15/
LOCATION:Epworth United Methodist Church\, 19285 Holland Glade Road\, Rehoboth Beach\, DE\, 19971\, United States
CATEGORIES:Church,Concerts,Facility Rentals
ORGANIZER;CN="David Scuccimarra":MAILTO:Scuch@aol.com
END:VEVENT
BEGIN:VEVENT
DTSTART;TZID=America/New_York:20250214T190000
DTEND;TZID=America/New_York:20250214T210000
DTSTAMP:20260424T033120
CREATED:20250213T221113Z
LAST-MODIFIED:20250213T221116Z
UID:10013608-1739559600-1739566800@epworth.faith
SUMMARY:Camp Rehoboth Chorus Concert (Sanctuary & Music Room)
DESCRIPTION:CAMP Rehoboth Chorus – On Broadway concert at Epworth February 14 and 15 at 7 pm and February 16 at 3 pm (tickets\, $30) \nBuilding and Tech Support: 6-10 pm
URL:https://epworth.faith/event/camp-rehoboth-chorus-concert-sanctuary-music-room-3-2/
LOCATION:Epworth United Methodist Church\, 19285 Holland Glade Road\, Rehoboth Beach\, DE\, 19971\, United States
CATEGORIES:Church,Concerts,Facility Rentals
ORGANIZER;CN="David Scuccimarra":MAILTO:Scuch@aol.com
END:VEVENT
BEGIN:VEVENT
DTSTART;TZID=America/New_York:20250210T183000
DTEND;TZID=America/New_York:20250210T203000
DTSTAMP:20260424T033120
CREATED:20240716T183414Z
LAST-MODIFIED:20240716T183414Z
UID:10013977-1739212200-1739219400@epworth.faith
SUMMARY:Camp Rehoboth Dress Rehearsal (Sanctuary & Music Room)
DESCRIPTION:
URL:https://epworth.faith/event/camp-rehoboth-dress-rehearsal-sanctuary-music-room-2/
LOCATION:Epworth United Methodist Church\, 19285 Holland Glade Road\, Rehoboth Beach\, DE\, 19971\, United States
CATEGORIES:Church,Concerts,Facility Rentals
ORGANIZER;CN="David Scuccimarra":MAILTO:Scuch@aol.com
END:VEVENT
BEGIN:VEVENT
DTSTART;TZID=America/New_York:20250203T183000
DTEND;TZID=America/New_York:20250203T203000
DTSTAMP:20260424T033120
CREATED:20240716T183345Z
LAST-MODIFIED:20240716T183345Z
UID:10013976-1738607400-1738614600@epworth.faith
SUMMARY:Camp Rehoboth Dress Rehearsal (Sanctuary & Music Room)
DESCRIPTION:
URL:https://epworth.faith/event/camp-rehoboth-dress-rehearsal-sanctuary-music-room/
LOCATION:Epworth United Methodist Church\, 19285 Holland Glade Road\, Rehoboth Beach\, DE\, 19971\, United States
CATEGORIES:Church,Concerts,Facility Rentals
ORGANIZER;CN="David Scuccimarra":MAILTO:Scuch@aol.com
END:VEVENT
BEGIN:VEVENT
DTSTART;TZID=America/New_York:20241203T170000
DTEND;TZID=America/New_York:20241203T190000
DTSTAMP:20260424T033120
CREATED:20241119T160341Z
LAST-MODIFIED:20241119T160422Z
UID:10015184-1733245200-1733252400@epworth.faith
SUMMARY:Camp Rehoboth Practice (Music Room)
DESCRIPTION:
URL:https://epworth.faith/event/camp-rehoboth-practice-music-room/
LOCATION:Epworth United Methodist Church\, 19285 Holland Glade Road\, Rehoboth Beach\, DE\, 19971\, United States
CATEGORIES:Church,Groups
ORGANIZER;CN="David Scuccimarra":MAILTO:Scuch@aol.com
END:VEVENT
BEGIN:VEVENT
DTSTART;TZID=America/New_York:20241119T180000
DTEND;TZID=America/New_York:20241119T200000
DTSTAMP:20260424T033120
CREATED:20241029T155713Z
LAST-MODIFIED:20241029T160314Z
UID:10015110-1732039200-1732046400@epworth.faith
SUMMARY:Camp Rehoboth Sectional - Music Room
DESCRIPTION:
URL:https://epworth.faith/event/camp-rehoboth-sectional-music-room-3/
LOCATION:Epworth United Methodist Church\, 19285 Holland Glade Road\, Rehoboth Beach\, DE\, 19971\, United States
CATEGORIES:Church,Groups
ORGANIZER;CN="David Scuccimarra":MAILTO:Scuch@aol.com
END:VEVENT
BEGIN:VEVENT
DTSTART;TZID=America/New_York:20241031T180000
DTEND;TZID=America/New_York:20241031T200000
DTSTAMP:20260424T033120
CREATED:20241009T170826Z
LAST-MODIFIED:20241009T170826Z
UID:10015039-1730397600-1730404800@epworth.faith
SUMMARY:Camp Rehoboth Sectional (Music Room)
DESCRIPTION:
URL:https://epworth.faith/event/camp-rehoboth-sectional-music-room-2/
LOCATION:Epworth United Methodist Church\, 19285 Holland Glade Road\, Rehoboth Beach\, DE\, 19971\, United States
CATEGORIES:Church,Groups
ORGANIZER;CN="David Scuccimarra":MAILTO:Scuch@aol.com
END:VEVENT
BEGIN:VEVENT
DTSTART;TZID=America/New_York:20241022T180000
DTEND;TZID=America/New_York:20241022T200000
DTSTAMP:20260424T033120
CREATED:20241009T170736Z
LAST-MODIFIED:20241009T170736Z
UID:10015038-1729620000-1729627200@epworth.faith
SUMMARY:Camp Rehoboth Sectional (Music Room)
DESCRIPTION:
URL:https://epworth.faith/event/camp-rehoboth-sectional-music-room/
LOCATION:Epworth United Methodist Church\, 19285 Holland Glade Road\, Rehoboth Beach\, DE\, 19971\, United States
CATEGORIES:Church,Groups
ORGANIZER;CN="David Scuccimarra":MAILTO:Scuch@aol.com
END:VEVENT
BEGIN:VEVENT
DTSTART;TZID=America/New_York:20240929T130000
DTEND;TZID=America/New_York:20240929T180000
DTSTAMP:20260424T033120
CREATED:20230822T181736Z
LAST-MODIFIED:20240827T193143Z
UID:10008988-1727614800-1727632800@epworth.faith
SUMMARY:CAMP Ensemble Concert "That's Life" (Sanctuary & Music Room)
DESCRIPTION:
URL:https://epworth.faith/event/camp-ensemble-concert-dirt-poor-filthy-rich-sanctuary-music-room-3/
LOCATION:Epworth United Methodist Church\, 19285 Holland Glade Road\, Rehoboth Beach\, DE\, 19971\, United States
CATEGORIES:Concerts,Facility Rentals
ORGANIZER;CN="David Scuccimarra":MAILTO:Scuch@aol.com
END:VEVENT
BEGIN:VEVENT
DTSTART;TZID=America/New_York:20240928T180000
DTEND;TZID=America/New_York:20240928T220000
DTSTAMP:20260424T033120
CREATED:20230822T181531Z
LAST-MODIFIED:20240827T193046Z
UID:10008987-1727546400-1727560800@epworth.faith
SUMMARY:CAMP Ensemble Concert "That's Life" (Sanctuary & Music Room)
DESCRIPTION:
URL:https://epworth.faith/event/camp-ensemble-concert-dirt-poor-filthy-rich-sanctuary-music-room-2/
LOCATION:Epworth United Methodist Church\, 19285 Holland Glade Road\, Rehoboth Beach\, DE\, 19971\, United States
CATEGORIES:Concerts,Facility Rentals
ORGANIZER;CN="David Scuccimarra":MAILTO:Scuch@aol.com
END:VEVENT
BEGIN:VEVENT
DTSTART;TZID=America/New_York:20240927T180000
DTEND;TZID=America/New_York:20240927T220000
DTSTAMP:20260424T033120
CREATED:20230822T181336Z
LAST-MODIFIED:20240827T194643Z
UID:10008986-1727460000-1727474400@epworth.faith
SUMMARY:CAMP Ensemble Concert "That's Life" (Sanctuary & Music Room)
DESCRIPTION:
URL:https://epworth.faith/event/camp-ensemble-concert-dirt-poor-filthy-rich-sanctuary-music-room/
LOCATION:Epworth United Methodist Church\, 19285 Holland Glade Road\, Rehoboth Beach\, DE\, 19971\, United States
CATEGORIES:Concerts,Facility Rentals
ORGANIZER;CN="David Scuccimarra":MAILTO:Scuch@aol.com
END:VEVENT
BEGIN:VEVENT
DTSTART;TZID=America/New_York:20240616T150000
DTEND;TZID=America/New_York:20240616T170000
DTSTAMP:20260424T033120
CREATED:20230822T180950Z
LAST-MODIFIED:20240612T154936Z
UID:10008985-1718550000-1718557200@epworth.faith
SUMMARY:CAMP Chorus "On the Road Again" (Sanctuary)
DESCRIPTION:
URL:https://epworth.faith/event/camp-chorus-on-the-road-again-sanctuary-music-room-3/
LOCATION:Epworth United Methodist Church\, 19285 Holland Glade Road\, Rehoboth Beach\, DE\, 19971\, United States
CATEGORIES:Concerts,Facility Rentals
ORGANIZER;CN="David Scuccimarra":MAILTO:Scuch@aol.com
END:VEVENT
BEGIN:VEVENT
DTSTART;TZID=America/New_York:20240615T190000
DTEND;TZID=America/New_York:20240615T210000
DTSTAMP:20260424T033120
CREATED:20230822T180726Z
LAST-MODIFIED:20240612T154833Z
UID:10008984-1718478000-1718485200@epworth.faith
SUMMARY:CAMP Chorus "On the Road Again" (Sanctuary)
DESCRIPTION:
URL:https://epworth.faith/event/camp-chorus-on-the-road-again-sanctuary-music-room-2/
LOCATION:Epworth United Methodist Church\, 19285 Holland Glade Road\, Rehoboth Beach\, DE\, 19971\, United States
CATEGORIES:Concerts,Facility Rentals
ORGANIZER;CN="David Scuccimarra":MAILTO:Scuch@aol.com
END:VEVENT
BEGIN:VEVENT
DTSTART;TZID=America/New_York:20240614T190000
DTEND;TZID=America/New_York:20240614T210000
DTSTAMP:20260424T033120
CREATED:20230822T180518Z
LAST-MODIFIED:20240612T154703Z
UID:10008983-1718391600-1718398800@epworth.faith
SUMMARY:CAMP Chorus "On the Road Again" (Sanctuary)
DESCRIPTION:
URL:https://epworth.faith/event/camp-chorus-on-the-road-again-sanctuary-music-room/
LOCATION:Epworth United Methodist Church\, 19285 Holland Glade Road\, Rehoboth Beach\, DE\, 19971\, United States
CATEGORIES:Concerts,Facility Rentals
ORGANIZER;CN="David Scuccimarra":MAILTO:Scuch@aol.com
END:VEVENT
BEGIN:VEVENT
DTSTART;TZID=America/New_York:20240218T150000
DTEND;TZID=America/New_York:20240218T170000
DTSTAMP:20260424T033120
CREATED:20230822T153757Z
LAST-MODIFIED:20240125T155700Z
UID:10008982-1708268400-1708275600@epworth.faith
SUMMARY:CAMP Chorus Concert "The British Are Coming" (Sanctuary & Music Room)
DESCRIPTION:
URL:https://epworth.faith/event/camp-chorus-concert-the-brutish-are-coming-sanctuary-music-room-3/
LOCATION:Epworth United Methodist Church\, 19285 Holland Glade Road\, Rehoboth Beach\, DE\, 19971\, United States
CATEGORIES:Concerts,Facility Rentals
ORGANIZER;CN="David Scuccimarra":MAILTO:Scuch@aol.com
END:VEVENT
BEGIN:VEVENT
DTSTART;TZID=America/New_York:20240217T190000
DTEND;TZID=America/New_York:20240217T210000
DTSTAMP:20260424T033120
CREATED:20230822T153617Z
LAST-MODIFIED:20240125T155408Z
UID:10008981-1708196400-1708203600@epworth.faith
SUMMARY:CAMP Chorus Concert "The British Are Coming" (Sanctuary & Music Room)
DESCRIPTION:
URL:https://epworth.faith/event/camp-chorus-concert-the-brutish-are-coming-sanctuary-music-room-2/
LOCATION:Epworth United Methodist Church\, 19285 Holland Glade Road\, Rehoboth Beach\, DE\, 19971\, United States
CATEGORIES:Concerts,Facility Rentals
ORGANIZER;CN="David Scuccimarra":MAILTO:Scuch@aol.com
END:VEVENT
BEGIN:VEVENT
DTSTART;TZID=America/New_York:20240216T190000
DTEND;TZID=America/New_York:20240216T210000
DTSTAMP:20260424T033120
CREATED:20230822T153132Z
LAST-MODIFIED:20240125T155538Z
UID:10008980-1708110000-1708117200@epworth.faith
SUMMARY:CAMP Chorus Concert "The British Are Coming" (Sanctuary & Music Room)
DESCRIPTION:
URL:https://epworth.faith/event/camp-chorus-concert-the-brutish-are-coming-sanctuary-music-room/
LOCATION:Epworth United Methodist Church\, 19285 Holland Glade Road\, Rehoboth Beach\, DE\, 19971\, United States
CATEGORIES:Concerts,Facility Rentals
ORGANIZER;CN="David Scuccimarra":MAILTO:Scuch@aol.com
END:VEVENT
BEGIN:VEVENT
DTSTART;TZID=America/New_York:20231001T080000
DTEND;TZID=America/New_York:20231001T170000
DTSTAMP:20260424T033120
CREATED:20220811T155905Z
LAST-MODIFIED:20220811T155905Z
UID:10006834-1696147200-1696179600@epworth.faith
SUMMARY:CAMP Rehoboth Chorus Concert (Sanctuary & Music Wing)
DESCRIPTION:CAMP Chorus will be here at 1:00 p.m. and the concert starts at 3:00 p.m.
URL:https://epworth.faith/event/camp-rehoboth-chorus-concert-sanctuary-music-wing-2/
LOCATION:Epworth United Methodist Church\, 19285 Holland Glade Road\, Rehoboth Beach\, DE\, 19971\, United States
CATEGORIES:Concerts
ORGANIZER;CN="David Scuccimarra":MAILTO:Scuch@aol.com
END:VEVENT
BEGIN:VEVENT
DTSTART;TZID=America/New_York:20230930T190000
DTEND;TZID=America/New_York:20230930T210000
DTSTAMP:20260424T033120
CREATED:20220811T155753Z
LAST-MODIFIED:20220811T155753Z
UID:10005936-1696100400-1696107600@epworth.faith
SUMMARY:CAMP Rehoboth Chorus Concert (Sanctuary & Music Wing)
DESCRIPTION:CAMP Chorus will be here at 6:00 p.m. and the concert starts at 7:00 p.m.
URL:https://epworth.faith/event/camp-rehoboth-chorus-concert-sanctuary-music-wing/2023-09-30/
LOCATION:Epworth United Methodist Church\, 19285 Holland Glade Road\, Rehoboth Beach\, DE\, 19971\, United States
CATEGORIES:Concerts
ORGANIZER;CN="David Scuccimarra":MAILTO:Scuch@aol.com
END:VEVENT
BEGIN:VEVENT
DTSTART;TZID=America/New_York:20230929T190000
DTEND;TZID=America/New_York:20230929T210000
DTSTAMP:20260424T033120
CREATED:20220811T155753Z
LAST-MODIFIED:20220811T155753Z
UID:10005935-1696014000-1696021200@epworth.faith
SUMMARY:CAMP Rehoboth Chorus Concert (Sanctuary & Music Wing)
DESCRIPTION:CAMP Chorus will be here at 6:00 p.m. and the concert starts at 7:00 p.m.
URL:https://epworth.faith/event/camp-rehoboth-chorus-concert-sanctuary-music-wing/2023-09-29/
LOCATION:Epworth United Methodist Church\, 19285 Holland Glade Road\, Rehoboth Beach\, DE\, 19971\, United States
CATEGORIES:Concerts
ORGANIZER;CN="David Scuccimarra":MAILTO:Scuch@aol.com
END:VEVENT
BEGIN:VEVENT
DTSTART;TZID=America/New_York:20230925T180000
DTEND;TZID=America/New_York:20230925T220000
DTSTAMP:20260424T033120
CREATED:20220811T160716Z
LAST-MODIFIED:20220811T160716Z
UID:10006836-1695664800-1695679200@epworth.faith
SUMMARY:CAMP Rehoboth Chorus Rehearsal (Sanctuary)
DESCRIPTION:
URL:https://epworth.faith/event/camp-rehoboth-chorus-rehearsal-sanctuary-2/
LOCATION:Epworth United Methodist Church\, 19285 Holland Glade Road\, Rehoboth Beach\, DE\, 19971\, United States
CATEGORIES:Concerts
ORGANIZER;CN="David Scuccimarra":MAILTO:Scuch@aol.com
END:VEVENT
BEGIN:VEVENT
DTSTART;TZID=America/New_York:20230618T150000
DTEND;TZID=America/New_York:20230618T170000
DTSTAMP:20260424T033120
CREATED:20220811T155614Z
LAST-MODIFIED:20220811T155614Z
UID:10005929-1687100400-1687107600@epworth.faith
SUMMARY:CAMP Rehoboth Chorus Concert (Sanctuary & Music Room)
DESCRIPTION:CAMP Chorus will be here starting at 1:00 and the concert starts at 3:00 p.m.
URL:https://epworth.faith/event/camp-rehoboth-chorus-concert-sanctuary-music-room-2/
LOCATION:Epworth United Methodist Church\, 19285 Holland Glade Road\, Rehoboth Beach\, DE\, 19971\, United States
CATEGORIES:Concerts
ORGANIZER;CN="David Scuccimarra":MAILTO:Scuch@aol.com
END:VEVENT
BEGIN:VEVENT
DTSTART;TZID=America/New_York:20230617T190000
DTEND;TZID=America/New_York:20230617T210000
DTSTAMP:20260424T033120
CREATED:20220811T155425Z
LAST-MODIFIED:20220811T155425Z
UID:10005923-1687028400-1687035600@epworth.faith
SUMMARY:CAMP Rehoboth Chorus Concert (Sanctuary & Music Room)
DESCRIPTION:CAMP Chorus will be here at 6:00 p.m. and the concert starts at 7:00 p.m.
URL:https://epworth.faith/event/camp-rehoboth-chorus-concert-sanctuary-music-room/2023-06-17/
LOCATION:Epworth United Methodist Church\, 19285 Holland Glade Road\, Rehoboth Beach\, DE\, 19971\, United States
CATEGORIES:Concerts
ORGANIZER;CN="David Scuccimarra":MAILTO:Scuch@aol.com
END:VEVENT
BEGIN:VEVENT
DTSTART;TZID=America/New_York:20230616T190000
DTEND;TZID=America/New_York:20230616T210000
DTSTAMP:20260424T033120
CREATED:20220811T155425Z
LAST-MODIFIED:20220811T155425Z
UID:10005922-1686942000-1686949200@epworth.faith
SUMMARY:CAMP Rehoboth Chorus Concert (Sanctuary & Music Room)
DESCRIPTION:CAMP Chorus will be here at 6:00 p.m. and the concert starts at 7:00 p.m.
URL:https://epworth.faith/event/camp-rehoboth-chorus-concert-sanctuary-music-room/2023-06-16/
LOCATION:Epworth United Methodist Church\, 19285 Holland Glade Road\, Rehoboth Beach\, DE\, 19971\, United States
CATEGORIES:Concerts
ORGANIZER;CN="David Scuccimarra":MAILTO:Scuch@aol.com
END:VEVENT
BEGIN:VEVENT
DTSTART;TZID=America/New_York:20230612T180000
DTEND;TZID=America/New_York:20230612T220000
DTSTAMP:20260424T033120
CREATED:20220811T160607Z
LAST-MODIFIED:20220811T160607Z
UID:10006835-1686592800-1686607200@epworth.faith
SUMMARY:CAMP Rehoboth Chorus Rehearsal
DESCRIPTION:
URL:https://epworth.faith/event/camp-rehoboth-chorus-rehearsal/2023-06-12/
LOCATION:Epworth United Methodist Church\, 19285 Holland Glade Road\, Rehoboth Beach\, DE\, 19971\, United States
CATEGORIES:Concerts
ORGANIZER;CN="David Scuccimarra":MAILTO:Scuch@aol.com
END:VEVENT
BEGIN:VEVENT
DTSTART;TZID=America/New_York:20230219T150000
DTEND;TZID=America/New_York:20230219T170000
DTSTAMP:20260424T033120
CREATED:20220614T155515Z
LAST-MODIFIED:20220614T155908Z
UID:10006631-1676818800-1676826000@epworth.faith
SUMMARY:CAMP Rehoboth Chorus (Sanctuary)
DESCRIPTION:
URL:https://epworth.faith/event/camp-rehoboth-chorus-sanctuary-4/
LOCATION:Epworth United Methodist Church\, 19285 Holland Glade Road\, Rehoboth Beach\, DE\, 19971\, United States
CATEGORIES:Concerts
ORGANIZER;CN="David Scuccimarra":MAILTO:Scuch@aol.com
END:VEVENT
END:VCALENDAR