BEGIN:VCALENDAR
VERSION:2.0
PRODID:-//Epworth UMC - ECPv6.15.20//NONSGML v1.0//EN
CALSCALE:GREGORIAN
METHOD:PUBLISH
X-WR-CALNAME:Epworth UMC
X-ORIGINAL-URL:https://epworth.faith
X-WR-CALDESC:Events for Epworth UMC
REFRESH-INTERVAL;VALUE=DURATION:PT1H
X-Robots-Tag:noindex
X-PUBLISHED-TTL:PT1H
BEGIN:VTIMEZONE
TZID:America/New_York
BEGIN:DAYLIGHT
TZOFFSETFROM:-0500
TZOFFSETTO:-0400
TZNAME:EDT
DTSTART:20200308T070000
END:DAYLIGHT
BEGIN:STANDARD
TZOFFSETFROM:-0400
TZOFFSETTO:-0500
TZNAME:EST
DTSTART:20201101T060000
END:STANDARD
BEGIN:DAYLIGHT
TZOFFSETFROM:-0500
TZOFFSETTO:-0400
TZNAME:EDT
DTSTART:20210314T070000
END:DAYLIGHT
BEGIN:STANDARD
TZOFFSETFROM:-0400
TZOFFSETTO:-0500
TZNAME:EST
DTSTART:20211107T060000
END:STANDARD
BEGIN:DAYLIGHT
TZOFFSETFROM:-0500
TZOFFSETTO:-0400
TZNAME:EDT
DTSTART:20220313T070000
END:DAYLIGHT
BEGIN:STANDARD
TZOFFSETFROM:-0400
TZOFFSETTO:-0500
TZNAME:EST
DTSTART:20221106T060000
END:STANDARD
BEGIN:DAYLIGHT
TZOFFSETFROM:-0500
TZOFFSETTO:-0400
TZNAME:EDT
DTSTART:20230312T070000
END:DAYLIGHT
BEGIN:STANDARD
TZOFFSETFROM:-0400
TZOFFSETTO:-0500
TZNAME:EST
DTSTART:20231105T060000
END:STANDARD
END:VTIMEZONE
BEGIN:VEVENT
DTSTART;TZID=America/New_York:20220112T130000
DTEND;TZID=America/New_York:20220112T150000
DTSTAMP:20260425T104134
CREATED:20211004T193959Z
LAST-MODIFIED:20211020T164009Z
UID:10004865-1641992400-1641999600@epworth.faith
SUMMARY:Card Making
DESCRIPTION:Card making is located in the Branford Lounge.  Cards are created by these wonderful people for anyone to use on any occasion.
URL:https://epworth.faith/event/card-making/2022-01-12/
LOCATION:Epworth United Methodist Church\, 19285 Holland Glade Road\, Rehoboth Beach\, DE\, 19971\, United States
CATEGORIES:Church
ORGANIZER;CN="Mickie McManamon":MAILTO:mmcmanamon@epworth.faith
END:VEVENT
BEGIN:VEVENT
DTSTART;TZID=America/New_York:20211222T130000
DTEND;TZID=America/New_York:20211222T150000
DTSTAMP:20260425T104134
CREATED:20211004T194121Z
LAST-MODIFIED:20211020T164153Z
UID:10004884-1640178000-1640185200@epworth.faith
SUMMARY:Card Making
DESCRIPTION:Card making is located in the Branford Lounge.  Cards are created by these wonderful people for anyone to use on any occasion.
URL:https://epworth.faith/event/card-making-2/2021-12-22/
LOCATION:Epworth United Methodist Church\, 19285 Holland Glade Road\, Rehoboth Beach\, DE\, 19971\, United States
CATEGORIES:Church
ORGANIZER;CN="Mickie McManamon":MAILTO:mmcmanamon@epworth.faith
END:VEVENT
BEGIN:VEVENT
DTSTART;TZID=America/New_York:20211208T130000
DTEND;TZID=America/New_York:20211208T150000
DTSTAMP:20260425T104134
CREATED:20211004T193959Z
LAST-MODIFIED:20211020T164009Z
UID:10004864-1638968400-1638975600@epworth.faith
SUMMARY:Card Making
DESCRIPTION:Card making is located in the Branford Lounge.  Cards are created by these wonderful people for anyone to use on any occasion.
URL:https://epworth.faith/event/card-making/2021-12-08/
LOCATION:Epworth United Methodist Church\, 19285 Holland Glade Road\, Rehoboth Beach\, DE\, 19971\, United States
CATEGORIES:Church
ORGANIZER;CN="Mickie McManamon":MAILTO:mmcmanamon@epworth.faith
END:VEVENT
BEGIN:VEVENT
DTSTART;TZID=America/New_York:20211124T130000
DTEND;TZID=America/New_York:20211124T150000
DTSTAMP:20260425T104134
CREATED:20211004T194121Z
LAST-MODIFIED:20211020T164153Z
UID:10004883-1637758800-1637766000@epworth.faith
SUMMARY:Card Making
DESCRIPTION:Card making is located in the Branford Lounge.  Cards are created by these wonderful people for anyone to use on any occasion.
URL:https://epworth.faith/event/card-making-2/2021-11-24/
LOCATION:Epworth United Methodist Church\, 19285 Holland Glade Road\, Rehoboth Beach\, DE\, 19971\, United States
CATEGORIES:Church
ORGANIZER;CN="Mickie McManamon":MAILTO:mmcmanamon@epworth.faith
END:VEVENT
BEGIN:VEVENT
DTSTART;TZID=America/New_York:20211110T130000
DTEND;TZID=America/New_York:20211110T150000
DTSTAMP:20260425T104134
CREATED:20211004T193959Z
LAST-MODIFIED:20211020T164009Z
UID:10004863-1636549200-1636556400@epworth.faith
SUMMARY:Card Making
DESCRIPTION:Card making is located in the Branford Lounge.  Cards are created by these wonderful people for anyone to use on any occasion.
URL:https://epworth.faith/event/card-making/2021-11-10/
LOCATION:Epworth United Methodist Church\, 19285 Holland Glade Road\, Rehoboth Beach\, DE\, 19971\, United States
CATEGORIES:Church
ORGANIZER;CN="Mickie McManamon":MAILTO:mmcmanamon@epworth.faith
END:VEVENT
BEGIN:VEVENT
DTSTART;TZID=America/New_York:20211027T130000
DTEND;TZID=America/New_York:20211027T150000
DTSTAMP:20260425T104134
CREATED:20211004T194121Z
LAST-MODIFIED:20211020T164153Z
UID:10004882-1635339600-1635346800@epworth.faith
SUMMARY:Card Making
DESCRIPTION:Card making is located in the Branford Lounge.  Cards are created by these wonderful people for anyone to use on any occasion.
URL:https://epworth.faith/event/card-making-2/2021-10-27/
LOCATION:Epworth United Methodist Church\, 19285 Holland Glade Road\, Rehoboth Beach\, DE\, 19971\, United States
CATEGORIES:Church
ORGANIZER;CN="Mickie McManamon":MAILTO:mmcmanamon@epworth.faith
END:VEVENT
BEGIN:VEVENT
DTSTART;TZID=America/New_York:20211013T130000
DTEND;TZID=America/New_York:20211013T150000
DTSTAMP:20260425T104134
CREATED:20211004T193959Z
LAST-MODIFIED:20211020T164009Z
UID:10004862-1634130000-1634137200@epworth.faith
SUMMARY:Card Making
DESCRIPTION:Card making is located in the Branford Lounge.  Cards are created by these wonderful people for anyone to use on any occasion.
URL:https://epworth.faith/event/card-making/2021-10-13/
LOCATION:Epworth United Methodist Church\, 19285 Holland Glade Road\, Rehoboth Beach\, DE\, 19971\, United States
CATEGORIES:Church
ORGANIZER;CN="Mickie McManamon":MAILTO:mmcmanamon@epworth.faith
END:VEVENT
END:VCALENDAR