BEGIN:VCALENDAR
VERSION:2.0
PRODID:-//Epworth UMC - ECPv6.15.20//NONSGML v1.0//EN
CALSCALE:GREGORIAN
METHOD:PUBLISH
X-WR-CALNAME:Epworth UMC
X-ORIGINAL-URL:https://epworth.faith
X-WR-CALDESC:Events for Epworth UMC
REFRESH-INTERVAL;VALUE=DURATION:PT1H
X-Robots-Tag:noindex
X-PUBLISHED-TTL:PT1H
BEGIN:VTIMEZONE
TZID:America/New_York
BEGIN:DAYLIGHT
TZOFFSETFROM:-0500
TZOFFSETTO:-0400
TZNAME:EDT
DTSTART:20210314T070000
END:DAYLIGHT
BEGIN:STANDARD
TZOFFSETFROM:-0400
TZOFFSETTO:-0500
TZNAME:EST
DTSTART:20211107T060000
END:STANDARD
BEGIN:DAYLIGHT
TZOFFSETFROM:-0500
TZOFFSETTO:-0400
TZNAME:EDT
DTSTART:20220313T070000
END:DAYLIGHT
BEGIN:STANDARD
TZOFFSETFROM:-0400
TZOFFSETTO:-0500
TZNAME:EST
DTSTART:20221106T060000
END:STANDARD
BEGIN:DAYLIGHT
TZOFFSETFROM:-0500
TZOFFSETTO:-0400
TZNAME:EDT
DTSTART:20230312T070000
END:DAYLIGHT
BEGIN:STANDARD
TZOFFSETFROM:-0400
TZOFFSETTO:-0500
TZNAME:EST
DTSTART:20231105T060000
END:STANDARD
BEGIN:DAYLIGHT
TZOFFSETFROM:-0500
TZOFFSETTO:-0400
TZNAME:EDT
DTSTART:20240310T070000
END:DAYLIGHT
BEGIN:STANDARD
TZOFFSETFROM:-0400
TZOFFSETTO:-0500
TZNAME:EST
DTSTART:20241103T060000
END:STANDARD
END:VTIMEZONE
BEGIN:VEVENT
DTSTART;TZID=America/New_York:20230117T140000
DTEND;TZID=America/New_York:20230117T153000
DTSTAMP:20260425T063640
CREATED:20220303T172247Z
LAST-MODIFIED:20220303T172247Z
UID:10006192-1673964000-1673969400@epworth.faith
SUMMARY:Spousal Loss Support Group (Baker Lounge)
DESCRIPTION:
URL:https://epworth.faith/event/spousal-loss-support-group-baker-lounge/2023-01-17/
LOCATION:Epworth United Methodist Church\, 19285 Holland Glade Road\, Rehoboth Beach\, DE\, 19971\, United States
CATEGORIES:Facility Rentals
ORGANIZER;CN="Ellen Tolbert":MAILTO:etolbert@delawarehospice.org
END:VEVENT
BEGIN:VEVENT
DTSTART;TZID=America/New_York:20221220T140000
DTEND;TZID=America/New_York:20221220T153000
DTSTAMP:20260425T063640
CREATED:20220519T134720Z
LAST-MODIFIED:20221205T195218Z
UID:10005329-1671544800-1671550200@epworth.faith
SUMMARY:Spousal Loss Support Group (Branford Lounge)
DESCRIPTION:
URL:https://epworth.faith/event/spousal-loss-support-group-baker-lounge-2-2022-12-20/
LOCATION:Epworth United Methodist Church\, 19285 Holland Glade Road\, Rehoboth Beach\, DE\, 19971\, United States
CATEGORIES:Facility Rentals
ORGANIZER;CN="Ellen Tolbert":MAILTO:etolbert@delawarehospice.org
END:VEVENT
BEGIN:VEVENT
DTSTART;TZID=America/New_York:20221220T140000
DTEND;TZID=America/New_York:20221220T153000
DTSTAMP:20260425T063640
CREATED:20220303T172247Z
LAST-MODIFIED:20220303T172247Z
UID:10006191-1671544800-1671550200@epworth.faith
SUMMARY:Spousal Loss Support Group (Baker Lounge)
DESCRIPTION:
URL:https://epworth.faith/event/spousal-loss-support-group-baker-lounge/2022-12-20/
LOCATION:Epworth United Methodist Church\, 19285 Holland Glade Road\, Rehoboth Beach\, DE\, 19971\, United States
CATEGORIES:Facility Rentals
ORGANIZER;CN="Ellen Tolbert":MAILTO:etolbert@delawarehospice.org
END:VEVENT
BEGIN:VEVENT
DTSTART;TZID=America/New_York:20221115T140000
DTEND;TZID=America/New_York:20221115T153000
DTSTAMP:20260425T063640
CREATED:20220519T134720Z
LAST-MODIFIED:20220519T134720Z
UID:10005275-1668520800-1668526200@epworth.faith
SUMMARY:Spousal Loss Support Group (Baker Lounge)
DESCRIPTION:
URL:https://epworth.faith/event/spousal-loss-support-group-baker-lounge-2/2022-11-15/
LOCATION:Epworth United Methodist Church\, 19285 Holland Glade Road\, Rehoboth Beach\, DE\, 19971\, United States
CATEGORIES:Facility Rentals
ORGANIZER;CN="Ellen Tolbert":MAILTO:etolbert@delawarehospice.org
END:VEVENT
BEGIN:VEVENT
DTSTART;TZID=America/New_York:20221115T140000
DTEND;TZID=America/New_York:20221115T153000
DTSTAMP:20260425T063640
CREATED:20220303T172247Z
LAST-MODIFIED:20220303T172247Z
UID:10006190-1668520800-1668526200@epworth.faith
SUMMARY:Spousal Loss Support Group (Baker Lounge)
DESCRIPTION:
URL:https://epworth.faith/event/spousal-loss-support-group-baker-lounge/2022-11-15/
LOCATION:Epworth United Methodist Church\, 19285 Holland Glade Road\, Rehoboth Beach\, DE\, 19971\, United States
CATEGORIES:Facility Rentals
ORGANIZER;CN="Ellen Tolbert":MAILTO:etolbert@delawarehospice.org
END:VEVENT
BEGIN:VEVENT
DTSTART;TZID=America/New_York:20221018T140000
DTEND;TZID=America/New_York:20221018T153000
DTSTAMP:20260425T063640
CREATED:20220519T134720Z
LAST-MODIFIED:20221011T163132Z
UID:10005302-1666101600-1666107000@epworth.faith
SUMMARY:Spousal Loss Support Group (Branford Lounge)
DESCRIPTION:
URL:https://epworth.faith/event/spousal-loss-support-group-baker-lounge-2-2022-10-18/
LOCATION:Epworth United Methodist Church\, 19285 Holland Glade Road\, Rehoboth Beach\, DE\, 19971\, United States
CATEGORIES:Facility Rentals
ORGANIZER;CN="Ellen Tolbert":MAILTO:etolbert@delawarehospice.org
END:VEVENT
BEGIN:VEVENT
DTSTART;TZID=America/New_York:20221018T140000
DTEND;TZID=America/New_York:20221018T153000
DTSTAMP:20260425T063640
CREATED:20220303T172247Z
LAST-MODIFIED:20220303T172247Z
UID:10006189-1666101600-1666107000@epworth.faith
SUMMARY:Spousal Loss Support Group (Baker Lounge)
DESCRIPTION:
URL:https://epworth.faith/event/spousal-loss-support-group-baker-lounge/2022-10-18/
LOCATION:Epworth United Methodist Church\, 19285 Holland Glade Road\, Rehoboth Beach\, DE\, 19971\, United States
CATEGORIES:Facility Rentals
ORGANIZER;CN="Ellen Tolbert":MAILTO:etolbert@delawarehospice.org
END:VEVENT
BEGIN:VEVENT
DTSTART;TZID=America/New_York:20220920T140000
DTEND;TZID=America/New_York:20220920T153000
DTSTAMP:20260425T063640
CREATED:20220519T134720Z
LAST-MODIFIED:20220519T134720Z
UID:10005274-1663682400-1663687800@epworth.faith
SUMMARY:Spousal Loss Support Group (Baker Lounge)
DESCRIPTION:
URL:https://epworth.faith/event/spousal-loss-support-group-baker-lounge-2/2022-09-20/
LOCATION:Epworth United Methodist Church\, 19285 Holland Glade Road\, Rehoboth Beach\, DE\, 19971\, United States
CATEGORIES:Facility Rentals
ORGANIZER;CN="Ellen Tolbert":MAILTO:etolbert@delawarehospice.org
END:VEVENT
BEGIN:VEVENT
DTSTART;TZID=America/New_York:20220920T140000
DTEND;TZID=America/New_York:20220920T153000
DTSTAMP:20260425T063640
CREATED:20220303T172247Z
LAST-MODIFIED:20220303T172247Z
UID:10006188-1663682400-1663687800@epworth.faith
SUMMARY:Spousal Loss Support Group (Baker Lounge)
DESCRIPTION:
URL:https://epworth.faith/event/spousal-loss-support-group-baker-lounge/2022-09-20/
LOCATION:Epworth United Methodist Church\, 19285 Holland Glade Road\, Rehoboth Beach\, DE\, 19971\, United States
CATEGORIES:Facility Rentals
ORGANIZER;CN="Ellen Tolbert":MAILTO:etolbert@delawarehospice.org
END:VEVENT
BEGIN:VEVENT
DTSTART;TZID=America/New_York:20220816T140000
DTEND;TZID=America/New_York:20220816T153000
DTSTAMP:20260425T063640
CREATED:20220519T134720Z
LAST-MODIFIED:20220519T134720Z
UID:10005273-1660658400-1660663800@epworth.faith
SUMMARY:Spousal Loss Support Group (Baker Lounge)
DESCRIPTION:
URL:https://epworth.faith/event/spousal-loss-support-group-baker-lounge-2/2022-08-16/
LOCATION:Epworth United Methodist Church\, 19285 Holland Glade Road\, Rehoboth Beach\, DE\, 19971\, United States
CATEGORIES:Facility Rentals
ORGANIZER;CN="Ellen Tolbert":MAILTO:etolbert@delawarehospice.org
END:VEVENT
BEGIN:VEVENT
DTSTART;TZID=America/New_York:20220816T140000
DTEND;TZID=America/New_York:20220816T153000
DTSTAMP:20260425T063640
CREATED:20220303T172247Z
LAST-MODIFIED:20220303T172247Z
UID:10006187-1660658400-1660663800@epworth.faith
SUMMARY:Spousal Loss Support Group (Baker Lounge)
DESCRIPTION:
URL:https://epworth.faith/event/spousal-loss-support-group-baker-lounge/2022-08-16/
LOCATION:Epworth United Methodist Church\, 19285 Holland Glade Road\, Rehoboth Beach\, DE\, 19971\, United States
CATEGORIES:Facility Rentals
ORGANIZER;CN="Ellen Tolbert":MAILTO:etolbert@delawarehospice.org
END:VEVENT
BEGIN:VEVENT
DTSTART;TZID=America/New_York:20220719T140000
DTEND;TZID=America/New_York:20220719T153000
DTSTAMP:20260425T063640
CREATED:20220519T134720Z
LAST-MODIFIED:20220519T134720Z
UID:10005272-1658239200-1658244600@epworth.faith
SUMMARY:Spousal Loss Support Group (Baker Lounge)
DESCRIPTION:
URL:https://epworth.faith/event/spousal-loss-support-group-baker-lounge-2/2022-07-19/
LOCATION:Epworth United Methodist Church\, 19285 Holland Glade Road\, Rehoboth Beach\, DE\, 19971\, United States
CATEGORIES:Facility Rentals
ORGANIZER;CN="Ellen Tolbert":MAILTO:etolbert@delawarehospice.org
END:VEVENT
BEGIN:VEVENT
DTSTART;TZID=America/New_York:20220719T140000
DTEND;TZID=America/New_York:20220719T153000
DTSTAMP:20260425T063640
CREATED:20220303T172247Z
LAST-MODIFIED:20220303T172247Z
UID:10006186-1658239200-1658244600@epworth.faith
SUMMARY:Spousal Loss Support Group (Baker Lounge)
DESCRIPTION:
URL:https://epworth.faith/event/spousal-loss-support-group-baker-lounge/2022-07-19/
LOCATION:Epworth United Methodist Church\, 19285 Holland Glade Road\, Rehoboth Beach\, DE\, 19971\, United States
CATEGORIES:Facility Rentals
ORGANIZER;CN="Ellen Tolbert":MAILTO:etolbert@delawarehospice.org
END:VEVENT
BEGIN:VEVENT
DTSTART;TZID=America/New_York:20220621T140000
DTEND;TZID=America/New_York:20220621T153000
DTSTAMP:20260425T063640
CREATED:20220519T134720Z
LAST-MODIFIED:20220519T134720Z
UID:10005271-1655820000-1655825400@epworth.faith
SUMMARY:Spousal Loss Support Group (Baker Lounge)
DESCRIPTION:
URL:https://epworth.faith/event/spousal-loss-support-group-baker-lounge-2/2022-06-21/
LOCATION:Epworth United Methodist Church\, 19285 Holland Glade Road\, Rehoboth Beach\, DE\, 19971\, United States
CATEGORIES:Facility Rentals
ORGANIZER;CN="Ellen Tolbert":MAILTO:etolbert@delawarehospice.org
END:VEVENT
BEGIN:VEVENT
DTSTART;TZID=America/New_York:20220621T140000
DTEND;TZID=America/New_York:20220621T153000
DTSTAMP:20260425T063640
CREATED:20220303T172247Z
LAST-MODIFIED:20220303T172247Z
UID:10006185-1655820000-1655825400@epworth.faith
SUMMARY:Spousal Loss Support Group (Baker Lounge)
DESCRIPTION:
URL:https://epworth.faith/event/spousal-loss-support-group-baker-lounge/2022-06-21/
LOCATION:Epworth United Methodist Church\, 19285 Holland Glade Road\, Rehoboth Beach\, DE\, 19971\, United States
CATEGORIES:Facility Rentals
ORGANIZER;CN="Ellen Tolbert":MAILTO:etolbert@delawarehospice.org
END:VEVENT
BEGIN:VEVENT
DTSTART;TZID=America/New_York:20220517T140000
DTEND;TZID=America/New_York:20220517T153000
DTSTAMP:20260425T063640
CREATED:20220519T134720Z
LAST-MODIFIED:20220519T134720Z
UID:10005270-1652796000-1652801400@epworth.faith
SUMMARY:Spousal Loss Support Group (Baker Lounge)
DESCRIPTION:
URL:https://epworth.faith/event/spousal-loss-support-group-baker-lounge-2/2022-05-17/
LOCATION:Epworth United Methodist Church\, 19285 Holland Glade Road\, Rehoboth Beach\, DE\, 19971\, United States
CATEGORIES:Facility Rentals
ORGANIZER;CN="Ellen Tolbert":MAILTO:etolbert@delawarehospice.org
END:VEVENT
BEGIN:VEVENT
DTSTART;TZID=America/New_York:20220517T140000
DTEND;TZID=America/New_York:20220517T153000
DTSTAMP:20260425T063640
CREATED:20220303T172247Z
LAST-MODIFIED:20220303T172247Z
UID:10006184-1652796000-1652801400@epworth.faith
SUMMARY:Spousal Loss Support Group (Baker Lounge)
DESCRIPTION:
URL:https://epworth.faith/event/spousal-loss-support-group-baker-lounge/2022-05-17/
LOCATION:Epworth United Methodist Church\, 19285 Holland Glade Road\, Rehoboth Beach\, DE\, 19971\, United States
CATEGORIES:Facility Rentals
ORGANIZER;CN="Ellen Tolbert":MAILTO:etolbert@delawarehospice.org
END:VEVENT
BEGIN:VEVENT
DTSTART;TZID=America/New_York:20220419T140000
DTEND;TZID=America/New_York:20220419T153000
DTSTAMP:20260425T063640
CREATED:20220303T172247Z
LAST-MODIFIED:20220303T172247Z
UID:10006183-1650376800-1650382200@epworth.faith
SUMMARY:Spousal Loss Support Group (Baker Lounge)
DESCRIPTION:
URL:https://epworth.faith/event/spousal-loss-support-group-baker-lounge/2022-04-19/
LOCATION:Epworth United Methodist Church\, 19285 Holland Glade Road\, Rehoboth Beach\, DE\, 19971\, United States
CATEGORIES:Facility Rentals
ORGANIZER;CN="Ellen Tolbert":MAILTO:etolbert@delawarehospice.org
END:VEVENT
BEGIN:VEVENT
DTSTART;TZID=America/New_York:20220315T140000
DTEND;TZID=America/New_York:20220315T153000
DTSTAMP:20260425T063640
CREATED:20220303T172247Z
LAST-MODIFIED:20220303T172247Z
UID:10006182-1647352800-1647358200@epworth.faith
SUMMARY:Spousal Loss Support Group (Baker Lounge)
DESCRIPTION:
URL:https://epworth.faith/event/spousal-loss-support-group-baker-lounge/2022-03-15/
LOCATION:Epworth United Methodist Church\, 19285 Holland Glade Road\, Rehoboth Beach\, DE\, 19971\, United States
CATEGORIES:Facility Rentals
ORGANIZER;CN="Ellen Tolbert":MAILTO:etolbert@delawarehospice.org
END:VEVENT
END:VCALENDAR