BEGIN:VCALENDAR
VERSION:2.0
PRODID:-//Epworth UMC - ECPv6.15.20//NONSGML v1.0//EN
CALSCALE:GREGORIAN
METHOD:PUBLISH
X-ORIGINAL-URL:https://epworth.faith
X-WR-CALDESC:Events for Epworth UMC
REFRESH-INTERVAL;VALUE=DURATION:PT1H
X-Robots-Tag:noindex
X-PUBLISHED-TTL:PT1H
BEGIN:VTIMEZONE
TZID:America/New_York
BEGIN:DAYLIGHT
TZOFFSETFROM:-0500
TZOFFSETTO:-0400
TZNAME:EDT
DTSTART:20210314T070000
END:DAYLIGHT
BEGIN:STANDARD
TZOFFSETFROM:-0400
TZOFFSETTO:-0500
TZNAME:EST
DTSTART:20211107T060000
END:STANDARD
BEGIN:DAYLIGHT
TZOFFSETFROM:-0500
TZOFFSETTO:-0400
TZNAME:EDT
DTSTART:20220313T070000
END:DAYLIGHT
BEGIN:STANDARD
TZOFFSETFROM:-0400
TZOFFSETTO:-0500
TZNAME:EST
DTSTART:20221106T060000
END:STANDARD
BEGIN:DAYLIGHT
TZOFFSETFROM:-0500
TZOFFSETTO:-0400
TZNAME:EDT
DTSTART:20230312T070000
END:DAYLIGHT
BEGIN:STANDARD
TZOFFSETFROM:-0400
TZOFFSETTO:-0500
TZNAME:EST
DTSTART:20231105T060000
END:STANDARD
END:VTIMEZONE
BEGIN:VEVENT
DTSTART;TZID=America/New_York:20220719T140000
DTEND;TZID=America/New_York:20220719T153000
DTSTAMP:20260425T065513
CREATED:20220303T172247Z
LAST-MODIFIED:20220303T172247Z
UID:10006186-1658239200-1658244600@epworth.faith
SUMMARY:Spousal Loss Support Group (Baker Lounge)
DESCRIPTION:
URL:https://epworth.faith/event/spousal-loss-support-group-baker-lounge/2022-07-19/
LOCATION:Epworth United Methodist Church\, 19285 Holland Glade Road\, Rehoboth Beach\, DE\, 19971\, United States
CATEGORIES:Facility Rentals
ORGANIZER;CN="Ellen Tolbert":MAILTO:etolbert@delawarehospice.org
END:VEVENT
BEGIN:VEVENT
DTSTART;TZID=America/New_York:20220621T140000
DTEND;TZID=America/New_York:20220621T153000
DTSTAMP:20260425T065513
CREATED:20220519T134720Z
LAST-MODIFIED:20220519T134720Z
UID:10005271-1655820000-1655825400@epworth.faith
SUMMARY:Spousal Loss Support Group (Baker Lounge)
DESCRIPTION:
URL:https://epworth.faith/event/spousal-loss-support-group-baker-lounge-2/2022-06-21/
LOCATION:Epworth United Methodist Church\, 19285 Holland Glade Road\, Rehoboth Beach\, DE\, 19971\, United States
CATEGORIES:Facility Rentals
ORGANIZER;CN="Ellen Tolbert":MAILTO:etolbert@delawarehospice.org
END:VEVENT
BEGIN:VEVENT
DTSTART;TZID=America/New_York:20220621T140000
DTEND;TZID=America/New_York:20220621T153000
DTSTAMP:20260425T065513
CREATED:20220303T172247Z
LAST-MODIFIED:20220303T172247Z
UID:10006185-1655820000-1655825400@epworth.faith
SUMMARY:Spousal Loss Support Group (Baker Lounge)
DESCRIPTION:
URL:https://epworth.faith/event/spousal-loss-support-group-baker-lounge/2022-06-21/
LOCATION:Epworth United Methodist Church\, 19285 Holland Glade Road\, Rehoboth Beach\, DE\, 19971\, United States
CATEGORIES:Facility Rentals
ORGANIZER;CN="Ellen Tolbert":MAILTO:etolbert@delawarehospice.org
END:VEVENT
BEGIN:VEVENT
DTSTART;TZID=America/New_York:20220517T140000
DTEND;TZID=America/New_York:20220517T153000
DTSTAMP:20260425T065513
CREATED:20220519T134720Z
LAST-MODIFIED:20220519T134720Z
UID:10005270-1652796000-1652801400@epworth.faith
SUMMARY:Spousal Loss Support Group (Baker Lounge)
DESCRIPTION:
URL:https://epworth.faith/event/spousal-loss-support-group-baker-lounge-2/2022-05-17/
LOCATION:Epworth United Methodist Church\, 19285 Holland Glade Road\, Rehoboth Beach\, DE\, 19971\, United States
CATEGORIES:Facility Rentals
ORGANIZER;CN="Ellen Tolbert":MAILTO:etolbert@delawarehospice.org
END:VEVENT
BEGIN:VEVENT
DTSTART;TZID=America/New_York:20220517T140000
DTEND;TZID=America/New_York:20220517T153000
DTSTAMP:20260425T065513
CREATED:20220303T172247Z
LAST-MODIFIED:20220303T172247Z
UID:10006184-1652796000-1652801400@epworth.faith
SUMMARY:Spousal Loss Support Group (Baker Lounge)
DESCRIPTION:
URL:https://epworth.faith/event/spousal-loss-support-group-baker-lounge/2022-05-17/
LOCATION:Epworth United Methodist Church\, 19285 Holland Glade Road\, Rehoboth Beach\, DE\, 19971\, United States
CATEGORIES:Facility Rentals
ORGANIZER;CN="Ellen Tolbert":MAILTO:etolbert@delawarehospice.org
END:VEVENT
BEGIN:VEVENT
DTSTART;TZID=America/New_York:20220419T140000
DTEND;TZID=America/New_York:20220419T153000
DTSTAMP:20260425T065513
CREATED:20220303T172247Z
LAST-MODIFIED:20220303T172247Z
UID:10006183-1650376800-1650382200@epworth.faith
SUMMARY:Spousal Loss Support Group (Baker Lounge)
DESCRIPTION:
URL:https://epworth.faith/event/spousal-loss-support-group-baker-lounge/2022-04-19/
LOCATION:Epworth United Methodist Church\, 19285 Holland Glade Road\, Rehoboth Beach\, DE\, 19971\, United States
CATEGORIES:Facility Rentals
ORGANIZER;CN="Ellen Tolbert":MAILTO:etolbert@delawarehospice.org
END:VEVENT
BEGIN:VEVENT
DTSTART;TZID=America/New_York:20220315T140000
DTEND;TZID=America/New_York:20220315T153000
DTSTAMP:20260425T065513
CREATED:20220303T172247Z
LAST-MODIFIED:20220303T172247Z
UID:10006182-1647352800-1647358200@epworth.faith
SUMMARY:Spousal Loss Support Group (Baker Lounge)
DESCRIPTION:
URL:https://epworth.faith/event/spousal-loss-support-group-baker-lounge/2022-03-15/
LOCATION:Epworth United Methodist Church\, 19285 Holland Glade Road\, Rehoboth Beach\, DE\, 19971\, United States
CATEGORIES:Facility Rentals
ORGANIZER;CN="Ellen Tolbert":MAILTO:etolbert@delawarehospice.org
END:VEVENT
END:VCALENDAR