BEGIN:VCALENDAR
VERSION:2.0
PRODID:-//Epworth UMC - ECPv6.15.20//NONSGML v1.0//EN
CALSCALE:GREGORIAN
METHOD:PUBLISH
X-WR-CALNAME:Epworth UMC
X-ORIGINAL-URL:https://epworth.faith
X-WR-CALDESC:Events for Epworth UMC
REFRESH-INTERVAL;VALUE=DURATION:PT1H
X-Robots-Tag:noindex
X-PUBLISHED-TTL:PT1H
BEGIN:VTIMEZONE
TZID:America/New_York
BEGIN:DAYLIGHT
TZOFFSETFROM:-0500
TZOFFSETTO:-0400
TZNAME:EDT
DTSTART:20200308T070000
END:DAYLIGHT
BEGIN:STANDARD
TZOFFSETFROM:-0400
TZOFFSETTO:-0500
TZNAME:EST
DTSTART:20201101T060000
END:STANDARD
BEGIN:DAYLIGHT
TZOFFSETFROM:-0500
TZOFFSETTO:-0400
TZNAME:EDT
DTSTART:20210314T070000
END:DAYLIGHT
BEGIN:STANDARD
TZOFFSETFROM:-0400
TZOFFSETTO:-0500
TZNAME:EST
DTSTART:20211107T060000
END:STANDARD
BEGIN:DAYLIGHT
TZOFFSETFROM:-0500
TZOFFSETTO:-0400
TZNAME:EDT
DTSTART:20220313T070000
END:DAYLIGHT
BEGIN:STANDARD
TZOFFSETFROM:-0400
TZOFFSETTO:-0500
TZNAME:EST
DTSTART:20221106T060000
END:STANDARD
BEGIN:DAYLIGHT
TZOFFSETFROM:-0500
TZOFFSETTO:-0400
TZNAME:EDT
DTSTART:20230312T070000
END:DAYLIGHT
BEGIN:STANDARD
TZOFFSETFROM:-0400
TZOFFSETTO:-0500
TZNAME:EST
DTSTART:20231105T060000
END:STANDARD
END:VTIMEZONE
BEGIN:VEVENT
DTSTART;TZID=America/New_York:20220611T080000
DTEND;TZID=America/New_York:20220611T090000
DTSTAMP:20260425T200718
CREATED:20211202T224148Z
LAST-MODIFIED:20211202T224148Z
UID:10005142-1654934400-1654938000@epworth.faith
SUMMARY:Men's Breakfast
DESCRIPTION:Epworth Men’s Group meets the second Saturday of each month (our December meeting will be the 11th) at 8 am. Currently we are using Bob Evans as our meeting place because Sammy’s Kitchen in downtown Rehoboth had to close until next spring due to lack of workers. We intend to go back to Sammy’s when they reopen\, but right now we are unsure when that will be. Our meeting time is 8:00 am and lasts for about an hour – sometimes slightly longer. \nThe invitation for you to join us for breakfast is always open. We would enjoy your company and will look forward to sharing breakfast and getting to know each other.
URL:https://epworth.faith/event/mens-breakfast/2022-06-11/
LOCATION:Bob Evans\, 18492 Coastal Hwy\, Lewes\, Delaware\, 19958
CATEGORIES:Church,Groups
ORGANIZER;CN="Fred Smith":MAILTO:fasffreddy@comcast.net
END:VEVENT
BEGIN:VEVENT
DTSTART;TZID=America/New_York:20220514T080000
DTEND;TZID=America/New_York:20220514T090000
DTSTAMP:20260425T200718
CREATED:20211202T224148Z
LAST-MODIFIED:20211202T224148Z
UID:10005141-1652515200-1652518800@epworth.faith
SUMMARY:Men's Breakfast
DESCRIPTION:Epworth Men’s Group meets the second Saturday of each month (our December meeting will be the 11th) at 8 am. Currently we are using Bob Evans as our meeting place because Sammy’s Kitchen in downtown Rehoboth had to close until next spring due to lack of workers. We intend to go back to Sammy’s when they reopen\, but right now we are unsure when that will be. Our meeting time is 8:00 am and lasts for about an hour – sometimes slightly longer. \nThe invitation for you to join us for breakfast is always open. We would enjoy your company and will look forward to sharing breakfast and getting to know each other.
URL:https://epworth.faith/event/mens-breakfast/2022-05-14/
LOCATION:Bob Evans\, 18492 Coastal Hwy\, Lewes\, Delaware\, 19958
CATEGORIES:Church,Groups
ORGANIZER;CN="Fred Smith":MAILTO:fasffreddy@comcast.net
END:VEVENT
BEGIN:VEVENT
DTSTART;TZID=America/New_York:20220409T080000
DTEND;TZID=America/New_York:20220409T090000
DTSTAMP:20260425T200718
CREATED:20211202T224148Z
LAST-MODIFIED:20211202T224148Z
UID:10005140-1649491200-1649494800@epworth.faith
SUMMARY:Men's Breakfast
DESCRIPTION:Epworth Men’s Group meets the second Saturday of each month (our December meeting will be the 11th) at 8 am. Currently we are using Bob Evans as our meeting place because Sammy’s Kitchen in downtown Rehoboth had to close until next spring due to lack of workers. We intend to go back to Sammy’s when they reopen\, but right now we are unsure when that will be. Our meeting time is 8:00 am and lasts for about an hour – sometimes slightly longer. \nThe invitation for you to join us for breakfast is always open. We would enjoy your company and will look forward to sharing breakfast and getting to know each other.
URL:https://epworth.faith/event/mens-breakfast/2022-04-09/
LOCATION:Bob Evans\, 18492 Coastal Hwy\, Lewes\, Delaware\, 19958
CATEGORIES:Church,Groups
ORGANIZER;CN="Fred Smith":MAILTO:fasffreddy@comcast.net
END:VEVENT
BEGIN:VEVENT
DTSTART;TZID=America/New_York:20220312T080000
DTEND;TZID=America/New_York:20220312T090000
DTSTAMP:20260425T200718
CREATED:20211202T224148Z
LAST-MODIFIED:20211202T224148Z
UID:10005139-1647072000-1647075600@epworth.faith
SUMMARY:Men's Breakfast
DESCRIPTION:Epworth Men’s Group meets the second Saturday of each month (our December meeting will be the 11th) at 8 am. Currently we are using Bob Evans as our meeting place because Sammy’s Kitchen in downtown Rehoboth had to close until next spring due to lack of workers. We intend to go back to Sammy’s when they reopen\, but right now we are unsure when that will be. Our meeting time is 8:00 am and lasts for about an hour – sometimes slightly longer. \nThe invitation for you to join us for breakfast is always open. We would enjoy your company and will look forward to sharing breakfast and getting to know each other.
URL:https://epworth.faith/event/mens-breakfast/2022-03-12/
LOCATION:Bob Evans\, 18492 Coastal Hwy\, Lewes\, Delaware\, 19958
CATEGORIES:Church,Groups
ORGANIZER;CN="Fred Smith":MAILTO:fasffreddy@comcast.net
END:VEVENT
BEGIN:VEVENT
DTSTART;TZID=America/New_York:20220212T080000
DTEND;TZID=America/New_York:20220212T090000
DTSTAMP:20260425T200718
CREATED:20211202T224148Z
LAST-MODIFIED:20211202T224148Z
UID:10005138-1644652800-1644656400@epworth.faith
SUMMARY:Men's Breakfast
DESCRIPTION:Epworth Men’s Group meets the second Saturday of each month (our December meeting will be the 11th) at 8 am. Currently we are using Bob Evans as our meeting place because Sammy’s Kitchen in downtown Rehoboth had to close until next spring due to lack of workers. We intend to go back to Sammy’s when they reopen\, but right now we are unsure when that will be. Our meeting time is 8:00 am and lasts for about an hour – sometimes slightly longer. \nThe invitation for you to join us for breakfast is always open. We would enjoy your company and will look forward to sharing breakfast and getting to know each other.
URL:https://epworth.faith/event/mens-breakfast/2022-02-12/
LOCATION:Bob Evans\, 18492 Coastal Hwy\, Lewes\, Delaware\, 19958
CATEGORIES:Church,Groups
ORGANIZER;CN="Fred Smith":MAILTO:fasffreddy@comcast.net
END:VEVENT
BEGIN:VEVENT
DTSTART;TZID=America/New_York:20220108T080000
DTEND;TZID=America/New_York:20220108T090000
DTSTAMP:20260425T200718
CREATED:20211202T224148Z
LAST-MODIFIED:20211202T224148Z
UID:10005137-1641628800-1641632400@epworth.faith
SUMMARY:Men's Breakfast
DESCRIPTION:Epworth Men’s Group meets the second Saturday of each month (our December meeting will be the 11th) at 8 am. Currently we are using Bob Evans as our meeting place because Sammy’s Kitchen in downtown Rehoboth had to close until next spring due to lack of workers. We intend to go back to Sammy’s when they reopen\, but right now we are unsure when that will be. Our meeting time is 8:00 am and lasts for about an hour – sometimes slightly longer. \nThe invitation for you to join us for breakfast is always open. We would enjoy your company and will look forward to sharing breakfast and getting to know each other.
URL:https://epworth.faith/event/mens-breakfast/2022-01-08/
LOCATION:Bob Evans\, 18492 Coastal Hwy\, Lewes\, Delaware\, 19958
CATEGORIES:Church,Groups
ORGANIZER;CN="Fred Smith":MAILTO:fasffreddy@comcast.net
END:VEVENT
BEGIN:VEVENT
DTSTART;TZID=America/New_York:20211211T080000
DTEND;TZID=America/New_York:20211211T090000
DTSTAMP:20260425T200718
CREATED:20211202T224148Z
LAST-MODIFIED:20211202T224148Z
UID:10005136-1639209600-1639213200@epworth.faith
SUMMARY:Men's Breakfast
DESCRIPTION:Epworth Men’s Group meets the second Saturday of each month (our December meeting will be the 11th) at 8 am. Currently we are using Bob Evans as our meeting place because Sammy’s Kitchen in downtown Rehoboth had to close until next spring due to lack of workers. We intend to go back to Sammy’s when they reopen\, but right now we are unsure when that will be. Our meeting time is 8:00 am and lasts for about an hour – sometimes slightly longer. \nThe invitation for you to join us for breakfast is always open. We would enjoy your company and will look forward to sharing breakfast and getting to know each other.
URL:https://epworth.faith/event/mens-breakfast/2021-12-11/
LOCATION:Bob Evans\, 18492 Coastal Hwy\, Lewes\, Delaware\, 19958
CATEGORIES:Church,Groups
ORGANIZER;CN="Fred Smith":MAILTO:fasffreddy@comcast.net
END:VEVENT
END:VCALENDAR