BEGIN:VCALENDAR
VERSION:2.0
PRODID:-//Epworth UMC - ECPv6.15.20//NONSGML v1.0//EN
CALSCALE:GREGORIAN
METHOD:PUBLISH
X-ORIGINAL-URL:https://epworth.faith
X-WR-CALDESC:Events for Epworth UMC
REFRESH-INTERVAL;VALUE=DURATION:PT1H
X-Robots-Tag:noindex
X-PUBLISHED-TTL:PT1H
BEGIN:VTIMEZONE
TZID:America/New_York
BEGIN:DAYLIGHT
TZOFFSETFROM:-0500
TZOFFSETTO:-0400
TZNAME:EDT
DTSTART:20250309T070000
END:DAYLIGHT
BEGIN:STANDARD
TZOFFSETFROM:-0400
TZOFFSETTO:-0500
TZNAME:EST
DTSTART:20251102T060000
END:STANDARD
BEGIN:DAYLIGHT
TZOFFSETFROM:-0500
TZOFFSETTO:-0400
TZNAME:EDT
DTSTART:20260308T070000
END:DAYLIGHT
BEGIN:STANDARD
TZOFFSETFROM:-0400
TZOFFSETTO:-0500
TZNAME:EST
DTSTART:20261101T060000
END:STANDARD
BEGIN:DAYLIGHT
TZOFFSETFROM:-0500
TZOFFSETTO:-0400
TZNAME:EDT
DTSTART:20270314T070000
END:DAYLIGHT
BEGIN:STANDARD
TZOFFSETFROM:-0400
TZOFFSETTO:-0500
TZNAME:EST
DTSTART:20271107T060000
END:STANDARD
END:VTIMEZONE
BEGIN:VEVENT
DTSTART;TZID=America/New_York:20260622T173000
DTEND;TZID=America/New_York:20260622T203000
DTSTAMP:20260423T152506
CREATED:20260312T181048Z
LAST-MODIFIED:20260312T181050Z
UID:10022149-1782149400-1782160200@epworth.faith
SUMMARY:Vacation Bible School (Music Room)
DESCRIPTION:
URL:https://epworth.faith/event/vacation-bible-school-music-room/2026-06-22/
LOCATION:Epworth United Methodist Church\, 19285 Holland Glade Road\, Rehoboth Beach\, DE\, 19971\, United States
CATEGORIES:Church,Neighborhood/Community Groups,Youth
ORGANIZER;CN="Gwen Osborne":MAILTO:gosborne@epworth.faith
END:VEVENT
BEGIN:VEVENT
DTSTART;TZID=America/New_York:20260623T173000
DTEND;TZID=America/New_York:20260623T203000
DTSTAMP:20260423T152506
CREATED:20260312T181048Z
LAST-MODIFIED:20260312T181050Z
UID:10022150-1782235800-1782246600@epworth.faith
SUMMARY:Vacation Bible School (Music Room)
DESCRIPTION:
URL:https://epworth.faith/event/vacation-bible-school-music-room/2026-06-23/
LOCATION:Epworth United Methodist Church\, 19285 Holland Glade Road\, Rehoboth Beach\, DE\, 19971\, United States
CATEGORIES:Church,Neighborhood/Community Groups,Youth
ORGANIZER;CN="Gwen Osborne":MAILTO:gosborne@epworth.faith
END:VEVENT
BEGIN:VEVENT
DTSTART;TZID=America/New_York:20260624T173000
DTEND;TZID=America/New_York:20260624T203000
DTSTAMP:20260423T152506
CREATED:20260312T181048Z
LAST-MODIFIED:20260312T181050Z
UID:10022151-1782322200-1782333000@epworth.faith
SUMMARY:Vacation Bible School (Music Room)
DESCRIPTION:
URL:https://epworth.faith/event/vacation-bible-school-music-room/2026-06-24/
LOCATION:Epworth United Methodist Church\, 19285 Holland Glade Road\, Rehoboth Beach\, DE\, 19971\, United States
CATEGORIES:Church,Neighborhood/Community Groups,Youth
ORGANIZER;CN="Gwen Osborne":MAILTO:gosborne@epworth.faith
END:VEVENT
BEGIN:VEVENT
DTSTART;TZID=America/New_York:20260625T173000
DTEND;TZID=America/New_York:20260625T203000
DTSTAMP:20260423T152506
CREATED:20260312T181048Z
LAST-MODIFIED:20260312T181050Z
UID:10022152-1782408600-1782419400@epworth.faith
SUMMARY:Vacation Bible School (Music Room)
DESCRIPTION:
URL:https://epworth.faith/event/vacation-bible-school-music-room/2026-06-25/
LOCATION:Epworth United Methodist Church\, 19285 Holland Glade Road\, Rehoboth Beach\, DE\, 19971\, United States
CATEGORIES:Church,Neighborhood/Community Groups,Youth
ORGANIZER;CN="Gwen Osborne":MAILTO:gosborne@epworth.faith
END:VEVENT
BEGIN:VEVENT
DTSTART;TZID=America/New_York:20260626T173000
DTEND;TZID=America/New_York:20260626T203000
DTSTAMP:20260423T152506
CREATED:20260312T181048Z
LAST-MODIFIED:20260312T181050Z
UID:10022153-1782495000-1782505800@epworth.faith
SUMMARY:Vacation Bible School (Music Room)
DESCRIPTION:
URL:https://epworth.faith/event/vacation-bible-school-music-room/2026-06-26/
LOCATION:Epworth United Methodist Church\, 19285 Holland Glade Road\, Rehoboth Beach\, DE\, 19971\, United States
CATEGORIES:Church,Neighborhood/Community Groups,Youth
ORGANIZER;CN="Gwen Osborne":MAILTO:gosborne@epworth.faith
END:VEVENT
END:VCALENDAR