BEGIN:VCALENDAR
VERSION:2.0
PRODID:-//Epworth UMC - ECPv6.15.20//NONSGML v1.0//EN
CALSCALE:GREGORIAN
METHOD:PUBLISH
X-ORIGINAL-URL:https://epworth.faith
X-WR-CALDESC:Events for Epworth UMC
REFRESH-INTERVAL;VALUE=DURATION:PT1H
X-Robots-Tag:noindex
X-PUBLISHED-TTL:PT1H
BEGIN:VTIMEZONE
TZID:America/New_York
BEGIN:DAYLIGHT
TZOFFSETFROM:-0500
TZOFFSETTO:-0400
TZNAME:EDT
DTSTART:20210314T070000
END:DAYLIGHT
BEGIN:STANDARD
TZOFFSETFROM:-0400
TZOFFSETTO:-0500
TZNAME:EST
DTSTART:20211107T060000
END:STANDARD
BEGIN:DAYLIGHT
TZOFFSETFROM:-0500
TZOFFSETTO:-0400
TZNAME:EDT
DTSTART:20220313T070000
END:DAYLIGHT
BEGIN:STANDARD
TZOFFSETFROM:-0400
TZOFFSETTO:-0500
TZNAME:EST
DTSTART:20221106T060000
END:STANDARD
BEGIN:DAYLIGHT
TZOFFSETFROM:-0500
TZOFFSETTO:-0400
TZNAME:EDT
DTSTART:20230312T070000
END:DAYLIGHT
BEGIN:STANDARD
TZOFFSETFROM:-0400
TZOFFSETTO:-0500
TZNAME:EST
DTSTART:20231105T060000
END:STANDARD
BEGIN:DAYLIGHT
TZOFFSETFROM:-0500
TZOFFSETTO:-0400
TZNAME:EDT
DTSTART:20240310T070000
END:DAYLIGHT
BEGIN:STANDARD
TZOFFSETFROM:-0400
TZOFFSETTO:-0500
TZNAME:EST
DTSTART:20241103T060000
END:STANDARD
BEGIN:DAYLIGHT
TZOFFSETFROM:-0500
TZOFFSETTO:-0400
TZNAME:EDT
DTSTART:20250309T070000
END:DAYLIGHT
BEGIN:STANDARD
TZOFFSETFROM:-0400
TZOFFSETTO:-0500
TZNAME:EST
DTSTART:20251102T060000
END:STANDARD
BEGIN:DAYLIGHT
TZOFFSETFROM:-0500
TZOFFSETTO:-0400
TZNAME:EDT
DTSTART:20260308T070000
END:DAYLIGHT
BEGIN:STANDARD
TZOFFSETFROM:-0400
TZOFFSETTO:-0500
TZNAME:EST
DTSTART:20261101T060000
END:STANDARD
BEGIN:DAYLIGHT
TZOFFSETFROM:-0500
TZOFFSETTO:-0400
TZNAME:EDT
DTSTART:20270314T070000
END:DAYLIGHT
BEGIN:STANDARD
TZOFFSETFROM:-0400
TZOFFSETTO:-0500
TZNAME:EST
DTSTART:20271107T060000
END:STANDARD
END:VTIMEZONE
BEGIN:VEVENT
DTSTART;TZID=America/New_York:20260309T173000
DTEND;TZID=America/New_York:20260309T190000
DTSTAMP:20260423T171317
CREATED:20260112T185412Z
LAST-MODIFIED:20260112T185412Z
UID:10020989-1773077400-1773082800@epworth.faith
SUMMARY:KIVA Group Meeting (Youth Room)
DESCRIPTION:
URL:https://epworth.faith/event/kiva-group-meeting-youth-room-2/
LOCATION:Epworth United Methodist Church\, 19285 Holland Glade Road\, Rehoboth Beach\, DE\, 19971\, United States
CATEGORIES:Church,Groups
ORGANIZER;CN="Jackie Shockley":MAILTO:jacshock@aol.com
END:VEVENT
BEGIN:VEVENT
DTSTART;TZID=America/New_York:20260112T173000
DTEND;TZID=America/New_York:20260112T190000
DTSTAMP:20260423T171317
CREATED:20260112T145506Z
LAST-MODIFIED:20260112T145506Z
UID:10020973-1768239000-1768244400@epworth.faith
SUMMARY:KIVA Group Meeting (Youth Room)
DESCRIPTION:
URL:https://epworth.faith/event/kiva-group-meeting-youth-room/
LOCATION:Epworth United Methodist Church\, 19285 Holland Glade Road\, Rehoboth Beach\, DE\, 19971\, United States
CATEGORIES:Church,Groups
ORGANIZER;CN="Jackie Shockley":MAILTO:jacshock@aol.com
END:VEVENT
BEGIN:VEVENT
DTSTART;TZID=America/New_York:20251110T170000
DTEND;TZID=America/New_York:20251110T190000
DTSTAMP:20260423T171317
CREATED:20250109T155956Z
LAST-MODIFIED:20250109T155956Z
UID:10015331-1762794000-1762801200@epworth.faith
SUMMARY:Kiva Club Meeting (Youth Room)
DESCRIPTION:
URL:https://epworth.faith/event/kiva-club-meeting-youth-room-6/
LOCATION:Epworth United Methodist Church\, 19285 Holland Glade Road\, Rehoboth Beach\, DE\, 19971\, United States
CATEGORIES:Church,Groups
ORGANIZER;CN="Jackie Shockley":MAILTO:jacshock@aol.com
END:VEVENT
BEGIN:VEVENT
DTSTART;TZID=America/New_York:20250915T170000
DTEND;TZID=America/New_York:20250915T190000
DTSTAMP:20260423T171317
CREATED:20250109T155917Z
LAST-MODIFIED:20250109T155917Z
UID:10015330-1757955600-1757962800@epworth.faith
SUMMARY:Kiva Club Meeting (Youth Room)
DESCRIPTION:
URL:https://epworth.faith/event/kiva-club-meeting-youth-room-5/
LOCATION:Epworth United Methodist Church\, 19285 Holland Glade Road\, Rehoboth Beach\, DE\, 19971\, United States
CATEGORIES:Church,Groups
ORGANIZER;CN="Jackie Shockley":MAILTO:jacshock@aol.com
END:VEVENT
BEGIN:VEVENT
DTSTART;TZID=America/New_York:20250714T170000
DTEND;TZID=America/New_York:20250714T190000
DTSTAMP:20260423T171317
CREATED:20250109T155825Z
LAST-MODIFIED:20250109T155825Z
UID:10015329-1752512400-1752519600@epworth.faith
SUMMARY:Kiva Club Meeting (Youth Room)
DESCRIPTION:
URL:https://epworth.faith/event/kiva-club-meeting-youth-room-4/
LOCATION:Epworth United Methodist Church\, 19285 Holland Glade Road\, Rehoboth Beach\, DE\, 19971\, United States
CATEGORIES:Church,Groups
ORGANIZER;CN="Jackie Shockley":MAILTO:jacshock@aol.com
END:VEVENT
BEGIN:VEVENT
DTSTART;TZID=America/New_York:20250512T170000
DTEND;TZID=America/New_York:20250512T190000
DTSTAMP:20260423T171317
CREATED:20250109T155747Z
LAST-MODIFIED:20250109T155747Z
UID:10015328-1747069200-1747076400@epworth.faith
SUMMARY:Kiva Club Meeting (Youth Room)
DESCRIPTION:
URL:https://epworth.faith/event/kiva-club-meeting-youth-room-3/
LOCATION:Epworth United Methodist Church\, 19285 Holland Glade Road\, Rehoboth Beach\, DE\, 19971\, United States
CATEGORIES:Church,Groups
ORGANIZER;CN="Jackie Shockley":MAILTO:jacshock@aol.com
END:VEVENT
BEGIN:VEVENT
DTSTART;TZID=America/New_York:20250310T170000
DTEND;TZID=America/New_York:20250310T190000
DTSTAMP:20260423T171317
CREATED:20250109T155708Z
LAST-MODIFIED:20250109T155708Z
UID:10015327-1741626000-1741633200@epworth.faith
SUMMARY:Kiva Club Meeting (Youth Room)
DESCRIPTION:
URL:https://epworth.faith/event/kiva-club-meeting-youth-room-2/
LOCATION:Epworth United Methodist Church\, 19285 Holland Glade Road\, Rehoboth Beach\, DE\, 19971\, United States
CATEGORIES:Church,Groups
ORGANIZER;CN="Jackie Shockley":MAILTO:jacshock@aol.com
END:VEVENT
BEGIN:VEVENT
DTSTART;TZID=America/New_York:20250113T170000
DTEND;TZID=America/New_York:20250113T190000
DTSTAMP:20260423T171317
CREATED:20250109T155632Z
LAST-MODIFIED:20250109T155632Z
UID:10015326-1736787600-1736794800@epworth.faith
SUMMARY:Kiva Club Meeting (Youth Room)
DESCRIPTION:
URL:https://epworth.faith/event/kiva-club-meeting-youth-room/
LOCATION:Epworth United Methodist Church\, 19285 Holland Glade Road\, Rehoboth Beach\, DE\, 19971\, United States
CATEGORIES:Church,Groups
ORGANIZER;CN="Jackie Shockley":MAILTO:jacshock@aol.com
END:VEVENT
BEGIN:VEVENT
DTSTART;TZID=America/New_York:20241111T170000
DTEND;TZID=America/New_York:20241111T193000
DTSTAMP:20260423T171317
CREATED:20240610T131354Z
LAST-MODIFIED:20241016T165502Z
UID:10013566-1731344400-1731353400@epworth.faith
SUMMARY:Kiva Club (Youth Room)
DESCRIPTION:
URL:https://epworth.faith/event/kiva-club-youth-room-4/
LOCATION:Epworth United Methodist Church\, 19285 Holland Glade Road\, Rehoboth Beach\, DE\, 19971\, United States
CATEGORIES:Church,Groups
ORGANIZER;CN="Jackie Shockley":MAILTO:jacshock@aol.com
END:VEVENT
BEGIN:VEVENT
DTSTART;TZID=America/New_York:20241014T170000
DTEND;TZID=America/New_York:20241014T190000
DTSTAMP:20260423T171317
CREATED:20240923T183424Z
LAST-MODIFIED:20240923T183424Z
UID:10014640-1728925200-1728932400@epworth.faith
SUMMARY:Kiva Meeting (Youth Room)
DESCRIPTION:
URL:https://epworth.faith/event/kiva-meeting-youth-room/
LOCATION:Epworth United Methodist Church\, 19285 Holland Glade Road\, Rehoboth Beach\, DE\, 19971\, United States
CATEGORIES:Church,Groups
ORGANIZER;CN="Jackie Shockley":MAILTO:jacshock@aol.com
END:VEVENT
BEGIN:VEVENT
DTSTART;TZID=America/New_York:20240909T170000
DTEND;TZID=America/New_York:20240909T190000
DTSTAMP:20260423T171317
CREATED:20240610T131329Z
LAST-MODIFIED:20240610T131329Z
UID:10013565-1725901200-1725908400@epworth.faith
SUMMARY:Kiva Club (Youth Room)
DESCRIPTION:
URL:https://epworth.faith/event/kiva-club-youth-room-3/
LOCATION:Epworth United Methodist Church\, 19285 Holland Glade Road\, Rehoboth Beach\, DE\, 19971\, United States
CATEGORIES:Church,Groups
ORGANIZER;CN="Jackie Shockley":MAILTO:jacshock@aol.com
END:VEVENT
BEGIN:VEVENT
DTSTART;TZID=America/New_York:20240708T170000
DTEND;TZID=America/New_York:20240708T190000
DTSTAMP:20260423T171317
CREATED:20240319T140719Z
LAST-MODIFIED:20240610T122951Z
UID:10012439-1720458000-1720465200@epworth.faith
SUMMARY:Kiva Club (Youth Room)
DESCRIPTION:
URL:https://epworth.faith/event/kiva-club-youth-room-2/
LOCATION:Epworth United Methodist Church\, 19285 Holland Glade Road\, Rehoboth Beach\, DE\, 19971\, United States
CATEGORIES:Church,Groups
ORGANIZER;CN="Jackie Shockley":MAILTO:jacshock@aol.com
END:VEVENT
BEGIN:VEVENT
DTSTART;TZID=America/New_York:20240610T173000
DTEND;TZID=America/New_York:20240610T190000
DTSTAMP:20260423T171317
CREATED:20230621T150539Z
LAST-MODIFIED:20230621T150539Z
UID:10008733-1718040600-1718046000@epworth.faith
SUMMARY:KIVA (Admin. Room)
DESCRIPTION:
URL:https://epworth.faith/event/kiva-admin-room/2024-06-10/
LOCATION:Epworth United Methodist Church\, 19285 Holland Glade Road\, Rehoboth Beach\, DE\, 19971\, United States
CATEGORIES:Groups
ORGANIZER;CN="Jackie Shockley":MAILTO:jacshock@aol.com
END:VEVENT
BEGIN:VEVENT
DTSTART;TZID=America/New_York:20240506T090000
DTEND;TZID=America/New_York:20240506T160000
DTSTAMP:20260423T171317
CREATED:20240319T140652Z
LAST-MODIFIED:20240319T140652Z
UID:10012438-1714986000-1715011200@epworth.faith
SUMMARY:Kiva Club (Youth Room)
DESCRIPTION:
URL:https://epworth.faith/event/kiva-club-youth-room/
LOCATION:Epworth United Methodist Church\, 19285 Holland Glade Road\, Rehoboth Beach\, DE\, 19971\, United States
CATEGORIES:Church,Groups
ORGANIZER;CN="Jackie Shockley":MAILTO:jacshock@aol.com
END:VEVENT
BEGIN:VEVENT
DTSTART;TZID=America/New_York:20240408T173000
DTEND;TZID=America/New_York:20240408T190000
DTSTAMP:20260423T171317
CREATED:20230621T150539Z
LAST-MODIFIED:20230621T150539Z
UID:10008732-1712597400-1712602800@epworth.faith
SUMMARY:KIVA (Admin. Room)
DESCRIPTION:
URL:https://epworth.faith/event/kiva-admin-room/2024-04-08/
LOCATION:Epworth United Methodist Church\, 19285 Holland Glade Road\, Rehoboth Beach\, DE\, 19971\, United States
CATEGORIES:Groups
ORGANIZER;CN="Jackie Shockley":MAILTO:jacshock@aol.com
END:VEVENT
BEGIN:VEVENT
DTSTART;TZID=America/New_York:20240311T173000
DTEND;TZID=America/New_York:20240311T193000
DTSTAMP:20260423T171317
CREATED:20240116T164956Z
LAST-MODIFIED:20240116T164956Z
UID:10012143-1710178200-1710185400@epworth.faith
SUMMARY:KIVA (Youth Room)
DESCRIPTION:
URL:https://epworth.faith/event/kiva-youth-room-2/
LOCATION:Epworth United Methodist Church\, 19285 Holland Glade Road\, Rehoboth Beach\, DE\, 19971\, United States
CATEGORIES:Church,Groups
ORGANIZER;CN="Jackie Shockley":MAILTO:jacshock@aol.com
END:VEVENT
BEGIN:VEVENT
DTSTART;TZID=America/New_York:20240212T173000
DTEND;TZID=America/New_York:20240212T190000
DTSTAMP:20260423T171317
CREATED:20230621T150539Z
LAST-MODIFIED:20230621T150539Z
UID:10008731-1707759000-1707764400@epworth.faith
SUMMARY:KIVA (Admin. Room)
DESCRIPTION:
URL:https://epworth.faith/event/kiva-admin-room/2024-02-12/
LOCATION:Epworth United Methodist Church\, 19285 Holland Glade Road\, Rehoboth Beach\, DE\, 19971\, United States
CATEGORIES:Groups
ORGANIZER;CN="Jackie Shockley":MAILTO:jacshock@aol.com
END:VEVENT
BEGIN:VEVENT
DTSTART;TZID=America/New_York:20240108T173000
DTEND;TZID=America/New_York:20240108T190000
DTSTAMP:20260423T171317
CREATED:20240102T160513Z
LAST-MODIFIED:20240102T160513Z
UID:10012099-1704735000-1704740400@epworth.faith
SUMMARY:KIVA (Youth Room)
DESCRIPTION:
URL:https://epworth.faith/event/kiva-youth-room/
LOCATION:Epworth United Methodist Church\, 19285 Holland Glade Road\, Rehoboth Beach\, DE\, 19971\, United States
CATEGORIES:Church,Groups
ORGANIZER;CN="Jackie Shockley":MAILTO:jacshock@aol.com
END:VEVENT
BEGIN:VEVENT
DTSTART;TZID=America/New_York:20231211T173000
DTEND;TZID=America/New_York:20231211T190000
DTSTAMP:20260423T171317
CREATED:20230621T150539Z
LAST-MODIFIED:20230621T150539Z
UID:10008730-1702315800-1702321200@epworth.faith
SUMMARY:KIVA (Admin. Room)
DESCRIPTION:
URL:https://epworth.faith/event/kiva-admin-room/2023-12-11/
LOCATION:Epworth United Methodist Church\, 19285 Holland Glade Road\, Rehoboth Beach\, DE\, 19971\, United States
CATEGORIES:Groups
ORGANIZER;CN="Jackie Shockley":MAILTO:jacshock@aol.com
END:VEVENT
BEGIN:VEVENT
DTSTART;TZID=America/New_York:20231009T173000
DTEND;TZID=America/New_York:20231009T190000
DTSTAMP:20260423T171318
CREATED:20230621T150635Z
LAST-MODIFIED:20230621T150635Z
UID:10008734-1696872600-1696878000@epworth.faith
SUMMARY:KIVA (Music Wing)
DESCRIPTION:
URL:https://epworth.faith/event/kiva-music-wing/
LOCATION:Epworth United Methodist Church\, 19285 Holland Glade Road\, Rehoboth Beach\, DE\, 19971\, United States
CATEGORIES:Groups
ORGANIZER;CN="Jackie Shockley":MAILTO:jacshock@aol.com
END:VEVENT
BEGIN:VEVENT
DTSTART;TZID=America/New_York:20230814T173000
DTEND;TZID=America/New_York:20230814T190000
DTSTAMP:20260423T171318
CREATED:20230621T150539Z
LAST-MODIFIED:20230621T150539Z
UID:10008729-1692034200-1692039600@epworth.faith
SUMMARY:KIVA (Admin. Room)
DESCRIPTION:
URL:https://epworth.faith/event/kiva-admin-room/2023-08-14/
LOCATION:Epworth United Methodist Church\, 19285 Holland Glade Road\, Rehoboth Beach\, DE\, 19971\, United States
CATEGORIES:Groups
ORGANIZER;CN="Jackie Shockley":MAILTO:jacshock@aol.com
END:VEVENT
BEGIN:VEVENT
DTSTART;TZID=America/New_York:20230612T180000
DTEND;TZID=America/New_York:20230612T200000
DTSTAMP:20260423T171318
CREATED:20220303T153721Z
LAST-MODIFIED:20220817T195627Z
UID:10005386-1686592800-1686600000@epworth.faith
SUMMARY:KIVA (Administrative Room)
DESCRIPTION:
URL:https://epworth.faith/event/kiva-branford-lounge-2023-06-12/
LOCATION:Epworth United Methodist Church\, 19285 Holland Glade Road\, Rehoboth Beach\, DE\, 19971\, United States
CATEGORIES:Groups
ORGANIZER;CN="Jackie Shockley":MAILTO:jacshock@aol.com
END:VEVENT
BEGIN:VEVENT
DTSTART;TZID=America/New_York:20230410T180000
DTEND;TZID=America/New_York:20230410T200000
DTSTAMP:20260423T171318
CREATED:20220303T153721Z
LAST-MODIFIED:20220519T140415Z
UID:10006173-1681149600-1681156800@epworth.faith
SUMMARY:KIVA (Music Wing)
DESCRIPTION:
URL:https://epworth.faith/event/kiva-branford-lounge/2023-04-10/
LOCATION:Epworth United Methodist Church\, 19285 Holland Glade Road\, Rehoboth Beach\, DE\, 19971\, United States
CATEGORIES:Groups
ORGANIZER;CN="Jackie Shockley":MAILTO:jacshock@aol.com
END:VEVENT
BEGIN:VEVENT
DTSTART;TZID=America/New_York:20230213T180000
DTEND;TZID=America/New_York:20230213T200000
DTSTAMP:20260423T171318
CREATED:20220303T153721Z
LAST-MODIFIED:20220519T140415Z
UID:10006172-1676311200-1676318400@epworth.faith
SUMMARY:KIVA (Music Wing)
DESCRIPTION:
URL:https://epworth.faith/event/kiva-branford-lounge/2023-02-13/
LOCATION:Epworth United Methodist Church\, 19285 Holland Glade Road\, Rehoboth Beach\, DE\, 19971\, United States
CATEGORIES:Groups
ORGANIZER;CN="Jackie Shockley":MAILTO:jacshock@aol.com
END:VEVENT
BEGIN:VEVENT
DTSTART;TZID=America/New_York:20221212T180000
DTEND;TZID=America/New_York:20221212T200000
DTSTAMP:20260423T171318
CREATED:20220303T153721Z
LAST-MODIFIED:20220519T140415Z
UID:10006171-1670868000-1670875200@epworth.faith
SUMMARY:KIVA (Music Wing)
DESCRIPTION:
URL:https://epworth.faith/event/kiva-branford-lounge/2022-12-12/
LOCATION:Epworth United Methodist Church\, 19285 Holland Glade Road\, Rehoboth Beach\, DE\, 19971\, United States
CATEGORIES:Groups
ORGANIZER;CN="Jackie Shockley":MAILTO:jacshock@aol.com
END:VEVENT
BEGIN:VEVENT
DTSTART;TZID=America/New_York:20221010T180000
DTEND;TZID=America/New_York:20221010T200000
DTSTAMP:20260423T171318
CREATED:20220303T153721Z
LAST-MODIFIED:20220519T140415Z
UID:10006170-1665424800-1665432000@epworth.faith
SUMMARY:KIVA (Music Wing)
DESCRIPTION:
URL:https://epworth.faith/event/kiva-branford-lounge/2022-10-10/
LOCATION:Epworth United Methodist Church\, 19285 Holland Glade Road\, Rehoboth Beach\, DE\, 19971\, United States
CATEGORIES:Groups
ORGANIZER;CN="Jackie Shockley":MAILTO:jacshock@aol.com
END:VEVENT
BEGIN:VEVENT
DTSTART;TZID=America/New_York:20220808T180000
DTEND;TZID=America/New_York:20220808T200000
DTSTAMP:20260423T171318
CREATED:20220303T153721Z
LAST-MODIFIED:20220519T140415Z
UID:10006169-1659981600-1659988800@epworth.faith
SUMMARY:KIVA (Music Wing)
DESCRIPTION:
URL:https://epworth.faith/event/kiva-branford-lounge/2022-08-08/
LOCATION:Epworth United Methodist Church\, 19285 Holland Glade Road\, Rehoboth Beach\, DE\, 19971\, United States
CATEGORIES:Groups
ORGANIZER;CN="Jackie Shockley":MAILTO:jacshock@aol.com
END:VEVENT
BEGIN:VEVENT
DTSTART;TZID=America/New_York:20220613T180000
DTEND;TZID=America/New_York:20220613T200000
DTSTAMP:20260423T171318
CREATED:20220303T153721Z
LAST-MODIFIED:20220519T140415Z
UID:10006168-1655143200-1655150400@epworth.faith
SUMMARY:KIVA (Music Wing)
DESCRIPTION:
URL:https://epworth.faith/event/kiva-branford-lounge/2022-06-13/
LOCATION:Epworth United Methodist Church\, 19285 Holland Glade Road\, Rehoboth Beach\, DE\, 19971\, United States
CATEGORIES:Groups
ORGANIZER;CN="Jackie Shockley":MAILTO:jacshock@aol.com
END:VEVENT
BEGIN:VEVENT
DTSTART;TZID=America/New_York:20220413T173000
DTEND;TZID=America/New_York:20220413T190000
DTSTAMP:20260423T171318
CREATED:20220216T161631Z
LAST-MODIFIED:20220216T161631Z
UID:10006133-1649871000-1649876400@epworth.faith
SUMMARY:KIVA (Music Room)
DESCRIPTION:
URL:https://epworth.faith/event/kiva-music-room/
LOCATION:Epworth United Methodist Church\, 19285 Holland Glade Road\, Rehoboth Beach\, DE\, 19971\, United States
CATEGORIES:Groups
ORGANIZER;CN="Jackie Shockley":MAILTO:jacshock@aol.com
END:VEVENT
END:VCALENDAR