BEGIN:VCALENDAR
VERSION:2.0
PRODID:-//Epworth UMC - ECPv6.15.20//NONSGML v1.0//EN
CALSCALE:GREGORIAN
METHOD:PUBLISH
X-WR-CALNAME:Epworth UMC
X-ORIGINAL-URL:https://epworth.faith
X-WR-CALDESC:Events for Epworth UMC
REFRESH-INTERVAL;VALUE=DURATION:PT1H
X-Robots-Tag:noindex
X-PUBLISHED-TTL:PT1H
BEGIN:VTIMEZONE
TZID:America/New_York
BEGIN:DAYLIGHT
TZOFFSETFROM:-0500
TZOFFSETTO:-0400
TZNAME:EDT
DTSTART:20210314T070000
END:DAYLIGHT
BEGIN:STANDARD
TZOFFSETFROM:-0400
TZOFFSETTO:-0500
TZNAME:EST
DTSTART:20211107T060000
END:STANDARD
BEGIN:DAYLIGHT
TZOFFSETFROM:-0500
TZOFFSETTO:-0400
TZNAME:EDT
DTSTART:20220313T070000
END:DAYLIGHT
BEGIN:STANDARD
TZOFFSETFROM:-0400
TZOFFSETTO:-0500
TZNAME:EST
DTSTART:20221106T060000
END:STANDARD
BEGIN:DAYLIGHT
TZOFFSETFROM:-0500
TZOFFSETTO:-0400
TZNAME:EDT
DTSTART:20230312T070000
END:DAYLIGHT
BEGIN:STANDARD
TZOFFSETFROM:-0400
TZOFFSETTO:-0500
TZNAME:EST
DTSTART:20231105T060000
END:STANDARD
END:VTIMEZONE
BEGIN:VEVENT
DTSTART;TZID=America/New_York:20220924T150000
DTEND;TZID=America/New_York:20220924T180000
DTSTAMP:20260425T211527
CREATED:20220901T150210Z
LAST-MODIFIED:20220901T150210Z
UID:10006848-1664031600-1664042400@epworth.faith
SUMMARY:Skate Day (Outside)
DESCRIPTION:
URL:https://epworth.faith/event/skate-day-outside/
LOCATION:Epworth United Methodist Church\, 19285 Holland Glade Road\, Rehoboth Beach\, DE\, 19971\, United States
END:VEVENT
BEGIN:VEVENT
DTSTART;TZID=America/New_York:20220821T160000
DTEND;TZID=America/New_York:20220821T200000
DTSTAMP:20260425T211527
CREATED:20220120T170320Z
LAST-MODIFIED:20220120T170320Z
UID:10005918-1661097600-1661112000@epworth.faith
SUMMARY:Skate Day (Parking Lot)
DESCRIPTION:Our Skate Park is having their Skate Day in the parking lot today.  Their will be music\, games\, skating and lots of fun.  Join us.
URL:https://epworth.faith/event/skate-day-parking-lot/2022-08-21/
LOCATION:Epworth United Methodist Church\, 19285 Holland Glade Road\, Rehoboth Beach\, DE\, 19971\, United States
END:VEVENT
BEGIN:VEVENT
DTSTART;TZID=America/New_York:20220619T160000
DTEND;TZID=America/New_York:20220619T200000
DTSTAMP:20260425T211527
CREATED:20220120T170320Z
LAST-MODIFIED:20220120T170320Z
UID:10005917-1655654400-1655668800@epworth.faith
SUMMARY:Skate Day (Parking Lot)
DESCRIPTION:Our Skate Park is having their Skate Day in the parking lot today.  Their will be music\, games\, skating and lots of fun.  Join us.
URL:https://epworth.faith/event/skate-day-parking-lot/2022-06-19/
LOCATION:Epworth United Methodist Church\, 19285 Holland Glade Road\, Rehoboth Beach\, DE\, 19971\, United States
END:VEVENT
END:VCALENDAR