BEGIN:VCALENDAR
VERSION:2.0
PRODID:-//Epworth UMC - ECPv6.15.20//NONSGML v1.0//EN
CALSCALE:GREGORIAN
METHOD:PUBLISH
X-WR-CALNAME:Epworth UMC
X-ORIGINAL-URL:https://epworth.faith
X-WR-CALDESC:Events for Epworth UMC
REFRESH-INTERVAL;VALUE=DURATION:PT1H
X-Robots-Tag:noindex
X-PUBLISHED-TTL:PT1H
BEGIN:VTIMEZONE
TZID:America/New_York
BEGIN:DAYLIGHT
TZOFFSETFROM:-0500
TZOFFSETTO:-0400
TZNAME:EDT
DTSTART:20250309T070000
END:DAYLIGHT
BEGIN:STANDARD
TZOFFSETFROM:-0400
TZOFFSETTO:-0500
TZNAME:EST
DTSTART:20251102T060000
END:STANDARD
BEGIN:DAYLIGHT
TZOFFSETFROM:-0500
TZOFFSETTO:-0400
TZNAME:EDT
DTSTART:20260308T070000
END:DAYLIGHT
BEGIN:STANDARD
TZOFFSETFROM:-0400
TZOFFSETTO:-0500
TZNAME:EST
DTSTART:20261101T060000
END:STANDARD
BEGIN:DAYLIGHT
TZOFFSETFROM:-0500
TZOFFSETTO:-0400
TZNAME:EDT
DTSTART:20270314T070000
END:DAYLIGHT
BEGIN:STANDARD
TZOFFSETFROM:-0400
TZOFFSETTO:-0500
TZNAME:EST
DTSTART:20271107T060000
END:STANDARD
END:VTIMEZONE
BEGIN:VEVENT
DTSTART;TZID=America/New_York:20260611T090000
DTEND;TZID=America/New_York:20260611T120000
DTSTAMP:20260423T170031
CREATED:20260303T142430Z
LAST-MODIFIED:20260303T142430Z
UID:10021762-1781168400-1781179200@epworth.faith
SUMMARY:Art Journaling Workshop (Branford Lounge)
DESCRIPTION:
URL:https://epworth.faith/event/art-journaling-workshop-branford-lounge/
LOCATION:Epworth United Methodist Church\, 19285 Holland Glade Road\, Rehoboth Beach\, DE\, 19971\, United States
CATEGORIES:Church,Groups
ORGANIZER;CN="Jay Campbell":MAILTO:jay.campbell@lib.de.us
END:VEVENT
BEGIN:VEVENT
DTSTART;TZID=America/New_York:20260709T090000
DTEND;TZID=America/New_York:20260709T120000
DTSTAMP:20260423T170031
CREATED:20260303T142523Z
LAST-MODIFIED:20260303T142523Z
UID:10021763-1783587600-1783598400@epworth.faith
SUMMARY:Art Journaling Workshop (Branford Lounge)
DESCRIPTION:
URL:https://epworth.faith/event/art-journaling-workshop-branford-lounge-2/
LOCATION:Epworth United Methodist Church\, 19285 Holland Glade Road\, Rehoboth Beach\, DE\, 19971\, United States
CATEGORIES:Church,Groups
ORGANIZER;CN="Jay Campbell":MAILTO:jay.campbell@lib.de.us
END:VEVENT
BEGIN:VEVENT
DTSTART;TZID=America/New_York:20260813T090000
DTEND;TZID=America/New_York:20260813T120000
DTSTAMP:20260423T170031
CREATED:20260303T142615Z
LAST-MODIFIED:20260303T142615Z
UID:10021764-1786611600-1786622400@epworth.faith
SUMMARY:Art Journaling Workshop (Branford Lounge)
DESCRIPTION:
URL:https://epworth.faith/event/art-journaling-workshop-branford-lounge-3/
LOCATION:Epworth United Methodist Church\, 19285 Holland Glade Road\, Rehoboth Beach\, DE\, 19971\, United States
CATEGORIES:Church,Groups
ORGANIZER;CN="Jay Campbell":MAILTO:jay.campbell@lib.de.us
END:VEVENT
BEGIN:VEVENT
DTSTART;TZID=America/New_York:20260910T090000
DTEND;TZID=America/New_York:20260910T120000
DTSTAMP:20260423T170031
CREATED:20260303T142648Z
LAST-MODIFIED:20260303T142648Z
UID:10021765-1789030800-1789041600@epworth.faith
SUMMARY:Art Journaling Workshop (Branford Lounge)
DESCRIPTION:
URL:https://epworth.faith/event/art-journaling-workshop-branford-lounge-4/
LOCATION:Epworth United Methodist Church\, 19285 Holland Glade Road\, Rehoboth Beach\, DE\, 19971\, United States
CATEGORIES:Church,Groups
ORGANIZER;CN="Jay Campbell":MAILTO:jay.campbell@lib.de.us
END:VEVENT
END:VCALENDAR