BEGIN:VCALENDAR
VERSION:2.0
PRODID:-//Epworth UMC - ECPv6.15.20//NONSGML v1.0//EN
CALSCALE:GREGORIAN
METHOD:PUBLISH
X-WR-CALNAME:Epworth UMC
X-ORIGINAL-URL:https://epworth.faith
X-WR-CALDESC:Events for Epworth UMC
REFRESH-INTERVAL;VALUE=DURATION:PT1H
X-Robots-Tag:noindex
X-PUBLISHED-TTL:PT1H
BEGIN:VTIMEZONE
TZID:America/New_York
BEGIN:DAYLIGHT
TZOFFSETFROM:-0500
TZOFFSETTO:-0400
TZNAME:EDT
DTSTART:20210314T070000
END:DAYLIGHT
BEGIN:STANDARD
TZOFFSETFROM:-0400
TZOFFSETTO:-0500
TZNAME:EST
DTSTART:20211107T060000
END:STANDARD
BEGIN:DAYLIGHT
TZOFFSETFROM:-0500
TZOFFSETTO:-0400
TZNAME:EDT
DTSTART:20220313T070000
END:DAYLIGHT
BEGIN:STANDARD
TZOFFSETFROM:-0400
TZOFFSETTO:-0500
TZNAME:EST
DTSTART:20221106T060000
END:STANDARD
BEGIN:DAYLIGHT
TZOFFSETFROM:-0500
TZOFFSETTO:-0400
TZNAME:EDT
DTSTART:20230312T070000
END:DAYLIGHT
BEGIN:STANDARD
TZOFFSETFROM:-0400
TZOFFSETTO:-0500
TZNAME:EST
DTSTART:20231105T060000
END:STANDARD
END:VTIMEZONE
BEGIN:VEVENT
DTSTART;TZID=America/New_York:20220626T230000
DTEND;TZID=America/New_York:20220626T230000
DTSTAMP:20260425T131918
CREATED:20220331T151916Z
LAST-MODIFIED:20220331T151916Z
UID:10006286-1656284400-1656284400@epworth.faith
SUMMARY:AA Sunday Evening (Baker Lounge)
DESCRIPTION:
URL:https://epworth.faith/event/aa-sunday-evening-baker-lounge/2022-06-26/
LOCATION:Epworth United Methodist Church\, 19285 Holland Glade Road\, Rehoboth Beach\, DE\, 19971\, United States
CATEGORIES:Facility Rentals
ORGANIZER;CN="Jerry Bayer%2C Garrett Gooding":MAILTO:jerrybayer94920@yahoo.com; gmgunicycle2@hotmail.com
END:VEVENT
BEGIN:VEVENT
DTSTART;TZID=America/New_York:20220619T230000
DTEND;TZID=America/New_York:20220619T230000
DTSTAMP:20260425T131918
CREATED:20220331T151916Z
LAST-MODIFIED:20220331T151916Z
UID:10006285-1655679600-1655679600@epworth.faith
SUMMARY:AA Sunday Evening (Baker Lounge)
DESCRIPTION:
URL:https://epworth.faith/event/aa-sunday-evening-baker-lounge/2022-06-19/
LOCATION:Epworth United Methodist Church\, 19285 Holland Glade Road\, Rehoboth Beach\, DE\, 19971\, United States
CATEGORIES:Facility Rentals
ORGANIZER;CN="Jerry Bayer%2C Garrett Gooding":MAILTO:jerrybayer94920@yahoo.com; gmgunicycle2@hotmail.com
END:VEVENT
BEGIN:VEVENT
DTSTART;TZID=America/New_York:20220612T230000
DTEND;TZID=America/New_York:20220612T230000
DTSTAMP:20260425T131918
CREATED:20220331T151916Z
LAST-MODIFIED:20220331T151916Z
UID:10006284-1655074800-1655074800@epworth.faith
SUMMARY:AA Sunday Evening (Baker Lounge)
DESCRIPTION:
URL:https://epworth.faith/event/aa-sunday-evening-baker-lounge/2022-06-12/
LOCATION:Epworth United Methodist Church\, 19285 Holland Glade Road\, Rehoboth Beach\, DE\, 19971\, United States
CATEGORIES:Facility Rentals
ORGANIZER;CN="Jerry Bayer%2C Garrett Gooding":MAILTO:jerrybayer94920@yahoo.com; gmgunicycle2@hotmail.com
END:VEVENT
BEGIN:VEVENT
DTSTART;TZID=America/New_York:20220605T230000
DTEND;TZID=America/New_York:20220605T230000
DTSTAMP:20260425T131918
CREATED:20220331T151916Z
LAST-MODIFIED:20220331T151916Z
UID:10006283-1654470000-1654470000@epworth.faith
SUMMARY:AA Sunday Evening (Baker Lounge)
DESCRIPTION:
URL:https://epworth.faith/event/aa-sunday-evening-baker-lounge/2022-06-05/
LOCATION:Epworth United Methodist Church\, 19285 Holland Glade Road\, Rehoboth Beach\, DE\, 19971\, United States
CATEGORIES:Facility Rentals
ORGANIZER;CN="Jerry Bayer%2C Garrett Gooding":MAILTO:jerrybayer94920@yahoo.com; gmgunicycle2@hotmail.com
END:VEVENT
BEGIN:VEVENT
DTSTART;TZID=America/New_York:20220529T230000
DTEND;TZID=America/New_York:20220529T230000
DTSTAMP:20260425T131918
CREATED:20220331T151916Z
LAST-MODIFIED:20220331T151916Z
UID:10006282-1653865200-1653865200@epworth.faith
SUMMARY:AA Sunday Evening (Baker Lounge)
DESCRIPTION:
URL:https://epworth.faith/event/aa-sunday-evening-baker-lounge/2022-05-29/
LOCATION:Epworth United Methodist Church\, 19285 Holland Glade Road\, Rehoboth Beach\, DE\, 19971\, United States
CATEGORIES:Facility Rentals
ORGANIZER;CN="Jerry Bayer%2C Garrett Gooding":MAILTO:jerrybayer94920@yahoo.com; gmgunicycle2@hotmail.com
END:VEVENT
BEGIN:VEVENT
DTSTART;TZID=America/New_York:20220522T230000
DTEND;TZID=America/New_York:20220522T230000
DTSTAMP:20260425T131918
CREATED:20220331T151916Z
LAST-MODIFIED:20220331T151916Z
UID:10006281-1653260400-1653260400@epworth.faith
SUMMARY:AA Sunday Evening (Baker Lounge)
DESCRIPTION:
URL:https://epworth.faith/event/aa-sunday-evening-baker-lounge/2022-05-22/
LOCATION:Epworth United Methodist Church\, 19285 Holland Glade Road\, Rehoboth Beach\, DE\, 19971\, United States
CATEGORIES:Facility Rentals
ORGANIZER;CN="Jerry Bayer%2C Garrett Gooding":MAILTO:jerrybayer94920@yahoo.com; gmgunicycle2@hotmail.com
END:VEVENT
BEGIN:VEVENT
DTSTART;TZID=America/New_York:20220515T230000
DTEND;TZID=America/New_York:20220515T230000
DTSTAMP:20260425T131918
CREATED:20220331T151916Z
LAST-MODIFIED:20220331T151916Z
UID:10006280-1652655600-1652655600@epworth.faith
SUMMARY:AA Sunday Evening (Baker Lounge)
DESCRIPTION:
URL:https://epworth.faith/event/aa-sunday-evening-baker-lounge/2022-05-15/
LOCATION:Epworth United Methodist Church\, 19285 Holland Glade Road\, Rehoboth Beach\, DE\, 19971\, United States
CATEGORIES:Facility Rentals
ORGANIZER;CN="Jerry Bayer%2C Garrett Gooding":MAILTO:jerrybayer94920@yahoo.com; gmgunicycle2@hotmail.com
END:VEVENT
BEGIN:VEVENT
DTSTART;TZID=America/New_York:20220508T230000
DTEND;TZID=America/New_York:20220508T230000
DTSTAMP:20260425T131918
CREATED:20220331T151916Z
LAST-MODIFIED:20220331T151916Z
UID:10006279-1652050800-1652050800@epworth.faith
SUMMARY:AA Sunday Evening (Baker Lounge)
DESCRIPTION:
URL:https://epworth.faith/event/aa-sunday-evening-baker-lounge/2022-05-08/
LOCATION:Epworth United Methodist Church\, 19285 Holland Glade Road\, Rehoboth Beach\, DE\, 19971\, United States
CATEGORIES:Facility Rentals
ORGANIZER;CN="Jerry Bayer%2C Garrett Gooding":MAILTO:jerrybayer94920@yahoo.com; gmgunicycle2@hotmail.com
END:VEVENT
BEGIN:VEVENT
DTSTART;TZID=America/New_York:20220501T230000
DTEND;TZID=America/New_York:20220501T230000
DTSTAMP:20260425T131918
CREATED:20220331T151916Z
LAST-MODIFIED:20220331T151916Z
UID:10006278-1651446000-1651446000@epworth.faith
SUMMARY:AA Sunday Evening (Baker Lounge)
DESCRIPTION:
URL:https://epworth.faith/event/aa-sunday-evening-baker-lounge/2022-05-01/
LOCATION:Epworth United Methodist Church\, 19285 Holland Glade Road\, Rehoboth Beach\, DE\, 19971\, United States
CATEGORIES:Facility Rentals
ORGANIZER;CN="Jerry Bayer%2C Garrett Gooding":MAILTO:jerrybayer94920@yahoo.com; gmgunicycle2@hotmail.com
END:VEVENT
BEGIN:VEVENT
DTSTART;TZID=America/New_York:20220424T230000
DTEND;TZID=America/New_York:20220424T230000
DTSTAMP:20260425T131918
CREATED:20220331T151916Z
LAST-MODIFIED:20220331T151916Z
UID:10006277-1650841200-1650841200@epworth.faith
SUMMARY:AA Sunday Evening (Baker Lounge)
DESCRIPTION:
URL:https://epworth.faith/event/aa-sunday-evening-baker-lounge/2022-04-24/
LOCATION:Epworth United Methodist Church\, 19285 Holland Glade Road\, Rehoboth Beach\, DE\, 19971\, United States
CATEGORIES:Facility Rentals
ORGANIZER;CN="Jerry Bayer%2C Garrett Gooding":MAILTO:jerrybayer94920@yahoo.com; gmgunicycle2@hotmail.com
END:VEVENT
BEGIN:VEVENT
DTSTART;TZID=America/New_York:20220417T230000
DTEND;TZID=America/New_York:20220417T230000
DTSTAMP:20260425T131918
CREATED:20220331T151916Z
LAST-MODIFIED:20220331T151916Z
UID:10006276-1650236400-1650236400@epworth.faith
SUMMARY:AA Sunday Evening (Baker Lounge)
DESCRIPTION:
URL:https://epworth.faith/event/aa-sunday-evening-baker-lounge/2022-04-17/
LOCATION:Epworth United Methodist Church\, 19285 Holland Glade Road\, Rehoboth Beach\, DE\, 19971\, United States
CATEGORIES:Facility Rentals
ORGANIZER;CN="Jerry Bayer%2C Garrett Gooding":MAILTO:jerrybayer94920@yahoo.com; gmgunicycle2@hotmail.com
END:VEVENT
END:VCALENDAR