BEGIN:VCALENDAR
VERSION:2.0
PRODID:-//Epworth UMC - ECPv6.15.20//NONSGML v1.0//EN
CALSCALE:GREGORIAN
METHOD:PUBLISH
X-WR-CALNAME:Epworth UMC
X-ORIGINAL-URL:https://epworth.faith
X-WR-CALDESC:Events for Epworth UMC
REFRESH-INTERVAL;VALUE=DURATION:PT1H
X-Robots-Tag:noindex
X-PUBLISHED-TTL:PT1H
BEGIN:VTIMEZONE
TZID:America/New_York
BEGIN:DAYLIGHT
TZOFFSETFROM:-0500
TZOFFSETTO:-0400
TZNAME:EDT
DTSTART:20210314T070000
END:DAYLIGHT
BEGIN:STANDARD
TZOFFSETFROM:-0400
TZOFFSETTO:-0500
TZNAME:EST
DTSTART:20211107T060000
END:STANDARD
BEGIN:DAYLIGHT
TZOFFSETFROM:-0500
TZOFFSETTO:-0400
TZNAME:EDT
DTSTART:20220313T070000
END:DAYLIGHT
BEGIN:STANDARD
TZOFFSETFROM:-0400
TZOFFSETTO:-0500
TZNAME:EST
DTSTART:20221106T060000
END:STANDARD
BEGIN:DAYLIGHT
TZOFFSETFROM:-0500
TZOFFSETTO:-0400
TZNAME:EDT
DTSTART:20230312T070000
END:DAYLIGHT
BEGIN:STANDARD
TZOFFSETFROM:-0400
TZOFFSETTO:-0500
TZNAME:EST
DTSTART:20231105T060000
END:STANDARD
END:VTIMEZONE
BEGIN:VEVENT
DTSTART;TZID=America/New_York:20220821T113000
DTEND;TZID=America/New_York:20220821T123000
DTSTAMP:20260425T113432
CREATED:20220622T192845Z
LAST-MODIFIED:20220622T192845Z
UID:10006704-1661081400-1661085000@epworth.faith
SUMMARY:Youth Group (Youth Room)
DESCRIPTION:
URL:https://epworth.faith/event/youth-group-youth-room-2/2022-08-21/
LOCATION:Epworth United Methodist Church\, 19285 Holland Glade Road\, Rehoboth Beach\, DE\, 19971\, United States
CATEGORIES:Youth
ORGANIZER;CN="Joy Gordy-Stith & Tom Lewis":MAILTO:jgordy-stith@yahoo.com
END:VEVENT
BEGIN:VEVENT
DTSTART;TZID=America/New_York:20220814T113000
DTEND;TZID=America/New_York:20220814T123000
DTSTAMP:20260425T113432
CREATED:20220622T192845Z
LAST-MODIFIED:20220622T192845Z
UID:10006703-1660476600-1660480200@epworth.faith
SUMMARY:Youth Group (Youth Room)
DESCRIPTION:
URL:https://epworth.faith/event/youth-group-youth-room-2/2022-08-14/
LOCATION:Epworth United Methodist Church\, 19285 Holland Glade Road\, Rehoboth Beach\, DE\, 19971\, United States
CATEGORIES:Youth
ORGANIZER;CN="Joy Gordy-Stith & Tom Lewis":MAILTO:jgordy-stith@yahoo.com
END:VEVENT
BEGIN:VEVENT
DTSTART;TZID=America/New_York:20220807T113000
DTEND;TZID=America/New_York:20220807T123000
DTSTAMP:20260425T113432
CREATED:20220622T192845Z
LAST-MODIFIED:20220622T192845Z
UID:10006702-1659871800-1659875400@epworth.faith
SUMMARY:Youth Group (Youth Room)
DESCRIPTION:
URL:https://epworth.faith/event/youth-group-youth-room-2/2022-08-07/
LOCATION:Epworth United Methodist Church\, 19285 Holland Glade Road\, Rehoboth Beach\, DE\, 19971\, United States
CATEGORIES:Youth
ORGANIZER;CN="Joy Gordy-Stith & Tom Lewis":MAILTO:jgordy-stith@yahoo.com
END:VEVENT
BEGIN:VEVENT
DTSTART;TZID=America/New_York:20220731T113000
DTEND;TZID=America/New_York:20220731T123000
DTSTAMP:20260425T113432
CREATED:20220622T192845Z
LAST-MODIFIED:20220622T192845Z
UID:10006701-1659267000-1659270600@epworth.faith
SUMMARY:Youth Group (Youth Room)
DESCRIPTION:
URL:https://epworth.faith/event/youth-group-youth-room-2/2022-07-31/
LOCATION:Epworth United Methodist Church\, 19285 Holland Glade Road\, Rehoboth Beach\, DE\, 19971\, United States
CATEGORIES:Youth
ORGANIZER;CN="Joy Gordy-Stith & Tom Lewis":MAILTO:jgordy-stith@yahoo.com
END:VEVENT
BEGIN:VEVENT
DTSTART;TZID=America/New_York:20220724T113000
DTEND;TZID=America/New_York:20220724T123000
DTSTAMP:20260425T113432
CREATED:20220622T192845Z
LAST-MODIFIED:20220622T192845Z
UID:10006700-1658662200-1658665800@epworth.faith
SUMMARY:Youth Group (Youth Room)
DESCRIPTION:
URL:https://epworth.faith/event/youth-group-youth-room-2/2022-07-24/
LOCATION:Epworth United Methodist Church\, 19285 Holland Glade Road\, Rehoboth Beach\, DE\, 19971\, United States
CATEGORIES:Youth
ORGANIZER;CN="Joy Gordy-Stith & Tom Lewis":MAILTO:jgordy-stith@yahoo.com
END:VEVENT
BEGIN:VEVENT
DTSTART;TZID=America/New_York:20220717T113000
DTEND;TZID=America/New_York:20220717T123000
DTSTAMP:20260425T113432
CREATED:20220622T192845Z
LAST-MODIFIED:20220622T192845Z
UID:10006699-1658057400-1658061000@epworth.faith
SUMMARY:Youth Group (Youth Room)
DESCRIPTION:
URL:https://epworth.faith/event/youth-group-youth-room-2/2022-07-17/
LOCATION:Epworth United Methodist Church\, 19285 Holland Glade Road\, Rehoboth Beach\, DE\, 19971\, United States
CATEGORIES:Youth
ORGANIZER;CN="Joy Gordy-Stith & Tom Lewis":MAILTO:jgordy-stith@yahoo.com
END:VEVENT
BEGIN:VEVENT
DTSTART;TZID=America/New_York:20220710T113000
DTEND;TZID=America/New_York:20220710T123000
DTSTAMP:20260425T113432
CREATED:20220622T192845Z
LAST-MODIFIED:20220622T192845Z
UID:10006698-1657452600-1657456200@epworth.faith
SUMMARY:Youth Group (Youth Room)
DESCRIPTION:
URL:https://epworth.faith/event/youth-group-youth-room-2/2022-07-10/
LOCATION:Epworth United Methodist Church\, 19285 Holland Glade Road\, Rehoboth Beach\, DE\, 19971\, United States
CATEGORIES:Youth
ORGANIZER;CN="Joy Gordy-Stith & Tom Lewis":MAILTO:jgordy-stith@yahoo.com
END:VEVENT
BEGIN:VEVENT
DTSTART;TZID=America/New_York:20220703T113000
DTEND;TZID=America/New_York:20220703T123000
DTSTAMP:20260425T113432
CREATED:20220622T192845Z
LAST-MODIFIED:20220622T192845Z
UID:10006697-1656847800-1656851400@epworth.faith
SUMMARY:Youth Group (Youth Room)
DESCRIPTION:
URL:https://epworth.faith/event/youth-group-youth-room-2/2022-07-03/
LOCATION:Epworth United Methodist Church\, 19285 Holland Glade Road\, Rehoboth Beach\, DE\, 19971\, United States
CATEGORIES:Youth
ORGANIZER;CN="Joy Gordy-Stith & Tom Lewis":MAILTO:jgordy-stith@yahoo.com
END:VEVENT
BEGIN:VEVENT
DTSTART;TZID=America/New_York:20220626T113000
DTEND;TZID=America/New_York:20220626T123000
DTSTAMP:20260425T113432
CREATED:20220112T205636Z
LAST-MODIFIED:20220112T205636Z
UID:10005077-1656243000-1656246600@epworth.faith
SUMMARY:Youth Group (Youth Room)
DESCRIPTION:Epworth’s Youth Group will be meeting in our Youth Room.
URL:https://epworth.faith/event/youth-group-youth-room/2022-06-26/
LOCATION:Epworth United Methodist Church\, 19285 Holland Glade Road\, Rehoboth Beach\, DE\, 19971\, United States
CATEGORIES:Youth
ORGANIZER;CN="Joy Gordy-Stith & Tom Lewis":MAILTO:jgordy-stith@yahoo.com
END:VEVENT
BEGIN:VEVENT
DTSTART;TZID=America/New_York:20220619T113000
DTEND;TZID=America/New_York:20220619T123000
DTSTAMP:20260425T113432
CREATED:20220112T205636Z
LAST-MODIFIED:20220112T205636Z
UID:10005076-1655638200-1655641800@epworth.faith
SUMMARY:Youth Group (Youth Room)
DESCRIPTION:Epworth’s Youth Group will be meeting in our Youth Room.
URL:https://epworth.faith/event/youth-group-youth-room/2022-06-19/
LOCATION:Epworth United Methodist Church\, 19285 Holland Glade Road\, Rehoboth Beach\, DE\, 19971\, United States
CATEGORIES:Youth
ORGANIZER;CN="Joy Gordy-Stith & Tom Lewis":MAILTO:jgordy-stith@yahoo.com
END:VEVENT
BEGIN:VEVENT
DTSTART;TZID=America/New_York:20220612T113000
DTEND;TZID=America/New_York:20220612T123000
DTSTAMP:20260425T113432
CREATED:20220112T205636Z
LAST-MODIFIED:20220112T205636Z
UID:10005075-1655033400-1655037000@epworth.faith
SUMMARY:Youth Group (Youth Room)
DESCRIPTION:Epworth’s Youth Group will be meeting in our Youth Room.
URL:https://epworth.faith/event/youth-group-youth-room/2022-06-12/
LOCATION:Epworth United Methodist Church\, 19285 Holland Glade Road\, Rehoboth Beach\, DE\, 19971\, United States
CATEGORIES:Youth
ORGANIZER;CN="Joy Gordy-Stith & Tom Lewis":MAILTO:jgordy-stith@yahoo.com
END:VEVENT
BEGIN:VEVENT
DTSTART;TZID=America/New_York:20220605T113000
DTEND;TZID=America/New_York:20220605T123000
DTSTAMP:20260425T113432
CREATED:20220112T205636Z
LAST-MODIFIED:20220112T205636Z
UID:10005074-1654428600-1654432200@epworth.faith
SUMMARY:Youth Group (Youth Room)
DESCRIPTION:Epworth’s Youth Group will be meeting in our Youth Room.
URL:https://epworth.faith/event/youth-group-youth-room/2022-06-05/
LOCATION:Epworth United Methodist Church\, 19285 Holland Glade Road\, Rehoboth Beach\, DE\, 19971\, United States
CATEGORIES:Youth
ORGANIZER;CN="Joy Gordy-Stith & Tom Lewis":MAILTO:jgordy-stith@yahoo.com
END:VEVENT
BEGIN:VEVENT
DTSTART;TZID=America/New_York:20220529T113000
DTEND;TZID=America/New_York:20220529T123000
DTSTAMP:20260425T113432
CREATED:20220112T205636Z
LAST-MODIFIED:20220112T205636Z
UID:10005073-1653823800-1653827400@epworth.faith
SUMMARY:Youth Group (Youth Room)
DESCRIPTION:Epworth’s Youth Group will be meeting in our Youth Room.
URL:https://epworth.faith/event/youth-group-youth-room/2022-05-29/
LOCATION:Epworth United Methodist Church\, 19285 Holland Glade Road\, Rehoboth Beach\, DE\, 19971\, United States
CATEGORIES:Youth
ORGANIZER;CN="Joy Gordy-Stith & Tom Lewis":MAILTO:jgordy-stith@yahoo.com
END:VEVENT
BEGIN:VEVENT
DTSTART;TZID=America/New_York:20220522T113000
DTEND;TZID=America/New_York:20220522T123000
DTSTAMP:20260425T113432
CREATED:20220112T205636Z
LAST-MODIFIED:20220112T205636Z
UID:10005072-1653219000-1653222600@epworth.faith
SUMMARY:Youth Group (Youth Room)
DESCRIPTION:Epworth’s Youth Group will be meeting in our Youth Room.
URL:https://epworth.faith/event/youth-group-youth-room/2022-05-22/
LOCATION:Epworth United Methodist Church\, 19285 Holland Glade Road\, Rehoboth Beach\, DE\, 19971\, United States
CATEGORIES:Youth
ORGANIZER;CN="Joy Gordy-Stith & Tom Lewis":MAILTO:jgordy-stith@yahoo.com
END:VEVENT
BEGIN:VEVENT
DTSTART;TZID=America/New_York:20220515T113000
DTEND;TZID=America/New_York:20220515T123000
DTSTAMP:20260425T113432
CREATED:20220112T205636Z
LAST-MODIFIED:20220112T205636Z
UID:10005071-1652614200-1652617800@epworth.faith
SUMMARY:Youth Group (Youth Room)
DESCRIPTION:Epworth’s Youth Group will be meeting in our Youth Room.
URL:https://epworth.faith/event/youth-group-youth-room/2022-05-15/
LOCATION:Epworth United Methodist Church\, 19285 Holland Glade Road\, Rehoboth Beach\, DE\, 19971\, United States
CATEGORIES:Youth
ORGANIZER;CN="Joy Gordy-Stith & Tom Lewis":MAILTO:jgordy-stith@yahoo.com
END:VEVENT
BEGIN:VEVENT
DTSTART;TZID=America/New_York:20220508T113000
DTEND;TZID=America/New_York:20220508T123000
DTSTAMP:20260425T113432
CREATED:20220112T205636Z
LAST-MODIFIED:20220112T205636Z
UID:10005070-1652009400-1652013000@epworth.faith
SUMMARY:Youth Group (Youth Room)
DESCRIPTION:Epworth’s Youth Group will be meeting in our Youth Room.
URL:https://epworth.faith/event/youth-group-youth-room/2022-05-08/
LOCATION:Epworth United Methodist Church\, 19285 Holland Glade Road\, Rehoboth Beach\, DE\, 19971\, United States
CATEGORIES:Youth
ORGANIZER;CN="Joy Gordy-Stith & Tom Lewis":MAILTO:jgordy-stith@yahoo.com
END:VEVENT
BEGIN:VEVENT
DTSTART;TZID=America/New_York:20220501T113000
DTEND;TZID=America/New_York:20220501T123000
DTSTAMP:20260425T113432
CREATED:20220112T205636Z
LAST-MODIFIED:20220112T205636Z
UID:10005069-1651404600-1651408200@epworth.faith
SUMMARY:Youth Group (Youth Room)
DESCRIPTION:Epworth’s Youth Group will be meeting in our Youth Room.
URL:https://epworth.faith/event/youth-group-youth-room/2022-05-01/
LOCATION:Epworth United Methodist Church\, 19285 Holland Glade Road\, Rehoboth Beach\, DE\, 19971\, United States
CATEGORIES:Youth
ORGANIZER;CN="Joy Gordy-Stith & Tom Lewis":MAILTO:jgordy-stith@yahoo.com
END:VEVENT
BEGIN:VEVENT
DTSTART;TZID=America/New_York:20220424T113000
DTEND;TZID=America/New_York:20220424T123000
DTSTAMP:20260425T113432
CREATED:20220112T205636Z
LAST-MODIFIED:20220112T205636Z
UID:10005068-1650799800-1650803400@epworth.faith
SUMMARY:Youth Group (Youth Room)
DESCRIPTION:Epworth’s Youth Group will be meeting in our Youth Room.
URL:https://epworth.faith/event/youth-group-youth-room/2022-04-24/
LOCATION:Epworth United Methodist Church\, 19285 Holland Glade Road\, Rehoboth Beach\, DE\, 19971\, United States
CATEGORIES:Youth
ORGANIZER;CN="Joy Gordy-Stith & Tom Lewis":MAILTO:jgordy-stith@yahoo.com
END:VEVENT
BEGIN:VEVENT
DTSTART;TZID=America/New_York:20220417T113000
DTEND;TZID=America/New_York:20220417T123000
DTSTAMP:20260425T113432
CREATED:20220112T205636Z
LAST-MODIFIED:20220112T205636Z
UID:10005067-1650195000-1650198600@epworth.faith
SUMMARY:Youth Group (Youth Room)
DESCRIPTION:Epworth’s Youth Group will be meeting in our Youth Room.
URL:https://epworth.faith/event/youth-group-youth-room/2022-04-17/
LOCATION:Epworth United Methodist Church\, 19285 Holland Glade Road\, Rehoboth Beach\, DE\, 19971\, United States
CATEGORIES:Youth
ORGANIZER;CN="Joy Gordy-Stith & Tom Lewis":MAILTO:jgordy-stith@yahoo.com
END:VEVENT
BEGIN:VEVENT
DTSTART;TZID=America/New_York:20220410T113000
DTEND;TZID=America/New_York:20220410T123000
DTSTAMP:20260425T113432
CREATED:20220112T205636Z
LAST-MODIFIED:20220112T205636Z
UID:10005066-1649590200-1649593800@epworth.faith
SUMMARY:Youth Group (Youth Room)
DESCRIPTION:Epworth’s Youth Group will be meeting in our Youth Room.
URL:https://epworth.faith/event/youth-group-youth-room/2022-04-10/
LOCATION:Epworth United Methodist Church\, 19285 Holland Glade Road\, Rehoboth Beach\, DE\, 19971\, United States
CATEGORIES:Youth
ORGANIZER;CN="Joy Gordy-Stith & Tom Lewis":MAILTO:jgordy-stith@yahoo.com
END:VEVENT
BEGIN:VEVENT
DTSTART;TZID=America/New_York:20220403T113000
DTEND;TZID=America/New_York:20220403T123000
DTSTAMP:20260425T113432
CREATED:20220112T205636Z
LAST-MODIFIED:20220112T205636Z
UID:10005065-1648985400-1648989000@epworth.faith
SUMMARY:Youth Group (Youth Room)
DESCRIPTION:Epworth’s Youth Group will be meeting in our Youth Room.
URL:https://epworth.faith/event/youth-group-youth-room/2022-04-03/
LOCATION:Epworth United Methodist Church\, 19285 Holland Glade Road\, Rehoboth Beach\, DE\, 19971\, United States
CATEGORIES:Youth
ORGANIZER;CN="Joy Gordy-Stith & Tom Lewis":MAILTO:jgordy-stith@yahoo.com
END:VEVENT
BEGIN:VEVENT
DTSTART;TZID=America/New_York:20220327T113000
DTEND;TZID=America/New_York:20220327T123000
DTSTAMP:20260425T113432
CREATED:20220112T205636Z
LAST-MODIFIED:20220112T205636Z
UID:10005064-1648380600-1648384200@epworth.faith
SUMMARY:Youth Group (Youth Room)
DESCRIPTION:Epworth’s Youth Group will be meeting in our Youth Room.
URL:https://epworth.faith/event/youth-group-youth-room/2022-03-27/
LOCATION:Epworth United Methodist Church\, 19285 Holland Glade Road\, Rehoboth Beach\, DE\, 19971\, United States
CATEGORIES:Youth
ORGANIZER;CN="Joy Gordy-Stith & Tom Lewis":MAILTO:jgordy-stith@yahoo.com
END:VEVENT
BEGIN:VEVENT
DTSTART;TZID=America/New_York:20220320T113000
DTEND;TZID=America/New_York:20220320T123000
DTSTAMP:20260425T113432
CREATED:20220112T205636Z
LAST-MODIFIED:20220112T205636Z
UID:10005063-1647775800-1647779400@epworth.faith
SUMMARY:Youth Group (Youth Room)
DESCRIPTION:Epworth’s Youth Group will be meeting in our Youth Room.
URL:https://epworth.faith/event/youth-group-youth-room/2022-03-20/
LOCATION:Epworth United Methodist Church\, 19285 Holland Glade Road\, Rehoboth Beach\, DE\, 19971\, United States
CATEGORIES:Youth
ORGANIZER;CN="Joy Gordy-Stith & Tom Lewis":MAILTO:jgordy-stith@yahoo.com
END:VEVENT
BEGIN:VEVENT
DTSTART;TZID=America/New_York:20220313T113000
DTEND;TZID=America/New_York:20220313T123000
DTSTAMP:20260425T113432
CREATED:20220112T205636Z
LAST-MODIFIED:20220112T205636Z
UID:10005062-1647171000-1647174600@epworth.faith
SUMMARY:Youth Group (Youth Room)
DESCRIPTION:Epworth’s Youth Group will be meeting in our Youth Room.
URL:https://epworth.faith/event/youth-group-youth-room/2022-03-13/
LOCATION:Epworth United Methodist Church\, 19285 Holland Glade Road\, Rehoboth Beach\, DE\, 19971\, United States
CATEGORIES:Youth
ORGANIZER;CN="Joy Gordy-Stith & Tom Lewis":MAILTO:jgordy-stith@yahoo.com
END:VEVENT
BEGIN:VEVENT
DTSTART;TZID=America/New_York:20220306T113000
DTEND;TZID=America/New_York:20220306T123000
DTSTAMP:20260425T113432
CREATED:20220112T205636Z
LAST-MODIFIED:20220112T205636Z
UID:10005061-1646566200-1646569800@epworth.faith
SUMMARY:Youth Group (Youth Room)
DESCRIPTION:Epworth’s Youth Group will be meeting in our Youth Room.
URL:https://epworth.faith/event/youth-group-youth-room/2022-03-06/
LOCATION:Epworth United Methodist Church\, 19285 Holland Glade Road\, Rehoboth Beach\, DE\, 19971\, United States
CATEGORIES:Youth
ORGANIZER;CN="Joy Gordy-Stith & Tom Lewis":MAILTO:jgordy-stith@yahoo.com
END:VEVENT
BEGIN:VEVENT
DTSTART;TZID=America/New_York:20220227T113000
DTEND;TZID=America/New_York:20220227T123000
DTSTAMP:20260425T113432
CREATED:20220112T205636Z
LAST-MODIFIED:20220112T205636Z
UID:10005060-1645961400-1645965000@epworth.faith
SUMMARY:Youth Group (Youth Room)
DESCRIPTION:Epworth’s Youth Group will be meeting in our Youth Room.
URL:https://epworth.faith/event/youth-group-youth-room/2022-02-27/
LOCATION:Epworth United Methodist Church\, 19285 Holland Glade Road\, Rehoboth Beach\, DE\, 19971\, United States
CATEGORIES:Youth
ORGANIZER;CN="Joy Gordy-Stith & Tom Lewis":MAILTO:jgordy-stith@yahoo.com
END:VEVENT
BEGIN:VEVENT
DTSTART;TZID=America/New_York:20220220T113000
DTEND;TZID=America/New_York:20220220T123000
DTSTAMP:20260425T113432
CREATED:20220112T205636Z
LAST-MODIFIED:20220112T205636Z
UID:10005059-1645356600-1645360200@epworth.faith
SUMMARY:Youth Group (Youth Room)
DESCRIPTION:Epworth’s Youth Group will be meeting in our Youth Room.
URL:https://epworth.faith/event/youth-group-youth-room/2022-02-20/
LOCATION:Epworth United Methodist Church\, 19285 Holland Glade Road\, Rehoboth Beach\, DE\, 19971\, United States
CATEGORIES:Youth
ORGANIZER;CN="Joy Gordy-Stith & Tom Lewis":MAILTO:jgordy-stith@yahoo.com
END:VEVENT
BEGIN:VEVENT
DTSTART;TZID=America/New_York:20220213T113000
DTEND;TZID=America/New_York:20220213T123000
DTSTAMP:20260425T113432
CREATED:20220112T205636Z
LAST-MODIFIED:20220112T205636Z
UID:10005058-1644751800-1644755400@epworth.faith
SUMMARY:Youth Group (Youth Room)
DESCRIPTION:Epworth’s Youth Group will be meeting in our Youth Room.
URL:https://epworth.faith/event/youth-group-youth-room/2022-02-13/
LOCATION:Epworth United Methodist Church\, 19285 Holland Glade Road\, Rehoboth Beach\, DE\, 19971\, United States
CATEGORIES:Youth
ORGANIZER;CN="Joy Gordy-Stith & Tom Lewis":MAILTO:jgordy-stith@yahoo.com
END:VEVENT
BEGIN:VEVENT
DTSTART;TZID=America/New_York:20220206T113000
DTEND;TZID=America/New_York:20220206T123000
DTSTAMP:20260425T113432
CREATED:20220112T205636Z
LAST-MODIFIED:20220112T205636Z
UID:10005057-1644147000-1644150600@epworth.faith
SUMMARY:Youth Group (Youth Room)
DESCRIPTION:Epworth’s Youth Group will be meeting in our Youth Room.
URL:https://epworth.faith/event/youth-group-youth-room/2022-02-06/
LOCATION:Epworth United Methodist Church\, 19285 Holland Glade Road\, Rehoboth Beach\, DE\, 19971\, United States
CATEGORIES:Youth
ORGANIZER;CN="Joy Gordy-Stith & Tom Lewis":MAILTO:jgordy-stith@yahoo.com
END:VEVENT
BEGIN:VEVENT
DTSTART;TZID=America/New_York:20220130T113000
DTEND;TZID=America/New_York:20220130T123000
DTSTAMP:20260425T113432
CREATED:20220112T205636Z
LAST-MODIFIED:20220112T205636Z
UID:10005056-1643542200-1643545800@epworth.faith
SUMMARY:Youth Group (Youth Room)
DESCRIPTION:Epworth’s Youth Group will be meeting in our Youth Room.
URL:https://epworth.faith/event/youth-group-youth-room/2022-01-30/
LOCATION:Epworth United Methodist Church\, 19285 Holland Glade Road\, Rehoboth Beach\, DE\, 19971\, United States
CATEGORIES:Youth
ORGANIZER;CN="Joy Gordy-Stith & Tom Lewis":MAILTO:jgordy-stith@yahoo.com
END:VEVENT
END:VCALENDAR