BEGIN:VCALENDAR
VERSION:2.0
PRODID:-//Epworth UMC - ECPv6.15.20//NONSGML v1.0//EN
CALSCALE:GREGORIAN
METHOD:PUBLISH
X-ORIGINAL-URL:https://epworth.faith
X-WR-CALDESC:Events for Epworth UMC
REFRESH-INTERVAL;VALUE=DURATION:PT1H
X-Robots-Tag:noindex
X-PUBLISHED-TTL:PT1H
BEGIN:VTIMEZONE
TZID:America/New_York
BEGIN:DAYLIGHT
TZOFFSETFROM:-0500
TZOFFSETTO:-0400
TZNAME:EDT
DTSTART:20210314T070000
END:DAYLIGHT
BEGIN:STANDARD
TZOFFSETFROM:-0400
TZOFFSETTO:-0500
TZNAME:EST
DTSTART:20211107T060000
END:STANDARD
BEGIN:DAYLIGHT
TZOFFSETFROM:-0500
TZOFFSETTO:-0400
TZNAME:EDT
DTSTART:20220313T070000
END:DAYLIGHT
BEGIN:STANDARD
TZOFFSETFROM:-0400
TZOFFSETTO:-0500
TZNAME:EST
DTSTART:20221106T060000
END:STANDARD
BEGIN:DAYLIGHT
TZOFFSETFROM:-0500
TZOFFSETTO:-0400
TZNAME:EDT
DTSTART:20230312T070000
END:DAYLIGHT
BEGIN:STANDARD
TZOFFSETFROM:-0400
TZOFFSETTO:-0500
TZNAME:EST
DTSTART:20231105T060000
END:STANDARD
BEGIN:DAYLIGHT
TZOFFSETFROM:-0500
TZOFFSETTO:-0400
TZNAME:EDT
DTSTART:20240310T070000
END:DAYLIGHT
BEGIN:STANDARD
TZOFFSETFROM:-0400
TZOFFSETTO:-0500
TZNAME:EST
DTSTART:20241103T060000
END:STANDARD
BEGIN:DAYLIGHT
TZOFFSETFROM:-0500
TZOFFSETTO:-0400
TZNAME:EDT
DTSTART:20250309T070000
END:DAYLIGHT
BEGIN:STANDARD
TZOFFSETFROM:-0400
TZOFFSETTO:-0500
TZNAME:EST
DTSTART:20251102T060000
END:STANDARD
END:VTIMEZONE
BEGIN:VEVENT
DTSTART;TZID=America/New_York:20241027T130000
DTEND;TZID=America/New_York:20241027T173000
DTSTAMP:20260425T065054
CREATED:20240805T195803Z
LAST-MODIFIED:20240827T201913Z
UID:10013995-1730034000-1730050200@epworth.faith
SUMMARY:Sabbath of Peace and Unity (Sanctuary)
DESCRIPTION:
URL:https://epworth.faith/event/sabbath-of-peace-and-unity-sanctuary/
LOCATION:Epworth United Methodist Church\, 19285 Holland Glade Road\, Rehoboth Beach\, DE\, 19971\, United States
CATEGORIES:Church,Facility Rentals,Neighborhood/Community Groups
ORGANIZER;CN="Judy Moore":MAILTO:jgkmoore@gmail.com
END:VEVENT
BEGIN:VEVENT
DTSTART;TZID=America/New_York:20240416T083000
DTEND;TZID=America/New_York:20240416T093000
DTSTAMP:20260425T065055
CREATED:20240409T141453Z
LAST-MODIFIED:20240409T141453Z
UID:10012652-1713256200-1713259800@epworth.faith
SUMMARY:Multi-Faith Steering Group Coffee & Conversation (Branford Lounge)
DESCRIPTION:
URL:https://epworth.faith/event/multi-faith-steering-group-coffee-conversation-branford-lounge/
LOCATION:Epworth United Methodist Church\, 19285 Holland Glade Road\, Rehoboth Beach\, DE\, 19971\, United States
CATEGORIES:Church,Groups
ORGANIZER;CN="Judy Moore":MAILTO:jgkmoore@gmail.com
END:VEVENT
BEGIN:VEVENT
DTSTART;TZID=America/New_York:20220818T180000
DTEND;TZID=America/New_York:20220818T194500
DTSTAMP:20260425T065055
CREATED:20220316T161655Z
LAST-MODIFIED:20220608T145552Z
UID:10005121-1660845600-1660851900@epworth.faith
SUMMARY:Reconciling Ministries Bible Study (Admin Conference Room)
DESCRIPTION:
URL:https://epworth.faith/event/reconciling-ministries-bible-study-music-wing-2/2022-08-18/
LOCATION:Epworth United Methodist Church\, 19285 Holland Glade Road\, Rehoboth Beach\, DE\, 19971\, United States
CATEGORIES:Groups
ORGANIZER;CN="Judy Moore":MAILTO:jgkmoore@gmail.com
END:VEVENT
BEGIN:VEVENT
DTSTART;TZID=America/New_York:20220811T180000
DTEND;TZID=America/New_York:20220811T194500
DTSTAMP:20260425T065055
CREATED:20220316T161655Z
LAST-MODIFIED:20220608T145552Z
UID:10005120-1660240800-1660247100@epworth.faith
SUMMARY:Reconciling Ministries Bible Study (Admin Conference Room)
DESCRIPTION:
URL:https://epworth.faith/event/reconciling-ministries-bible-study-music-wing-2/2022-08-11/
LOCATION:Epworth United Methodist Church\, 19285 Holland Glade Road\, Rehoboth Beach\, DE\, 19971\, United States
CATEGORIES:Groups
ORGANIZER;CN="Judy Moore":MAILTO:jgkmoore@gmail.com
END:VEVENT
BEGIN:VEVENT
DTSTART;TZID=America/New_York:20220804T180000
DTEND;TZID=America/New_York:20220804T194500
DTSTAMP:20260425T065055
CREATED:20220316T161655Z
LAST-MODIFIED:20220608T145552Z
UID:10005119-1659636000-1659642300@epworth.faith
SUMMARY:Reconciling Ministries Bible Study (Admin Conference Room)
DESCRIPTION:
URL:https://epworth.faith/event/reconciling-ministries-bible-study-music-wing-2/2022-08-04/
LOCATION:Epworth United Methodist Church\, 19285 Holland Glade Road\, Rehoboth Beach\, DE\, 19971\, United States
CATEGORIES:Groups
ORGANIZER;CN="Judy Moore":MAILTO:jgkmoore@gmail.com
END:VEVENT
BEGIN:VEVENT
DTSTART;TZID=America/New_York:20220728T180000
DTEND;TZID=America/New_York:20220728T194500
DTSTAMP:20260425T065055
CREATED:20220316T161655Z
LAST-MODIFIED:20220608T145552Z
UID:10005118-1659031200-1659037500@epworth.faith
SUMMARY:Reconciling Ministries Bible Study (Admin Conference Room)
DESCRIPTION:
URL:https://epworth.faith/event/reconciling-ministries-bible-study-music-wing-2/2022-07-28/
LOCATION:Epworth United Methodist Church\, 19285 Holland Glade Road\, Rehoboth Beach\, DE\, 19971\, United States
CATEGORIES:Groups
ORGANIZER;CN="Judy Moore":MAILTO:jgkmoore@gmail.com
END:VEVENT
BEGIN:VEVENT
DTSTART;TZID=America/New_York:20220721T180000
DTEND;TZID=America/New_York:20220721T194500
DTSTAMP:20260425T065055
CREATED:20220316T161655Z
LAST-MODIFIED:20220608T145552Z
UID:10005117-1658426400-1658432700@epworth.faith
SUMMARY:Reconciling Ministries Bible Study (Admin Conference Room)
DESCRIPTION:
URL:https://epworth.faith/event/reconciling-ministries-bible-study-music-wing-2/2022-07-21/
LOCATION:Epworth United Methodist Church\, 19285 Holland Glade Road\, Rehoboth Beach\, DE\, 19971\, United States
CATEGORIES:Groups
ORGANIZER;CN="Judy Moore":MAILTO:jgkmoore@gmail.com
END:VEVENT
BEGIN:VEVENT
DTSTART;TZID=America/New_York:20220714T180000
DTEND;TZID=America/New_York:20220714T194500
DTSTAMP:20260425T065055
CREATED:20220316T161655Z
LAST-MODIFIED:20220608T145552Z
UID:10005116-1657821600-1657827900@epworth.faith
SUMMARY:Reconciling Ministries Bible Study (Admin Conference Room)
DESCRIPTION:
URL:https://epworth.faith/event/reconciling-ministries-bible-study-music-wing-2/2022-07-14/
LOCATION:Epworth United Methodist Church\, 19285 Holland Glade Road\, Rehoboth Beach\, DE\, 19971\, United States
CATEGORIES:Groups
ORGANIZER;CN="Judy Moore":MAILTO:jgkmoore@gmail.com
END:VEVENT
BEGIN:VEVENT
DTSTART;TZID=America/New_York:20220707T180000
DTEND;TZID=America/New_York:20220707T194500
DTSTAMP:20260425T065055
CREATED:20220316T161655Z
LAST-MODIFIED:20220608T145552Z
UID:10005115-1657216800-1657223100@epworth.faith
SUMMARY:Reconciling Ministries Bible Study (Admin Conference Room)
DESCRIPTION:
URL:https://epworth.faith/event/reconciling-ministries-bible-study-music-wing-2/2022-07-07/
LOCATION:Epworth United Methodist Church\, 19285 Holland Glade Road\, Rehoboth Beach\, DE\, 19971\, United States
CATEGORIES:Groups
ORGANIZER;CN="Judy Moore":MAILTO:jgkmoore@gmail.com
END:VEVENT
BEGIN:VEVENT
DTSTART;TZID=America/New_York:20220630T180000
DTEND;TZID=America/New_York:20220630T194500
DTSTAMP:20260425T065055
CREATED:20220316T161655Z
LAST-MODIFIED:20220608T145552Z
UID:10005114-1656612000-1656618300@epworth.faith
SUMMARY:Reconciling Ministries Bible Study (Admin Conference Room)
DESCRIPTION:
URL:https://epworth.faith/event/reconciling-ministries-bible-study-music-wing-2/2022-06-30/
LOCATION:Epworth United Methodist Church\, 19285 Holland Glade Road\, Rehoboth Beach\, DE\, 19971\, United States
CATEGORIES:Groups
ORGANIZER;CN="Judy Moore":MAILTO:jgkmoore@gmail.com
END:VEVENT
BEGIN:VEVENT
DTSTART;TZID=America/New_York:20220623T180000
DTEND;TZID=America/New_York:20220623T194500
DTSTAMP:20260425T065055
CREATED:20220316T161655Z
LAST-MODIFIED:20220608T145552Z
UID:10005113-1656007200-1656013500@epworth.faith
SUMMARY:Reconciling Ministries Bible Study (Admin Conference Room)
DESCRIPTION:
URL:https://epworth.faith/event/reconciling-ministries-bible-study-music-wing-2/2022-06-23/
LOCATION:Epworth United Methodist Church\, 19285 Holland Glade Road\, Rehoboth Beach\, DE\, 19971\, United States
CATEGORIES:Groups
ORGANIZER;CN="Judy Moore":MAILTO:jgkmoore@gmail.com
END:VEVENT
BEGIN:VEVENT
DTSTART;TZID=America/New_York:20220519T180000
DTEND;TZID=America/New_York:20220519T194500
DTSTAMP:20260425T065055
CREATED:20220316T161533Z
LAST-MODIFIED:20220316T161534Z
UID:10005108-1652983200-1652989500@epworth.faith
SUMMARY:Reconciling Ministries Bible Study (Music Wing)
DESCRIPTION:
URL:https://epworth.faith/event/reconciling-ministries-bible-study-music-wing/2022-05-19/
LOCATION:Epworth United Methodist Church\, 19285 Holland Glade Road\, Rehoboth Beach\, DE\, 19971\, United States
CATEGORIES:Groups
ORGANIZER;CN="Judy Moore":MAILTO:jgkmoore@gmail.com
END:VEVENT
BEGIN:VEVENT
DTSTART;TZID=America/New_York:20220512T180000
DTEND;TZID=America/New_York:20220512T194500
DTSTAMP:20260425T065055
CREATED:20220316T161533Z
LAST-MODIFIED:20220316T161534Z
UID:10005107-1652378400-1652384700@epworth.faith
SUMMARY:Reconciling Ministries Bible Study (Music Wing)
DESCRIPTION:
URL:https://epworth.faith/event/reconciling-ministries-bible-study-music-wing/2022-05-12/
LOCATION:Epworth United Methodist Church\, 19285 Holland Glade Road\, Rehoboth Beach\, DE\, 19971\, United States
CATEGORIES:Groups
ORGANIZER;CN="Judy Moore":MAILTO:jgkmoore@gmail.com
END:VEVENT
BEGIN:VEVENT
DTSTART;TZID=America/New_York:20220505T180000
DTEND;TZID=America/New_York:20220505T194500
DTSTAMP:20260425T065055
CREATED:20220316T161533Z
LAST-MODIFIED:20220316T161534Z
UID:10005106-1651773600-1651779900@epworth.faith
SUMMARY:Reconciling Ministries Bible Study (Music Wing)
DESCRIPTION:
URL:https://epworth.faith/event/reconciling-ministries-bible-study-music-wing/2022-05-05/
LOCATION:Epworth United Methodist Church\, 19285 Holland Glade Road\, Rehoboth Beach\, DE\, 19971\, United States
CATEGORIES:Groups
ORGANIZER;CN="Judy Moore":MAILTO:jgkmoore@gmail.com
END:VEVENT
BEGIN:VEVENT
DTSTART;TZID=America/New_York:20220328T103000
DTEND;TZID=America/New_York:20220328T120000
DTSTAMP:20260425T065055
CREATED:20220316T161357Z
LAST-MODIFIED:20220316T161357Z
UID:10005104-1648463400-1648468800@epworth.faith
SUMMARY:Reconciling Ministries (Admin. Room)
DESCRIPTION:
URL:https://epworth.faith/event/reconciling-ministries-admin-room/
LOCATION:Epworth United Methodist Church\, 19285 Holland Glade Road\, Rehoboth Beach\, DE\, 19971\, United States
CATEGORIES:Groups
ORGANIZER;CN="Judy Moore":MAILTO:jgkmoore@gmail.com
END:VEVENT
END:VCALENDAR