BEGIN:VCALENDAR
VERSION:2.0
PRODID:-//Epworth UMC - ECPv6.15.20//NONSGML v1.0//EN
CALSCALE:GREGORIAN
METHOD:PUBLISH
X-WR-CALNAME:Epworth UMC
X-ORIGINAL-URL:https://epworth.faith
X-WR-CALDESC:Events for Epworth UMC
REFRESH-INTERVAL;VALUE=DURATION:PT1H
X-Robots-Tag:noindex
X-PUBLISHED-TTL:PT1H
BEGIN:VTIMEZONE
TZID:America/New_York
BEGIN:DAYLIGHT
TZOFFSETFROM:-0500
TZOFFSETTO:-0400
TZNAME:EDT
DTSTART:20210314T070000
END:DAYLIGHT
BEGIN:STANDARD
TZOFFSETFROM:-0400
TZOFFSETTO:-0500
TZNAME:EST
DTSTART:20211107T060000
END:STANDARD
BEGIN:DAYLIGHT
TZOFFSETFROM:-0500
TZOFFSETTO:-0400
TZNAME:EDT
DTSTART:20220313T070000
END:DAYLIGHT
BEGIN:STANDARD
TZOFFSETFROM:-0400
TZOFFSETTO:-0500
TZNAME:EST
DTSTART:20221106T060000
END:STANDARD
BEGIN:DAYLIGHT
TZOFFSETFROM:-0500
TZOFFSETTO:-0400
TZNAME:EDT
DTSTART:20230312T070000
END:DAYLIGHT
BEGIN:STANDARD
TZOFFSETFROM:-0400
TZOFFSETTO:-0500
TZNAME:EST
DTSTART:20231105T060000
END:STANDARD
END:VTIMEZONE
BEGIN:VEVENT
DTSTART;TZID=America/New_York:20220714T090000
DTEND;TZID=America/New_York:20220714T130000
DTSTAMP:20260425T233418
CREATED:20220630T142432Z
LAST-MODIFIED:20220728T162225Z
UID:10006820-1657789200-1657803600@epworth.faith
SUMMARY:First State Tutoring (Branford Lounge & Youth Room)
DESCRIPTION:
URL:https://epworth.faith/event/first-state-tutoring-branford-lounge-youth-room-3/2022-07-14/
LOCATION:Epworth United Methodist Church\, 19285 Holland Glade Road\, Rehoboth Beach\, DE\, 19971\, United States
CATEGORIES:Facility Rentals
ORGANIZER;CN="Karen Mann":MAILTO:kmann@firststatecaa.org
END:VEVENT
BEGIN:VEVENT
DTSTART;TZID=America/New_York:20220713T160000
DTEND;TZID=America/New_York:20220713T180000
DTSTAMP:20260425T233418
CREATED:20220630T142332Z
LAST-MODIFIED:20220630T142332Z
UID:10006814-1657728000-1657735200@epworth.faith
SUMMARY:First State Tutoring (Branford Lounge & Youth Room)
DESCRIPTION:
URL:https://epworth.faith/event/first-state-tutoring-branford-lounge-youth-room-2/2022-07-13/
LOCATION:Epworth United Methodist Church\, 19285 Holland Glade Road\, Rehoboth Beach\, DE\, 19971\, United States
CATEGORIES:Facility Rentals
ORGANIZER;CN="Karen Mann":MAILTO:kmann@firststatecaa.org
END:VEVENT
BEGIN:VEVENT
DTSTART;TZID=America/New_York:20220712T160000
DTEND;TZID=America/New_York:20220712T180000
DTSTAMP:20260425T233418
CREATED:20220630T142222Z
LAST-MODIFIED:20220630T142222Z
UID:10006808-1657641600-1657648800@epworth.faith
SUMMARY:First State Tutoring (Branford Lounge & Youth Room)
DESCRIPTION:
URL:https://epworth.faith/event/first-state-tutoring-branford-lounge-youth-room/2022-07-12/
LOCATION:Epworth United Methodist Church\, 19285 Holland Glade Road\, Rehoboth Beach\, DE\, 19971\, United States
CATEGORIES:Facility Rentals
ORGANIZER;CN="Karen Mann":MAILTO:kmann@firststatecaa.org
END:VEVENT
BEGIN:VEVENT
DTSTART;TZID=America/New_York:20220707T090000
DTEND;TZID=America/New_York:20220707T130000
DTSTAMP:20260425T233418
CREATED:20220630T142432Z
LAST-MODIFIED:20220728T162225Z
UID:10006819-1657184400-1657198800@epworth.faith
SUMMARY:First State Tutoring (Branford Lounge & Youth Room)
DESCRIPTION:
URL:https://epworth.faith/event/first-state-tutoring-branford-lounge-youth-room-3/2022-07-07/
LOCATION:Epworth United Methodist Church\, 19285 Holland Glade Road\, Rehoboth Beach\, DE\, 19971\, United States
CATEGORIES:Facility Rentals
ORGANIZER;CN="Karen Mann":MAILTO:kmann@firststatecaa.org
END:VEVENT
BEGIN:VEVENT
DTSTART;TZID=America/New_York:20220706T160000
DTEND;TZID=America/New_York:20220706T180000
DTSTAMP:20260425T233418
CREATED:20220630T142332Z
LAST-MODIFIED:20220630T142332Z
UID:10006813-1657123200-1657130400@epworth.faith
SUMMARY:First State Tutoring (Branford Lounge & Youth Room)
DESCRIPTION:
URL:https://epworth.faith/event/first-state-tutoring-branford-lounge-youth-room-2/2022-07-06/
LOCATION:Epworth United Methodist Church\, 19285 Holland Glade Road\, Rehoboth Beach\, DE\, 19971\, United States
CATEGORIES:Facility Rentals
ORGANIZER;CN="Karen Mann":MAILTO:kmann@firststatecaa.org
END:VEVENT
BEGIN:VEVENT
DTSTART;TZID=America/New_York:20220705T160000
DTEND;TZID=America/New_York:20220705T180000
DTSTAMP:20260425T233418
CREATED:20220630T142222Z
LAST-MODIFIED:20220630T142222Z
UID:10006807-1657036800-1657044000@epworth.faith
SUMMARY:First State Tutoring (Branford Lounge & Youth Room)
DESCRIPTION:
URL:https://epworth.faith/event/first-state-tutoring-branford-lounge-youth-room/2022-07-05/
LOCATION:Epworth United Methodist Church\, 19285 Holland Glade Road\, Rehoboth Beach\, DE\, 19971\, United States
CATEGORIES:Facility Rentals
ORGANIZER;CN="Karen Mann":MAILTO:kmann@firststatecaa.org
END:VEVENT
END:VCALENDAR