BEGIN:VCALENDAR
VERSION:2.0
PRODID:-//Epworth UMC - ECPv6.15.20//NONSGML v1.0//EN
CALSCALE:GREGORIAN
METHOD:PUBLISH
X-WR-CALNAME:Epworth UMC
X-ORIGINAL-URL:https://epworth.faith
X-WR-CALDESC:Events for Epworth UMC
REFRESH-INTERVAL;VALUE=DURATION:PT1H
X-Robots-Tag:noindex
X-PUBLISHED-TTL:PT1H
BEGIN:VTIMEZONE
TZID:America/New_York
BEGIN:DAYLIGHT
TZOFFSETFROM:-0500
TZOFFSETTO:-0400
TZNAME:EDT
DTSTART:20210314T070000
END:DAYLIGHT
BEGIN:STANDARD
TZOFFSETFROM:-0400
TZOFFSETTO:-0500
TZNAME:EST
DTSTART:20211107T060000
END:STANDARD
BEGIN:DAYLIGHT
TZOFFSETFROM:-0500
TZOFFSETTO:-0400
TZNAME:EDT
DTSTART:20220313T070000
END:DAYLIGHT
BEGIN:STANDARD
TZOFFSETFROM:-0400
TZOFFSETTO:-0500
TZNAME:EST
DTSTART:20221106T060000
END:STANDARD
BEGIN:DAYLIGHT
TZOFFSETFROM:-0500
TZOFFSETTO:-0400
TZNAME:EDT
DTSTART:20230312T070000
END:DAYLIGHT
BEGIN:STANDARD
TZOFFSETFROM:-0400
TZOFFSETTO:-0500
TZNAME:EST
DTSTART:20231105T060000
END:STANDARD
BEGIN:DAYLIGHT
TZOFFSETFROM:-0500
TZOFFSETTO:-0400
TZNAME:EDT
DTSTART:20240310T070000
END:DAYLIGHT
BEGIN:STANDARD
TZOFFSETFROM:-0400
TZOFFSETTO:-0500
TZNAME:EST
DTSTART:20241103T060000
END:STANDARD
BEGIN:DAYLIGHT
TZOFFSETFROM:-0500
TZOFFSETTO:-0400
TZNAME:EDT
DTSTART:20250309T070000
END:DAYLIGHT
BEGIN:STANDARD
TZOFFSETFROM:-0400
TZOFFSETTO:-0500
TZNAME:EST
DTSTART:20251102T060000
END:STANDARD
END:VTIMEZONE
BEGIN:VEVENT
DTSTART;TZID=America/New_York:20240413T180000
DTEND;TZID=America/New_York:20240413T180000
DTSTAMP:20260425T104212
CREATED:20231211T220725Z
LAST-MODIFIED:20231211T220725Z
UID:10011566-1713031200-1713031200@epworth.faith
SUMMARY:AA (Branford Lounge)
DESCRIPTION:
URL:https://epworth.faith/event/aa-branford-lounge-3/2024-04-13/
LOCATION:Epworth United Methodist Church\, 19285 Holland Glade Road\, Rehoboth Beach\, DE\, 19971\, United States
CATEGORIES:Facility Rentals,Neighborhood/Community Groups
ORGANIZER;CN="Larry Karnbach":MAILTO:aklk22@verizon.net
END:VEVENT
BEGIN:VEVENT
DTSTART;TZID=America/New_York:20240406T180000
DTEND;TZID=America/New_York:20240406T180000
DTSTAMP:20260425T104212
CREATED:20231211T220725Z
LAST-MODIFIED:20231211T220725Z
UID:10011565-1712426400-1712426400@epworth.faith
SUMMARY:AA (Branford Lounge)
DESCRIPTION:
URL:https://epworth.faith/event/aa-branford-lounge-3/2024-04-06/
LOCATION:Epworth United Methodist Church\, 19285 Holland Glade Road\, Rehoboth Beach\, DE\, 19971\, United States
CATEGORIES:Facility Rentals,Neighborhood/Community Groups
ORGANIZER;CN="Larry Karnbach":MAILTO:aklk22@verizon.net
END:VEVENT
BEGIN:VEVENT
DTSTART;TZID=America/New_York:20240330T180000
DTEND;TZID=America/New_York:20240330T180000
DTSTAMP:20260425T104212
CREATED:20231211T220725Z
LAST-MODIFIED:20231211T220725Z
UID:10011564-1711821600-1711821600@epworth.faith
SUMMARY:AA (Branford Lounge)
DESCRIPTION:
URL:https://epworth.faith/event/aa-branford-lounge-3/2024-03-30/
LOCATION:Epworth United Methodist Church\, 19285 Holland Glade Road\, Rehoboth Beach\, DE\, 19971\, United States
CATEGORIES:Facility Rentals,Neighborhood/Community Groups
ORGANIZER;CN="Larry Karnbach":MAILTO:aklk22@verizon.net
END:VEVENT
BEGIN:VEVENT
DTSTART;TZID=America/New_York:20240323T180000
DTEND;TZID=America/New_York:20240323T180000
DTSTAMP:20260425T104212
CREATED:20231211T220725Z
LAST-MODIFIED:20231211T220725Z
UID:10011563-1711216800-1711216800@epworth.faith
SUMMARY:AA (Branford Lounge)
DESCRIPTION:
URL:https://epworth.faith/event/aa-branford-lounge-3/2024-03-23/
LOCATION:Epworth United Methodist Church\, 19285 Holland Glade Road\, Rehoboth Beach\, DE\, 19971\, United States
CATEGORIES:Facility Rentals,Neighborhood/Community Groups
ORGANIZER;CN="Larry Karnbach":MAILTO:aklk22@verizon.net
END:VEVENT
BEGIN:VEVENT
DTSTART;TZID=America/New_York:20240316T180000
DTEND;TZID=America/New_York:20240316T180000
DTSTAMP:20260425T104212
CREATED:20231211T220725Z
LAST-MODIFIED:20231211T220725Z
UID:10011562-1710612000-1710612000@epworth.faith
SUMMARY:AA (Branford Lounge)
DESCRIPTION:
URL:https://epworth.faith/event/aa-branford-lounge-3/2024-03-16/
LOCATION:Epworth United Methodist Church\, 19285 Holland Glade Road\, Rehoboth Beach\, DE\, 19971\, United States
CATEGORIES:Facility Rentals,Neighborhood/Community Groups
ORGANIZER;CN="Larry Karnbach":MAILTO:aklk22@verizon.net
END:VEVENT
BEGIN:VEVENT
DTSTART;TZID=America/New_York:20240309T180000
DTEND;TZID=America/New_York:20240309T180000
DTSTAMP:20260425T104212
CREATED:20231211T220725Z
LAST-MODIFIED:20231211T220725Z
UID:10011561-1710007200-1710007200@epworth.faith
SUMMARY:AA (Branford Lounge)
DESCRIPTION:
URL:https://epworth.faith/event/aa-branford-lounge-3/2024-03-09/
LOCATION:Epworth United Methodist Church\, 19285 Holland Glade Road\, Rehoboth Beach\, DE\, 19971\, United States
CATEGORIES:Facility Rentals,Neighborhood/Community Groups
ORGANIZER;CN="Larry Karnbach":MAILTO:aklk22@verizon.net
END:VEVENT
BEGIN:VEVENT
DTSTART;TZID=America/New_York:20240302T180000
DTEND;TZID=America/New_York:20240302T180000
DTSTAMP:20260425T104212
CREATED:20231211T220725Z
LAST-MODIFIED:20231211T220725Z
UID:10011560-1709402400-1709402400@epworth.faith
SUMMARY:AA (Branford Lounge)
DESCRIPTION:
URL:https://epworth.faith/event/aa-branford-lounge-3/2024-03-02/
LOCATION:Epworth United Methodist Church\, 19285 Holland Glade Road\, Rehoboth Beach\, DE\, 19971\, United States
CATEGORIES:Facility Rentals,Neighborhood/Community Groups
ORGANIZER;CN="Larry Karnbach":MAILTO:aklk22@verizon.net
END:VEVENT
BEGIN:VEVENT
DTSTART;TZID=America/New_York:20240224T180000
DTEND;TZID=America/New_York:20240224T180000
DTSTAMP:20260425T104212
CREATED:20231211T220725Z
LAST-MODIFIED:20231211T220725Z
UID:10011559-1708797600-1708797600@epworth.faith
SUMMARY:AA (Branford Lounge)
DESCRIPTION:
URL:https://epworth.faith/event/aa-branford-lounge-3/2024-02-24/
LOCATION:Epworth United Methodist Church\, 19285 Holland Glade Road\, Rehoboth Beach\, DE\, 19971\, United States
CATEGORIES:Facility Rentals,Neighborhood/Community Groups
ORGANIZER;CN="Larry Karnbach":MAILTO:aklk22@verizon.net
END:VEVENT
BEGIN:VEVENT
DTSTART;TZID=America/New_York:20240217T180000
DTEND;TZID=America/New_York:20240217T180000
DTSTAMP:20260425T104212
CREATED:20231211T220725Z
LAST-MODIFIED:20231211T220725Z
UID:10011558-1708192800-1708192800@epworth.faith
SUMMARY:AA (Branford Lounge)
DESCRIPTION:
URL:https://epworth.faith/event/aa-branford-lounge-3/2024-02-17/
LOCATION:Epworth United Methodist Church\, 19285 Holland Glade Road\, Rehoboth Beach\, DE\, 19971\, United States
CATEGORIES:Facility Rentals,Neighborhood/Community Groups
ORGANIZER;CN="Larry Karnbach":MAILTO:aklk22@verizon.net
END:VEVENT
BEGIN:VEVENT
DTSTART;TZID=America/New_York:20240210T180000
DTEND;TZID=America/New_York:20240210T180000
DTSTAMP:20260425T104212
CREATED:20231211T220725Z
LAST-MODIFIED:20231211T220725Z
UID:10011557-1707588000-1707588000@epworth.faith
SUMMARY:AA (Branford Lounge)
DESCRIPTION:
URL:https://epworth.faith/event/aa-branford-lounge-3/2024-02-10/
LOCATION:Epworth United Methodist Church\, 19285 Holland Glade Road\, Rehoboth Beach\, DE\, 19971\, United States
CATEGORIES:Facility Rentals,Neighborhood/Community Groups
ORGANIZER;CN="Larry Karnbach":MAILTO:aklk22@verizon.net
END:VEVENT
BEGIN:VEVENT
DTSTART;TZID=America/New_York:20240203T180000
DTEND;TZID=America/New_York:20240203T180000
DTSTAMP:20260425T104212
CREATED:20231211T220725Z
LAST-MODIFIED:20231211T220725Z
UID:10011556-1706983200-1706983200@epworth.faith
SUMMARY:AA (Branford Lounge)
DESCRIPTION:
URL:https://epworth.faith/event/aa-branford-lounge-3/2024-02-03/
LOCATION:Epworth United Methodist Church\, 19285 Holland Glade Road\, Rehoboth Beach\, DE\, 19971\, United States
CATEGORIES:Facility Rentals,Neighborhood/Community Groups
ORGANIZER;CN="Larry Karnbach":MAILTO:aklk22@verizon.net
END:VEVENT
BEGIN:VEVENT
DTSTART;TZID=America/New_York:20240127T180000
DTEND;TZID=America/New_York:20240127T180000
DTSTAMP:20260425T104212
CREATED:20231211T220725Z
LAST-MODIFIED:20231211T220725Z
UID:10011555-1706378400-1706378400@epworth.faith
SUMMARY:AA (Branford Lounge)
DESCRIPTION:
URL:https://epworth.faith/event/aa-branford-lounge-3/2024-01-27/
LOCATION:Epworth United Methodist Church\, 19285 Holland Glade Road\, Rehoboth Beach\, DE\, 19971\, United States
CATEGORIES:Facility Rentals,Neighborhood/Community Groups
ORGANIZER;CN="Larry Karnbach":MAILTO:aklk22@verizon.net
END:VEVENT
BEGIN:VEVENT
DTSTART;TZID=America/New_York:20240120T180000
DTEND;TZID=America/New_York:20240120T180000
DTSTAMP:20260425T104212
CREATED:20231211T220725Z
LAST-MODIFIED:20231211T220725Z
UID:10011554-1705773600-1705773600@epworth.faith
SUMMARY:AA (Branford Lounge)
DESCRIPTION:
URL:https://epworth.faith/event/aa-branford-lounge-3/2024-01-20/
LOCATION:Epworth United Methodist Church\, 19285 Holland Glade Road\, Rehoboth Beach\, DE\, 19971\, United States
CATEGORIES:Facility Rentals,Neighborhood/Community Groups
ORGANIZER;CN="Larry Karnbach":MAILTO:aklk22@verizon.net
END:VEVENT
BEGIN:VEVENT
DTSTART;TZID=America/New_York:20240113T180000
DTEND;TZID=America/New_York:20240113T180000
DTSTAMP:20260425T104212
CREATED:20231211T220725Z
LAST-MODIFIED:20231211T220725Z
UID:10011553-1705168800-1705168800@epworth.faith
SUMMARY:AA (Branford Lounge)
DESCRIPTION:
URL:https://epworth.faith/event/aa-branford-lounge-3/2024-01-13/
LOCATION:Epworth United Methodist Church\, 19285 Holland Glade Road\, Rehoboth Beach\, DE\, 19971\, United States
CATEGORIES:Facility Rentals,Neighborhood/Community Groups
ORGANIZER;CN="Larry Karnbach":MAILTO:aklk22@verizon.net
END:VEVENT
BEGIN:VEVENT
DTSTART;TZID=America/New_York:20240106T180000
DTEND;TZID=America/New_York:20240106T180000
DTSTAMP:20260425T104212
CREATED:20231211T220725Z
LAST-MODIFIED:20231211T220725Z
UID:10011552-1704564000-1704564000@epworth.faith
SUMMARY:AA (Branford Lounge)
DESCRIPTION:
URL:https://epworth.faith/event/aa-branford-lounge-3/2024-01-06/
LOCATION:Epworth United Methodist Church\, 19285 Holland Glade Road\, Rehoboth Beach\, DE\, 19971\, United States
CATEGORIES:Facility Rentals,Neighborhood/Community Groups
ORGANIZER;CN="Larry Karnbach":MAILTO:aklk22@verizon.net
END:VEVENT
BEGIN:VEVENT
DTSTART;TZID=America/New_York:20221231T180000
DTEND;TZID=America/New_York:20221231T190000
DTSTAMP:20260425T104212
CREATED:20221115T162912Z
LAST-MODIFIED:20221115T162912Z
UID:10007034-1672509600-1672513200@epworth.faith
SUMMARY:AA Saturday Evening (Music Wing)
DESCRIPTION:
URL:https://epworth.faith/event/aa-saturday-evening-music-wing/2022-12-31/
LOCATION:Epworth United Methodist Church\, 19285 Holland Glade Road\, Rehoboth Beach\, DE\, 19971\, United States
CATEGORIES:Facility Rentals
ORGANIZER;CN="Larry Karnbach":MAILTO:aklk22@verizon.net
END:VEVENT
BEGIN:VEVENT
DTSTART;TZID=America/New_York:20221224T180000
DTEND;TZID=America/New_York:20221224T190000
DTSTAMP:20260425T104212
CREATED:20221115T162912Z
LAST-MODIFIED:20221115T162912Z
UID:10007033-1671904800-1671908400@epworth.faith
SUMMARY:AA Saturday Evening (Music Wing)
DESCRIPTION:
URL:https://epworth.faith/event/aa-saturday-evening-music-wing/2022-12-24/
LOCATION:Epworth United Methodist Church\, 19285 Holland Glade Road\, Rehoboth Beach\, DE\, 19971\, United States
CATEGORIES:Facility Rentals
ORGANIZER;CN="Larry Karnbach":MAILTO:aklk22@verizon.net
END:VEVENT
BEGIN:VEVENT
DTSTART;TZID=America/New_York:20221217T180000
DTEND;TZID=America/New_York:20221217T190000
DTSTAMP:20260425T104212
CREATED:20221115T162912Z
LAST-MODIFIED:20221115T162912Z
UID:10007032-1671300000-1671303600@epworth.faith
SUMMARY:AA Saturday Evening (Music Wing)
DESCRIPTION:
URL:https://epworth.faith/event/aa-saturday-evening-music-wing/2022-12-17/
LOCATION:Epworth United Methodist Church\, 19285 Holland Glade Road\, Rehoboth Beach\, DE\, 19971\, United States
CATEGORIES:Facility Rentals
ORGANIZER;CN="Larry Karnbach":MAILTO:aklk22@verizon.net
END:VEVENT
BEGIN:VEVENT
DTSTART;TZID=America/New_York:20221210T180000
DTEND;TZID=America/New_York:20221210T190000
DTSTAMP:20260425T104212
CREATED:20221115T162912Z
LAST-MODIFIED:20221115T162912Z
UID:10007031-1670695200-1670698800@epworth.faith
SUMMARY:AA Saturday Evening (Music Wing)
DESCRIPTION:
URL:https://epworth.faith/event/aa-saturday-evening-music-wing/2022-12-10/
LOCATION:Epworth United Methodist Church\, 19285 Holland Glade Road\, Rehoboth Beach\, DE\, 19971\, United States
CATEGORIES:Facility Rentals
ORGANIZER;CN="Larry Karnbach":MAILTO:aklk22@verizon.net
END:VEVENT
BEGIN:VEVENT
DTSTART;TZID=America/New_York:20221203T180000
DTEND;TZID=America/New_York:20221203T190000
DTSTAMP:20260425T104212
CREATED:20221115T162912Z
LAST-MODIFIED:20221115T162912Z
UID:10007030-1670090400-1670094000@epworth.faith
SUMMARY:AA Saturday Evening (Music Wing)
DESCRIPTION:
URL:https://epworth.faith/event/aa-saturday-evening-music-wing/2022-12-03/
LOCATION:Epworth United Methodist Church\, 19285 Holland Glade Road\, Rehoboth Beach\, DE\, 19971\, United States
CATEGORIES:Facility Rentals
ORGANIZER;CN="Larry Karnbach":MAILTO:aklk22@verizon.net
END:VEVENT
BEGIN:VEVENT
DTSTART;TZID=America/New_York:20221126T180000
DTEND;TZID=America/New_York:20221126T190000
DTSTAMP:20260425T104212
CREATED:20221115T162912Z
LAST-MODIFIED:20221115T162912Z
UID:10007029-1669485600-1669489200@epworth.faith
SUMMARY:AA Saturday Evening (Music Wing)
DESCRIPTION:
URL:https://epworth.faith/event/aa-saturday-evening-music-wing/2022-11-26/
LOCATION:Epworth United Methodist Church\, 19285 Holland Glade Road\, Rehoboth Beach\, DE\, 19971\, United States
CATEGORIES:Facility Rentals
ORGANIZER;CN="Larry Karnbach":MAILTO:aklk22@verizon.net
END:VEVENT
BEGIN:VEVENT
DTSTART;TZID=America/New_York:20221119T180000
DTEND;TZID=America/New_York:20221119T190000
DTSTAMP:20260425T104212
CREATED:20221115T162912Z
LAST-MODIFIED:20221115T162912Z
UID:10007028-1668880800-1668884400@epworth.faith
SUMMARY:AA Saturday Evening (Music Wing)
DESCRIPTION:
URL:https://epworth.faith/event/aa-saturday-evening-music-wing/2022-11-19/
LOCATION:Epworth United Methodist Church\, 19285 Holland Glade Road\, Rehoboth Beach\, DE\, 19971\, United States
CATEGORIES:Facility Rentals
ORGANIZER;CN="Larry Karnbach":MAILTO:aklk22@verizon.net
END:VEVENT
END:VCALENDAR