BEGIN:VCALENDAR
VERSION:2.0
PRODID:-//Epworth UMC - ECPv6.15.20//NONSGML v1.0//EN
CALSCALE:GREGORIAN
METHOD:PUBLISH
X-WR-CALNAME:Epworth UMC
X-ORIGINAL-URL:https://epworth.faith
X-WR-CALDESC:Events for Epworth UMC
REFRESH-INTERVAL;VALUE=DURATION:PT1H
X-Robots-Tag:noindex
X-PUBLISHED-TTL:PT1H
BEGIN:VTIMEZONE
TZID:America/New_York
BEGIN:DAYLIGHT
TZOFFSETFROM:-0500
TZOFFSETTO:-0400
TZNAME:EDT
DTSTART:20210314T070000
END:DAYLIGHT
BEGIN:STANDARD
TZOFFSETFROM:-0400
TZOFFSETTO:-0500
TZNAME:EST
DTSTART:20211107T060000
END:STANDARD
BEGIN:DAYLIGHT
TZOFFSETFROM:-0500
TZOFFSETTO:-0400
TZNAME:EDT
DTSTART:20220313T070000
END:DAYLIGHT
BEGIN:STANDARD
TZOFFSETFROM:-0400
TZOFFSETTO:-0500
TZNAME:EST
DTSTART:20221106T060000
END:STANDARD
BEGIN:DAYLIGHT
TZOFFSETFROM:-0500
TZOFFSETTO:-0400
TZNAME:EDT
DTSTART:20230312T070000
END:DAYLIGHT
BEGIN:STANDARD
TZOFFSETFROM:-0400
TZOFFSETTO:-0500
TZNAME:EST
DTSTART:20231105T060000
END:STANDARD
BEGIN:DAYLIGHT
TZOFFSETFROM:-0500
TZOFFSETTO:-0400
TZNAME:EDT
DTSTART:20240310T070000
END:DAYLIGHT
BEGIN:STANDARD
TZOFFSETFROM:-0400
TZOFFSETTO:-0500
TZNAME:EST
DTSTART:20241103T060000
END:STANDARD
BEGIN:DAYLIGHT
TZOFFSETFROM:-0500
TZOFFSETTO:-0400
TZNAME:EDT
DTSTART:20250309T070000
END:DAYLIGHT
BEGIN:STANDARD
TZOFFSETFROM:-0400
TZOFFSETTO:-0500
TZNAME:EST
DTSTART:20251102T060000
END:STANDARD
END:VTIMEZONE
BEGIN:VEVENT
DTSTART;TZID=America/New_York:20240625T180000
DTEND;TZID=America/New_York:20240625T200000
DTSTAMP:20260424T090012
CREATED:20230525T150430Z
LAST-MODIFIED:20230525T150430Z
UID:10008706-1719338400-1719345600@epworth.faith
SUMMARY:Governing Board (Zoom Meeting)
DESCRIPTION:
URL:https://epworth.faith/event/governing-board-zoom-meeting-2/2024-06-25/
LOCATION:Epworth United Methodist Church\, 19285 Holland Glade Road\, Rehoboth Beach\, DE\, 19971\, United States
CATEGORIES:Groups
ORGANIZER;CN="Linda Kauffman":MAILTO:llkauffman@verizon.net
END:VEVENT
BEGIN:VEVENT
DTSTART;TZID=America/New_York:20240528T180000
DTEND;TZID=America/New_York:20240528T200000
DTSTAMP:20260424T090012
CREATED:20230525T150430Z
LAST-MODIFIED:20230525T150430Z
UID:10008705-1716919200-1716926400@epworth.faith
SUMMARY:Governing Board (Zoom Meeting)
DESCRIPTION:
URL:https://epworth.faith/event/governing-board-zoom-meeting-2/2024-05-28/
LOCATION:Epworth United Methodist Church\, 19285 Holland Glade Road\, Rehoboth Beach\, DE\, 19971\, United States
CATEGORIES:Groups
ORGANIZER;CN="Linda Kauffman":MAILTO:llkauffman@verizon.net
END:VEVENT
BEGIN:VEVENT
DTSTART;TZID=America/New_York:20240423T180000
DTEND;TZID=America/New_York:20240423T200000
DTSTAMP:20260424T090012
CREATED:20230525T150430Z
LAST-MODIFIED:20230525T150430Z
UID:10008704-1713895200-1713902400@epworth.faith
SUMMARY:Governing Board (Zoom Meeting)
DESCRIPTION:
URL:https://epworth.faith/event/governing-board-zoom-meeting-2/2024-04-23/
LOCATION:Epworth United Methodist Church\, 19285 Holland Glade Road\, Rehoboth Beach\, DE\, 19971\, United States
CATEGORIES:Groups
ORGANIZER;CN="Linda Kauffman":MAILTO:llkauffman@verizon.net
END:VEVENT
BEGIN:VEVENT
DTSTART;TZID=America/New_York:20240415T130000
DTEND;TZID=America/New_York:20240415T150000
DTSTAMP:20260424T090012
CREATED:20240408T125357Z
LAST-MODIFIED:20240408T125357Z
UID:10012645-1713186000-1713193200@epworth.faith
SUMMARY:Finance Meeting (Office Conference Room)
DESCRIPTION:
URL:https://epworth.faith/event/finance-meeting-office-conference-room/
LOCATION:Epworth United Methodist Church\, 19285 Holland Glade Road\, Rehoboth Beach\, DE\, 19971\, United States
CATEGORIES:Church,Staff
ORGANIZER;CN="Linda Kauffman":MAILTO:llkauffman@verizon.net
END:VEVENT
BEGIN:VEVENT
DTSTART;TZID=America/New_York:20240326T180000
DTEND;TZID=America/New_York:20240326T200000
DTSTAMP:20260424T090012
CREATED:20230525T150430Z
LAST-MODIFIED:20230525T150430Z
UID:10008703-1711476000-1711483200@epworth.faith
SUMMARY:Governing Board (Zoom Meeting)
DESCRIPTION:
URL:https://epworth.faith/event/governing-board-zoom-meeting-2/2024-03-26/
LOCATION:Epworth United Methodist Church\, 19285 Holland Glade Road\, Rehoboth Beach\, DE\, 19971\, United States
CATEGORIES:Groups
ORGANIZER;CN="Linda Kauffman":MAILTO:llkauffman@verizon.net
END:VEVENT
BEGIN:VEVENT
DTSTART;TZID=America/New_York:20240227T180000
DTEND;TZID=America/New_York:20240227T200000
DTSTAMP:20260424T090012
CREATED:20230525T150430Z
LAST-MODIFIED:20230525T150430Z
UID:10008702-1709056800-1709064000@epworth.faith
SUMMARY:Governing Board (Zoom Meeting)
DESCRIPTION:
URL:https://epworth.faith/event/governing-board-zoom-meeting-2/2024-02-27/
LOCATION:Epworth United Methodist Church\, 19285 Holland Glade Road\, Rehoboth Beach\, DE\, 19971\, United States
CATEGORIES:Groups
ORGANIZER;CN="Linda Kauffman":MAILTO:llkauffman@verizon.net
END:VEVENT
BEGIN:VEVENT
DTSTART;TZID=America/New_York:20240123T180000
DTEND;TZID=America/New_York:20240123T200000
DTSTAMP:20260424T090012
CREATED:20230525T150430Z
LAST-MODIFIED:20230525T150430Z
UID:10008701-1706032800-1706040000@epworth.faith
SUMMARY:Governing Board (Zoom Meeting)
DESCRIPTION:
URL:https://epworth.faith/event/governing-board-zoom-meeting-2/2024-01-23/
LOCATION:Epworth United Methodist Church\, 19285 Holland Glade Road\, Rehoboth Beach\, DE\, 19971\, United States
CATEGORIES:Groups
ORGANIZER;CN="Linda Kauffman":MAILTO:llkauffman@verizon.net
END:VEVENT
BEGIN:VEVENT
DTSTART;TZID=America/New_York:20231226T180000
DTEND;TZID=America/New_York:20231226T200000
DTSTAMP:20260424T090012
CREATED:20230525T150430Z
LAST-MODIFIED:20230525T150430Z
UID:10008700-1703613600-1703620800@epworth.faith
SUMMARY:Governing Board (Zoom Meeting)
DESCRIPTION:
URL:https://epworth.faith/event/governing-board-zoom-meeting-2/2023-12-26/
LOCATION:Epworth United Methodist Church\, 19285 Holland Glade Road\, Rehoboth Beach\, DE\, 19971\, United States
CATEGORIES:Groups
ORGANIZER;CN="Linda Kauffman":MAILTO:llkauffman@verizon.net
END:VEVENT
BEGIN:VEVENT
DTSTART;TZID=America/New_York:20231128T180000
DTEND;TZID=America/New_York:20231128T200000
DTSTAMP:20260424T090012
CREATED:20230525T150430Z
LAST-MODIFIED:20230525T150430Z
UID:10008699-1701194400-1701201600@epworth.faith
SUMMARY:Governing Board (Zoom Meeting)
DESCRIPTION:
URL:https://epworth.faith/event/governing-board-zoom-meeting-2/2023-11-28/
LOCATION:Epworth United Methodist Church\, 19285 Holland Glade Road\, Rehoboth Beach\, DE\, 19971\, United States
CATEGORIES:Groups
ORGANIZER;CN="Linda Kauffman":MAILTO:llkauffman@verizon.net
END:VEVENT
BEGIN:VEVENT
DTSTART;TZID=America/New_York:20231024T180000
DTEND;TZID=America/New_York:20231024T200000
DTSTAMP:20260424T090012
CREATED:20230525T150430Z
LAST-MODIFIED:20230525T150430Z
UID:10008698-1698170400-1698177600@epworth.faith
SUMMARY:Governing Board (Zoom Meeting)
DESCRIPTION:
URL:https://epworth.faith/event/governing-board-zoom-meeting-2/2023-10-24/
LOCATION:Epworth United Methodist Church\, 19285 Holland Glade Road\, Rehoboth Beach\, DE\, 19971\, United States
CATEGORIES:Groups
ORGANIZER;CN="Linda Kauffman":MAILTO:llkauffman@verizon.net
END:VEVENT
BEGIN:VEVENT
DTSTART;TZID=America/New_York:20230926T180000
DTEND;TZID=America/New_York:20230926T200000
DTSTAMP:20260424T090012
CREATED:20230525T150430Z
LAST-MODIFIED:20230525T150430Z
UID:10008697-1695751200-1695758400@epworth.faith
SUMMARY:Governing Board (Zoom Meeting)
DESCRIPTION:
URL:https://epworth.faith/event/governing-board-zoom-meeting-2/2023-09-26/
LOCATION:Epworth United Methodist Church\, 19285 Holland Glade Road\, Rehoboth Beach\, DE\, 19971\, United States
CATEGORIES:Groups
ORGANIZER;CN="Linda Kauffman":MAILTO:llkauffman@verizon.net
END:VEVENT
BEGIN:VEVENT
DTSTART;TZID=America/New_York:20230822T180000
DTEND;TZID=America/New_York:20230822T200000
DTSTAMP:20260424T090012
CREATED:20230525T150430Z
LAST-MODIFIED:20230525T150430Z
UID:10008696-1692727200-1692734400@epworth.faith
SUMMARY:Governing Board (Zoom Meeting)
DESCRIPTION:
URL:https://epworth.faith/event/governing-board-zoom-meeting-2/2023-08-22/
LOCATION:Epworth United Methodist Church\, 19285 Holland Glade Road\, Rehoboth Beach\, DE\, 19971\, United States
CATEGORIES:Groups
ORGANIZER;CN="Linda Kauffman":MAILTO:llkauffman@verizon.net
END:VEVENT
BEGIN:VEVENT
DTSTART;TZID=America/New_York:20230725T180000
DTEND;TZID=America/New_York:20230725T200000
DTSTAMP:20260424T090012
CREATED:20230525T150430Z
LAST-MODIFIED:20230525T150430Z
UID:10008695-1690308000-1690315200@epworth.faith
SUMMARY:Governing Board (Zoom Meeting)
DESCRIPTION:
URL:https://epworth.faith/event/governing-board-zoom-meeting-2/2023-07-25/
LOCATION:Epworth United Methodist Church\, 19285 Holland Glade Road\, Rehoboth Beach\, DE\, 19971\, United States
CATEGORIES:Groups
ORGANIZER;CN="Linda Kauffman":MAILTO:llkauffman@verizon.net
END:VEVENT
BEGIN:VEVENT
DTSTART;TZID=America/New_York:20230627T180000
DTEND;TZID=America/New_York:20230627T200000
DTSTAMP:20260424T090012
CREATED:20221214T151222Z
LAST-MODIFIED:20221214T151222Z
UID:10006304-1687888800-1687896000@epworth.faith
SUMMARY:Governing Board (Zoom Meeting)
DESCRIPTION:
URL:https://epworth.faith/event/governing-board-zoom-meeting/2023-06-27/
LOCATION:Epworth United Methodist Church\, 19285 Holland Glade Road\, Rehoboth Beach\, DE\, 19971\, United States
CATEGORIES:Groups
ORGANIZER;CN="Linda Kauffman":MAILTO:llkauffman@verizon.net
END:VEVENT
BEGIN:VEVENT
DTSTART;TZID=America/New_York:20230523T180000
DTEND;TZID=America/New_York:20230523T200000
DTSTAMP:20260424T090012
CREATED:20221214T151222Z
LAST-MODIFIED:20221214T151222Z
UID:10006303-1684864800-1684872000@epworth.faith
SUMMARY:Governing Board (Zoom Meeting)
DESCRIPTION:
URL:https://epworth.faith/event/governing-board-zoom-meeting/2023-05-23/
LOCATION:Epworth United Methodist Church\, 19285 Holland Glade Road\, Rehoboth Beach\, DE\, 19971\, United States
CATEGORIES:Groups
ORGANIZER;CN="Linda Kauffman":MAILTO:llkauffman@verizon.net
END:VEVENT
BEGIN:VEVENT
DTSTART;TZID=America/New_York:20230425T180000
DTEND;TZID=America/New_York:20230425T200000
DTSTAMP:20260424T090012
CREATED:20221214T151222Z
LAST-MODIFIED:20221214T151222Z
UID:10006302-1682445600-1682452800@epworth.faith
SUMMARY:Governing Board (Zoom Meeting)
DESCRIPTION:
URL:https://epworth.faith/event/governing-board-zoom-meeting/2023-04-25/
LOCATION:Epworth United Methodist Church\, 19285 Holland Glade Road\, Rehoboth Beach\, DE\, 19971\, United States
CATEGORIES:Groups
ORGANIZER;CN="Linda Kauffman":MAILTO:llkauffman@verizon.net
END:VEVENT
BEGIN:VEVENT
DTSTART;TZID=America/New_York:20230328T180000
DTEND;TZID=America/New_York:20230328T200000
DTSTAMP:20260424T090012
CREATED:20221214T151222Z
LAST-MODIFIED:20221214T151222Z
UID:10006301-1680026400-1680033600@epworth.faith
SUMMARY:Governing Board (Zoom Meeting)
DESCRIPTION:
URL:https://epworth.faith/event/governing-board-zoom-meeting/2023-03-28/
LOCATION:Epworth United Methodist Church\, 19285 Holland Glade Road\, Rehoboth Beach\, DE\, 19971\, United States
CATEGORIES:Groups
ORGANIZER;CN="Linda Kauffman":MAILTO:llkauffman@verizon.net
END:VEVENT
BEGIN:VEVENT
DTSTART;TZID=America/New_York:20230228T180000
DTEND;TZID=America/New_York:20230228T200000
DTSTAMP:20260424T090012
CREATED:20221214T151222Z
LAST-MODIFIED:20221214T151222Z
UID:10006300-1677607200-1677614400@epworth.faith
SUMMARY:Governing Board (Zoom Meeting)
DESCRIPTION:
URL:https://epworth.faith/event/governing-board-zoom-meeting/2023-02-28/
LOCATION:Epworth United Methodist Church\, 19285 Holland Glade Road\, Rehoboth Beach\, DE\, 19971\, United States
CATEGORIES:Groups
ORGANIZER;CN="Linda Kauffman":MAILTO:llkauffman@verizon.net
END:VEVENT
BEGIN:VEVENT
DTSTART;TZID=America/New_York:20230124T180000
DTEND;TZID=America/New_York:20230124T200000
DTSTAMP:20260424T090012
CREATED:20221214T151222Z
LAST-MODIFIED:20221214T151222Z
UID:10006299-1674583200-1674590400@epworth.faith
SUMMARY:Governing Board (Zoom Meeting)
DESCRIPTION:
URL:https://epworth.faith/event/governing-board-zoom-meeting/2023-01-24/
LOCATION:Epworth United Methodist Church\, 19285 Holland Glade Road\, Rehoboth Beach\, DE\, 19971\, United States
CATEGORIES:Groups
ORGANIZER;CN="Linda Kauffman":MAILTO:llkauffman@verizon.net
END:VEVENT
BEGIN:VEVENT
DTSTART;TZID=America/New_York:20221227T180000
DTEND;TZID=America/New_York:20221227T200000
DTSTAMP:20260424T090012
CREATED:20220622T194802Z
LAST-MODIFIED:20220622T194802Z
UID:10006791-1672164000-1672171200@epworth.faith
SUMMARY:Governing Board (Zoom)
DESCRIPTION:
URL:https://epworth.faith/event/governing-board-zoom/2022-12-27/
LOCATION:Epworth United Methodist Church\, 19285 Holland Glade Road\, Rehoboth Beach\, DE\, 19971\, United States
CATEGORIES:Church
ORGANIZER;CN="Linda Kauffman":MAILTO:llkauffman@verizon.net
END:VEVENT
BEGIN:VEVENT
DTSTART;TZID=America/New_York:20221122T180000
DTEND;TZID=America/New_York:20221122T200000
DTSTAMP:20260424T090012
CREATED:20220622T194802Z
LAST-MODIFIED:20220622T194802Z
UID:10006790-1669140000-1669147200@epworth.faith
SUMMARY:Governing Board (Zoom)
DESCRIPTION:
URL:https://epworth.faith/event/governing-board-zoom/2022-11-22/
LOCATION:Epworth United Methodist Church\, 19285 Holland Glade Road\, Rehoboth Beach\, DE\, 19971\, United States
CATEGORIES:Church
ORGANIZER;CN="Linda Kauffman":MAILTO:llkauffman@verizon.net
END:VEVENT
BEGIN:VEVENT
DTSTART;TZID=America/New_York:20221025T180000
DTEND;TZID=America/New_York:20221025T200000
DTSTAMP:20260424T090012
CREATED:20220622T194802Z
LAST-MODIFIED:20220622T194802Z
UID:10006789-1666720800-1666728000@epworth.faith
SUMMARY:Governing Board (Zoom)
DESCRIPTION:
URL:https://epworth.faith/event/governing-board-zoom/2022-10-25/
LOCATION:Epworth United Methodist Church\, 19285 Holland Glade Road\, Rehoboth Beach\, DE\, 19971\, United States
CATEGORIES:Church
ORGANIZER;CN="Linda Kauffman":MAILTO:llkauffman@verizon.net
END:VEVENT
BEGIN:VEVENT
DTSTART;TZID=America/New_York:20220927T180000
DTEND;TZID=America/New_York:20220927T200000
DTSTAMP:20260424T090012
CREATED:20220622T194802Z
LAST-MODIFIED:20220622T194802Z
UID:10006788-1664301600-1664308800@epworth.faith
SUMMARY:Governing Board (Zoom)
DESCRIPTION:
URL:https://epworth.faith/event/governing-board-zoom/2022-09-27/
LOCATION:Epworth United Methodist Church\, 19285 Holland Glade Road\, Rehoboth Beach\, DE\, 19971\, United States
CATEGORIES:Church
ORGANIZER;CN="Linda Kauffman":MAILTO:llkauffman@verizon.net
END:VEVENT
BEGIN:VEVENT
DTSTART;TZID=America/New_York:20220823T180000
DTEND;TZID=America/New_York:20220823T200000
DTSTAMP:20260424T090012
CREATED:20220622T194802Z
LAST-MODIFIED:20220622T194802Z
UID:10006787-1661277600-1661284800@epworth.faith
SUMMARY:Governing Board (Zoom)
DESCRIPTION:
URL:https://epworth.faith/event/governing-board-zoom/2022-08-23/
LOCATION:Epworth United Methodist Church\, 19285 Holland Glade Road\, Rehoboth Beach\, DE\, 19971\, United States
CATEGORIES:Church
ORGANIZER;CN="Linda Kauffman":MAILTO:llkauffman@verizon.net
END:VEVENT
BEGIN:VEVENT
DTSTART;TZID=America/New_York:20220726T180000
DTEND;TZID=America/New_York:20220726T200000
DTSTAMP:20260424T090012
CREATED:20220622T194802Z
LAST-MODIFIED:20220622T194802Z
UID:10006786-1658858400-1658865600@epworth.faith
SUMMARY:Governing Board (Zoom)
DESCRIPTION:
URL:https://epworth.faith/event/governing-board-zoom/2022-07-26/
LOCATION:Epworth United Methodist Church\, 19285 Holland Glade Road\, Rehoboth Beach\, DE\, 19971\, United States
CATEGORIES:Church
ORGANIZER;CN="Linda Kauffman":MAILTO:llkauffman@verizon.net
END:VEVENT
BEGIN:VEVENT
DTSTART;TZID=America/New_York:20220628T180000
DTEND;TZID=America/New_York:20220628T200000
DTSTAMP:20260424T090012
CREATED:20211007T194557Z
LAST-MODIFIED:20211007T194557Z
UID:10005004-1656439200-1656446400@epworth.faith
SUMMARY:Governing Board
DESCRIPTION:The Governing Board will be meeting via Zoom.
URL:https://epworth.faith/event/governing-board/2022-06-28/
LOCATION:Epworth United Methodist Church\, 19285 Holland Glade Road\, Rehoboth Beach\, DE\, 19971\, United States
CATEGORIES:Church
ORGANIZER;CN="Linda Kauffman":MAILTO:llkauffman@verizon.net
END:VEVENT
BEGIN:VEVENT
DTSTART;TZID=America/New_York:20220524T180000
DTEND;TZID=America/New_York:20220524T200000
DTSTAMP:20260424T090012
CREATED:20211007T194557Z
LAST-MODIFIED:20211007T194557Z
UID:10005003-1653415200-1653422400@epworth.faith
SUMMARY:Governing Board
DESCRIPTION:The Governing Board will be meeting via Zoom.
URL:https://epworth.faith/event/governing-board/2022-05-24/
LOCATION:Epworth United Methodist Church\, 19285 Holland Glade Road\, Rehoboth Beach\, DE\, 19971\, United States
CATEGORIES:Church
ORGANIZER;CN="Linda Kauffman":MAILTO:llkauffman@verizon.net
END:VEVENT
BEGIN:VEVENT
DTSTART;TZID=America/New_York:20220426T180000
DTEND;TZID=America/New_York:20220426T200000
DTSTAMP:20260424T090012
CREATED:20211007T194557Z
LAST-MODIFIED:20211007T194557Z
UID:10005002-1650996000-1651003200@epworth.faith
SUMMARY:Governing Board
DESCRIPTION:The Governing Board will be meeting via Zoom.
URL:https://epworth.faith/event/governing-board/2022-04-26/
LOCATION:Epworth United Methodist Church\, 19285 Holland Glade Road\, Rehoboth Beach\, DE\, 19971\, United States
CATEGORIES:Church
ORGANIZER;CN="Linda Kauffman":MAILTO:llkauffman@verizon.net
END:VEVENT
BEGIN:VEVENT
DTSTART;TZID=America/New_York:20220322T180000
DTEND;TZID=America/New_York:20220322T200000
DTSTAMP:20260424T090012
CREATED:20211007T194557Z
LAST-MODIFIED:20211007T194557Z
UID:10005001-1647972000-1647979200@epworth.faith
SUMMARY:Governing Board
DESCRIPTION:The Governing Board will be meeting via Zoom.
URL:https://epworth.faith/event/governing-board/2022-03-22/
LOCATION:Epworth United Methodist Church\, 19285 Holland Glade Road\, Rehoboth Beach\, DE\, 19971\, United States
CATEGORIES:Church
ORGANIZER;CN="Linda Kauffman":MAILTO:llkauffman@verizon.net
END:VEVENT
BEGIN:VEVENT
DTSTART;TZID=America/New_York:20220222T180000
DTEND;TZID=America/New_York:20220222T200000
DTSTAMP:20260424T090012
CREATED:20211007T194557Z
LAST-MODIFIED:20211007T194557Z
UID:10005000-1645552800-1645560000@epworth.faith
SUMMARY:Governing Board
DESCRIPTION:The Governing Board will be meeting via Zoom.
URL:https://epworth.faith/event/governing-board/2022-02-22/
LOCATION:Epworth United Methodist Church\, 19285 Holland Glade Road\, Rehoboth Beach\, DE\, 19971\, United States
CATEGORIES:Church
ORGANIZER;CN="Linda Kauffman":MAILTO:llkauffman@verizon.net
END:VEVENT
END:VCALENDAR