BEGIN:VCALENDAR
VERSION:2.0
PRODID:-//Epworth UMC - ECPv6.15.20//NONSGML v1.0//EN
CALSCALE:GREGORIAN
METHOD:PUBLISH
X-ORIGINAL-URL:https://epworth.faith
X-WR-CALDESC:Events for Epworth UMC
REFRESH-INTERVAL;VALUE=DURATION:PT1H
X-Robots-Tag:noindex
X-PUBLISHED-TTL:PT1H
BEGIN:VTIMEZONE
TZID:America/New_York
BEGIN:DAYLIGHT
TZOFFSETFROM:-0500
TZOFFSETTO:-0400
TZNAME:EDT
DTSTART:20210314T070000
END:DAYLIGHT
BEGIN:STANDARD
TZOFFSETFROM:-0400
TZOFFSETTO:-0500
TZNAME:EST
DTSTART:20211107T060000
END:STANDARD
BEGIN:DAYLIGHT
TZOFFSETFROM:-0500
TZOFFSETTO:-0400
TZNAME:EDT
DTSTART:20220313T070000
END:DAYLIGHT
BEGIN:STANDARD
TZOFFSETFROM:-0400
TZOFFSETTO:-0500
TZNAME:EST
DTSTART:20221106T060000
END:STANDARD
BEGIN:DAYLIGHT
TZOFFSETFROM:-0500
TZOFFSETTO:-0400
TZNAME:EDT
DTSTART:20230312T070000
END:DAYLIGHT
BEGIN:STANDARD
TZOFFSETFROM:-0400
TZOFFSETTO:-0500
TZNAME:EST
DTSTART:20231105T060000
END:STANDARD
END:VTIMEZONE
BEGIN:VEVENT
DTSTART;TZID=America/New_York:20221221T100000
DTEND;TZID=America/New_York:20221221T120000
DTSTAMP:20260425T223110
CREATED:20220809T133824Z
LAST-MODIFIED:20220809T133824Z
UID:10005892-1671616800-1671624000@epworth.faith
SUMMARY:Women's Bible Study (Branford Lounge)
DESCRIPTION:
URL:https://epworth.faith/event/womens-bible-study-branford-lounge-2/2022-12-21/
LOCATION:Epworth United Methodist Church\, 19285 Holland Glade Road\, Rehoboth Beach\, DE\, 19971\, United States
CATEGORIES:Groups
ORGANIZER;CN="Loretta Mahan":MAILTO:Rhet5@comcast.net
END:VEVENT
BEGIN:VEVENT
DTSTART;TZID=America/New_York:20221214T100000
DTEND;TZID=America/New_York:20221214T120000
DTSTAMP:20260425T223110
CREATED:20220809T133824Z
LAST-MODIFIED:20220809T133824Z
UID:10005891-1671012000-1671019200@epworth.faith
SUMMARY:Women's Bible Study (Branford Lounge)
DESCRIPTION:
URL:https://epworth.faith/event/womens-bible-study-branford-lounge-2/2022-12-14/
LOCATION:Epworth United Methodist Church\, 19285 Holland Glade Road\, Rehoboth Beach\, DE\, 19971\, United States
CATEGORIES:Groups
ORGANIZER;CN="Loretta Mahan":MAILTO:Rhet5@comcast.net
END:VEVENT
BEGIN:VEVENT
DTSTART;TZID=America/New_York:20221207T100000
DTEND;TZID=America/New_York:20221207T120000
DTSTAMP:20260425T223110
CREATED:20220809T133824Z
LAST-MODIFIED:20220809T133824Z
UID:10005890-1670407200-1670414400@epworth.faith
SUMMARY:Women's Bible Study (Branford Lounge)
DESCRIPTION:
URL:https://epworth.faith/event/womens-bible-study-branford-lounge-2/2022-12-07/
LOCATION:Epworth United Methodist Church\, 19285 Holland Glade Road\, Rehoboth Beach\, DE\, 19971\, United States
CATEGORIES:Groups
ORGANIZER;CN="Loretta Mahan":MAILTO:Rhet5@comcast.net
END:VEVENT
BEGIN:VEVENT
DTSTART;TZID=America/New_York:20221130T100000
DTEND;TZID=America/New_York:20221130T120000
DTSTAMP:20260425T223110
CREATED:20220809T133824Z
LAST-MODIFIED:20220809T133824Z
UID:10005889-1669802400-1669809600@epworth.faith
SUMMARY:Women's Bible Study (Branford Lounge)
DESCRIPTION:
URL:https://epworth.faith/event/womens-bible-study-branford-lounge-2/2022-11-30/
LOCATION:Epworth United Methodist Church\, 19285 Holland Glade Road\, Rehoboth Beach\, DE\, 19971\, United States
CATEGORIES:Groups
ORGANIZER;CN="Loretta Mahan":MAILTO:Rhet5@comcast.net
END:VEVENT
BEGIN:VEVENT
DTSTART;TZID=America/New_York:20221116T100000
DTEND;TZID=America/New_York:20221116T120000
DTSTAMP:20260425T223110
CREATED:20220809T133824Z
LAST-MODIFIED:20220809T133824Z
UID:10005888-1668592800-1668600000@epworth.faith
SUMMARY:Women's Bible Study (Branford Lounge)
DESCRIPTION:
URL:https://epworth.faith/event/womens-bible-study-branford-lounge-2/2022-11-16/
LOCATION:Epworth United Methodist Church\, 19285 Holland Glade Road\, Rehoboth Beach\, DE\, 19971\, United States
CATEGORIES:Groups
ORGANIZER;CN="Loretta Mahan":MAILTO:Rhet5@comcast.net
END:VEVENT
BEGIN:VEVENT
DTSTART;TZID=America/New_York:20221109T100000
DTEND;TZID=America/New_York:20221109T120000
DTSTAMP:20260425T223110
CREATED:20220809T133824Z
LAST-MODIFIED:20220809T133824Z
UID:10005887-1667988000-1667995200@epworth.faith
SUMMARY:Women's Bible Study (Branford Lounge)
DESCRIPTION:
URL:https://epworth.faith/event/womens-bible-study-branford-lounge-2/2022-11-09/
LOCATION:Epworth United Methodist Church\, 19285 Holland Glade Road\, Rehoboth Beach\, DE\, 19971\, United States
CATEGORIES:Groups
ORGANIZER;CN="Loretta Mahan":MAILTO:Rhet5@comcast.net
END:VEVENT
BEGIN:VEVENT
DTSTART;TZID=America/New_York:20221102T100000
DTEND;TZID=America/New_York:20221102T120000
DTSTAMP:20260425T223110
CREATED:20220809T133824Z
LAST-MODIFIED:20220809T133824Z
UID:10005886-1667383200-1667390400@epworth.faith
SUMMARY:Women's Bible Study (Branford Lounge)
DESCRIPTION:
URL:https://epworth.faith/event/womens-bible-study-branford-lounge-2/2022-11-02/
LOCATION:Epworth United Methodist Church\, 19285 Holland Glade Road\, Rehoboth Beach\, DE\, 19971\, United States
CATEGORIES:Groups
ORGANIZER;CN="Loretta Mahan":MAILTO:Rhet5@comcast.net
END:VEVENT
BEGIN:VEVENT
DTSTART;TZID=America/New_York:20221026T100000
DTEND;TZID=America/New_York:20221026T120000
DTSTAMP:20260425T223110
CREATED:20220809T133824Z
LAST-MODIFIED:20220809T133824Z
UID:10005885-1666778400-1666785600@epworth.faith
SUMMARY:Women's Bible Study (Branford Lounge)
DESCRIPTION:
URL:https://epworth.faith/event/womens-bible-study-branford-lounge-2/2022-10-26/
LOCATION:Epworth United Methodist Church\, 19285 Holland Glade Road\, Rehoboth Beach\, DE\, 19971\, United States
CATEGORIES:Groups
ORGANIZER;CN="Loretta Mahan":MAILTO:Rhet5@comcast.net
END:VEVENT
BEGIN:VEVENT
DTSTART;TZID=America/New_York:20221019T100000
DTEND;TZID=America/New_York:20221019T120000
DTSTAMP:20260425T223110
CREATED:20220809T133824Z
LAST-MODIFIED:20220809T133824Z
UID:10005884-1666173600-1666180800@epworth.faith
SUMMARY:Women's Bible Study (Branford Lounge)
DESCRIPTION:
URL:https://epworth.faith/event/womens-bible-study-branford-lounge-2/2022-10-19/
LOCATION:Epworth United Methodist Church\, 19285 Holland Glade Road\, Rehoboth Beach\, DE\, 19971\, United States
CATEGORIES:Groups
ORGANIZER;CN="Loretta Mahan":MAILTO:Rhet5@comcast.net
END:VEVENT
BEGIN:VEVENT
DTSTART;TZID=America/New_York:20221012T100000
DTEND;TZID=America/New_York:20221012T120000
DTSTAMP:20260425T223110
CREATED:20220809T133824Z
LAST-MODIFIED:20220809T133824Z
UID:10005883-1665568800-1665576000@epworth.faith
SUMMARY:Women's Bible Study (Branford Lounge)
DESCRIPTION:
URL:https://epworth.faith/event/womens-bible-study-branford-lounge-2/2022-10-12/
LOCATION:Epworth United Methodist Church\, 19285 Holland Glade Road\, Rehoboth Beach\, DE\, 19971\, United States
CATEGORIES:Groups
ORGANIZER;CN="Loretta Mahan":MAILTO:Rhet5@comcast.net
END:VEVENT
BEGIN:VEVENT
DTSTART;TZID=America/New_York:20221005T100000
DTEND;TZID=America/New_York:20221005T120000
DTSTAMP:20260425T223110
CREATED:20220809T133824Z
LAST-MODIFIED:20220809T133824Z
UID:10005882-1664964000-1664971200@epworth.faith
SUMMARY:Women's Bible Study (Branford Lounge)
DESCRIPTION:
URL:https://epworth.faith/event/womens-bible-study-branford-lounge-2/2022-10-05/
LOCATION:Epworth United Methodist Church\, 19285 Holland Glade Road\, Rehoboth Beach\, DE\, 19971\, United States
CATEGORIES:Groups
ORGANIZER;CN="Loretta Mahan":MAILTO:Rhet5@comcast.net
END:VEVENT
BEGIN:VEVENT
DTSTART;TZID=America/New_York:20220928T100000
DTEND;TZID=America/New_York:20220928T120000
DTSTAMP:20260425T223110
CREATED:20220809T133824Z
LAST-MODIFIED:20220809T133824Z
UID:10005881-1664359200-1664366400@epworth.faith
SUMMARY:Women's Bible Study (Branford Lounge)
DESCRIPTION:
URL:https://epworth.faith/event/womens-bible-study-branford-lounge-2/2022-09-28/
LOCATION:Epworth United Methodist Church\, 19285 Holland Glade Road\, Rehoboth Beach\, DE\, 19971\, United States
CATEGORIES:Groups
ORGANIZER;CN="Loretta Mahan":MAILTO:Rhet5@comcast.net
END:VEVENT
END:VCALENDAR