BEGIN:VCALENDAR
VERSION:2.0
PRODID:-//Epworth UMC - ECPv6.15.20//NONSGML v1.0//EN
CALSCALE:GREGORIAN
METHOD:PUBLISH
X-ORIGINAL-URL:https://epworth.faith
X-WR-CALDESC:Events for Epworth UMC
REFRESH-INTERVAL;VALUE=DURATION:PT1H
X-Robots-Tag:noindex
X-PUBLISHED-TTL:PT1H
BEGIN:VTIMEZONE
TZID:America/New_York
BEGIN:DAYLIGHT
TZOFFSETFROM:-0500
TZOFFSETTO:-0400
TZNAME:EDT
DTSTART:20230312T070000
END:DAYLIGHT
BEGIN:STANDARD
TZOFFSETFROM:-0400
TZOFFSETTO:-0500
TZNAME:EST
DTSTART:20231105T060000
END:STANDARD
BEGIN:DAYLIGHT
TZOFFSETFROM:-0500
TZOFFSETTO:-0400
TZNAME:EDT
DTSTART:20240310T070000
END:DAYLIGHT
BEGIN:STANDARD
TZOFFSETFROM:-0400
TZOFFSETTO:-0500
TZNAME:EST
DTSTART:20241103T060000
END:STANDARD
BEGIN:DAYLIGHT
TZOFFSETFROM:-0500
TZOFFSETTO:-0400
TZNAME:EDT
DTSTART:20250309T070000
END:DAYLIGHT
BEGIN:STANDARD
TZOFFSETFROM:-0400
TZOFFSETTO:-0500
TZNAME:EST
DTSTART:20251102T060000
END:STANDARD
END:VTIMEZONE
BEGIN:VEVENT
DTSTART;TZID=America/New_York:20241007T170000
DTEND;TZID=America/New_York:20241007T180000
DTSTAMP:20260424T073111
CREATED:20231211T172903Z
LAST-MODIFIED:20231211T172903Z
UID:10011232-1728320400-1728324000@epworth.faith
SUMMARY:ALANON Newcomers (Bakers Lounge)
DESCRIPTION:
URL:https://epworth.faith/event/alanon-newcomers-bakers-lounge/2024-10-07/
LOCATION:Epworth United Methodist Church\, 19285 Holland Glade Road\, Rehoboth Beach\, DE\, 19971\, United States
CATEGORIES:Facility Rentals,Neighborhood/Community Groups
END:VEVENT
BEGIN:VEVENT
DTSTART;TZID=America/New_York:20240930T170000
DTEND;TZID=America/New_York:20240930T180000
DTSTAMP:20260424T073111
CREATED:20231211T172903Z
LAST-MODIFIED:20231211T172903Z
UID:10011231-1727715600-1727719200@epworth.faith
SUMMARY:ALANON Newcomers (Bakers Lounge)
DESCRIPTION:
URL:https://epworth.faith/event/alanon-newcomers-bakers-lounge/2024-09-30/
LOCATION:Epworth United Methodist Church\, 19285 Holland Glade Road\, Rehoboth Beach\, DE\, 19971\, United States
CATEGORIES:Facility Rentals,Neighborhood/Community Groups
END:VEVENT
BEGIN:VEVENT
DTSTART;TZID=America/New_York:20240923T170000
DTEND;TZID=America/New_York:20240923T180000
DTSTAMP:20260424T073111
CREATED:20231211T172903Z
LAST-MODIFIED:20231211T172903Z
UID:10011230-1727110800-1727114400@epworth.faith
SUMMARY:ALANON Newcomers (Bakers Lounge)
DESCRIPTION:
URL:https://epworth.faith/event/alanon-newcomers-bakers-lounge/2024-09-23/
LOCATION:Epworth United Methodist Church\, 19285 Holland Glade Road\, Rehoboth Beach\, DE\, 19971\, United States
CATEGORIES:Facility Rentals,Neighborhood/Community Groups
END:VEVENT
BEGIN:VEVENT
DTSTART;TZID=America/New_York:20240916T170000
DTEND;TZID=America/New_York:20240916T180000
DTSTAMP:20260424T073111
CREATED:20231211T172903Z
LAST-MODIFIED:20231211T172903Z
UID:10011229-1726506000-1726509600@epworth.faith
SUMMARY:ALANON Newcomers (Bakers Lounge)
DESCRIPTION:
URL:https://epworth.faith/event/alanon-newcomers-bakers-lounge/2024-09-16/
LOCATION:Epworth United Methodist Church\, 19285 Holland Glade Road\, Rehoboth Beach\, DE\, 19971\, United States
CATEGORIES:Facility Rentals,Neighborhood/Community Groups
END:VEVENT
BEGIN:VEVENT
DTSTART;TZID=America/New_York:20240909T170000
DTEND;TZID=America/New_York:20240909T180000
DTSTAMP:20260424T073111
CREATED:20231211T172903Z
LAST-MODIFIED:20231211T172903Z
UID:10011228-1725901200-1725904800@epworth.faith
SUMMARY:ALANON Newcomers (Bakers Lounge)
DESCRIPTION:
URL:https://epworth.faith/event/alanon-newcomers-bakers-lounge/2024-09-09/
LOCATION:Epworth United Methodist Church\, 19285 Holland Glade Road\, Rehoboth Beach\, DE\, 19971\, United States
CATEGORIES:Facility Rentals,Neighborhood/Community Groups
END:VEVENT
BEGIN:VEVENT
DTSTART;TZID=America/New_York:20240902T170000
DTEND;TZID=America/New_York:20240902T180000
DTSTAMP:20260424T073111
CREATED:20231211T172903Z
LAST-MODIFIED:20231211T172903Z
UID:10011227-1725296400-1725300000@epworth.faith
SUMMARY:ALANON Newcomers (Bakers Lounge)
DESCRIPTION:
URL:https://epworth.faith/event/alanon-newcomers-bakers-lounge/2024-09-02/
LOCATION:Epworth United Methodist Church\, 19285 Holland Glade Road\, Rehoboth Beach\, DE\, 19971\, United States
CATEGORIES:Facility Rentals,Neighborhood/Community Groups
END:VEVENT
BEGIN:VEVENT
DTSTART;TZID=America/New_York:20240826T170000
DTEND;TZID=America/New_York:20240826T180000
DTSTAMP:20260424T073111
CREATED:20231211T172903Z
LAST-MODIFIED:20231211T172903Z
UID:10011226-1724691600-1724695200@epworth.faith
SUMMARY:ALANON Newcomers (Bakers Lounge)
DESCRIPTION:
URL:https://epworth.faith/event/alanon-newcomers-bakers-lounge/2024-08-26/
LOCATION:Epworth United Methodist Church\, 19285 Holland Glade Road\, Rehoboth Beach\, DE\, 19971\, United States
CATEGORIES:Facility Rentals,Neighborhood/Community Groups
END:VEVENT
BEGIN:VEVENT
DTSTART;TZID=America/New_York:20240819T170000
DTEND;TZID=America/New_York:20240819T180000
DTSTAMP:20260424T073111
CREATED:20231211T172903Z
LAST-MODIFIED:20231211T172903Z
UID:10011225-1724086800-1724090400@epworth.faith
SUMMARY:ALANON Newcomers (Bakers Lounge)
DESCRIPTION:
URL:https://epworth.faith/event/alanon-newcomers-bakers-lounge/2024-08-19/
LOCATION:Epworth United Methodist Church\, 19285 Holland Glade Road\, Rehoboth Beach\, DE\, 19971\, United States
CATEGORIES:Facility Rentals,Neighborhood/Community Groups
END:VEVENT
BEGIN:VEVENT
DTSTART;TZID=America/New_York:20240812T170000
DTEND;TZID=America/New_York:20240812T180000
DTSTAMP:20260424T073111
CREATED:20231211T172903Z
LAST-MODIFIED:20231211T172903Z
UID:10011224-1723482000-1723485600@epworth.faith
SUMMARY:ALANON Newcomers (Bakers Lounge)
DESCRIPTION:
URL:https://epworth.faith/event/alanon-newcomers-bakers-lounge/2024-08-12/
LOCATION:Epworth United Methodist Church\, 19285 Holland Glade Road\, Rehoboth Beach\, DE\, 19971\, United States
CATEGORIES:Facility Rentals,Neighborhood/Community Groups
END:VEVENT
BEGIN:VEVENT
DTSTART;TZID=America/New_York:20240805T170000
DTEND;TZID=America/New_York:20240805T180000
DTSTAMP:20260424T073111
CREATED:20231211T172903Z
LAST-MODIFIED:20231211T172903Z
UID:10011223-1722877200-1722880800@epworth.faith
SUMMARY:ALANON Newcomers (Bakers Lounge)
DESCRIPTION:
URL:https://epworth.faith/event/alanon-newcomers-bakers-lounge/2024-08-05/
LOCATION:Epworth United Methodist Church\, 19285 Holland Glade Road\, Rehoboth Beach\, DE\, 19971\, United States
CATEGORIES:Facility Rentals,Neighborhood/Community Groups
END:VEVENT
BEGIN:VEVENT
DTSTART;TZID=America/New_York:20240729T170000
DTEND;TZID=America/New_York:20240729T180000
DTSTAMP:20260424T073111
CREATED:20231211T172903Z
LAST-MODIFIED:20231211T172903Z
UID:10011222-1722272400-1722276000@epworth.faith
SUMMARY:ALANON Newcomers (Bakers Lounge)
DESCRIPTION:
URL:https://epworth.faith/event/alanon-newcomers-bakers-lounge/2024-07-29/
LOCATION:Epworth United Methodist Church\, 19285 Holland Glade Road\, Rehoboth Beach\, DE\, 19971\, United States
CATEGORIES:Facility Rentals,Neighborhood/Community Groups
END:VEVENT
BEGIN:VEVENT
DTSTART;TZID=America/New_York:20240722T170000
DTEND;TZID=America/New_York:20240722T180000
DTSTAMP:20260424T073111
CREATED:20231211T172903Z
LAST-MODIFIED:20231211T172903Z
UID:10011221-1721667600-1721671200@epworth.faith
SUMMARY:ALANON Newcomers (Bakers Lounge)
DESCRIPTION:
URL:https://epworth.faith/event/alanon-newcomers-bakers-lounge/2024-07-22/
LOCATION:Epworth United Methodist Church\, 19285 Holland Glade Road\, Rehoboth Beach\, DE\, 19971\, United States
CATEGORIES:Facility Rentals,Neighborhood/Community Groups
END:VEVENT
BEGIN:VEVENT
DTSTART;TZID=America/New_York:20240715T170000
DTEND;TZID=America/New_York:20240715T180000
DTSTAMP:20260424T073111
CREATED:20231211T172903Z
LAST-MODIFIED:20231211T172903Z
UID:10011220-1721062800-1721066400@epworth.faith
SUMMARY:ALANON Newcomers (Bakers Lounge)
DESCRIPTION:
URL:https://epworth.faith/event/alanon-newcomers-bakers-lounge/2024-07-15/
LOCATION:Epworth United Methodist Church\, 19285 Holland Glade Road\, Rehoboth Beach\, DE\, 19971\, United States
CATEGORIES:Facility Rentals,Neighborhood/Community Groups
END:VEVENT
BEGIN:VEVENT
DTSTART;TZID=America/New_York:20240708T170000
DTEND;TZID=America/New_York:20240708T180000
DTSTAMP:20260424T073111
CREATED:20231211T172903Z
LAST-MODIFIED:20231211T172903Z
UID:10011219-1720458000-1720461600@epworth.faith
SUMMARY:ALANON Newcomers (Bakers Lounge)
DESCRIPTION:
URL:https://epworth.faith/event/alanon-newcomers-bakers-lounge/2024-07-08/
LOCATION:Epworth United Methodist Church\, 19285 Holland Glade Road\, Rehoboth Beach\, DE\, 19971\, United States
CATEGORIES:Facility Rentals,Neighborhood/Community Groups
END:VEVENT
BEGIN:VEVENT
DTSTART;TZID=America/New_York:20240701T170000
DTEND;TZID=America/New_York:20240701T180000
DTSTAMP:20260424T073111
CREATED:20231211T172903Z
LAST-MODIFIED:20231211T172903Z
UID:10011218-1719853200-1719856800@epworth.faith
SUMMARY:ALANON Newcomers (Bakers Lounge)
DESCRIPTION:
URL:https://epworth.faith/event/alanon-newcomers-bakers-lounge/2024-07-01/
LOCATION:Epworth United Methodist Church\, 19285 Holland Glade Road\, Rehoboth Beach\, DE\, 19971\, United States
CATEGORIES:Facility Rentals,Neighborhood/Community Groups
END:VEVENT
BEGIN:VEVENT
DTSTART;TZID=America/New_York:20240624T170000
DTEND;TZID=America/New_York:20240624T180000
DTSTAMP:20260424T073111
CREATED:20231211T172903Z
LAST-MODIFIED:20231211T172903Z
UID:10011217-1719248400-1719252000@epworth.faith
SUMMARY:ALANON Newcomers (Bakers Lounge)
DESCRIPTION:
URL:https://epworth.faith/event/alanon-newcomers-bakers-lounge/2024-06-24/
LOCATION:Epworth United Methodist Church\, 19285 Holland Glade Road\, Rehoboth Beach\, DE\, 19971\, United States
CATEGORIES:Facility Rentals,Neighborhood/Community Groups
END:VEVENT
BEGIN:VEVENT
DTSTART;TZID=America/New_York:20240617T170000
DTEND;TZID=America/New_York:20240617T180000
DTSTAMP:20260424T073111
CREATED:20231211T172903Z
LAST-MODIFIED:20231211T172903Z
UID:10011216-1718643600-1718647200@epworth.faith
SUMMARY:ALANON Newcomers (Bakers Lounge)
DESCRIPTION:
URL:https://epworth.faith/event/alanon-newcomers-bakers-lounge/2024-06-17/
LOCATION:Epworth United Methodist Church\, 19285 Holland Glade Road\, Rehoboth Beach\, DE\, 19971\, United States
CATEGORIES:Facility Rentals,Neighborhood/Community Groups
END:VEVENT
BEGIN:VEVENT
DTSTART;TZID=America/New_York:20240610T170000
DTEND;TZID=America/New_York:20240610T180000
DTSTAMP:20260424T073111
CREATED:20231211T172903Z
LAST-MODIFIED:20231211T172903Z
UID:10011215-1718038800-1718042400@epworth.faith
SUMMARY:ALANON Newcomers (Bakers Lounge)
DESCRIPTION:
URL:https://epworth.faith/event/alanon-newcomers-bakers-lounge/2024-06-10/
LOCATION:Epworth United Methodist Church\, 19285 Holland Glade Road\, Rehoboth Beach\, DE\, 19971\, United States
CATEGORIES:Facility Rentals,Neighborhood/Community Groups
END:VEVENT
BEGIN:VEVENT
DTSTART;TZID=America/New_York:20240603T170000
DTEND;TZID=America/New_York:20240603T180000
DTSTAMP:20260424T073111
CREATED:20231211T172903Z
LAST-MODIFIED:20231211T172903Z
UID:10011214-1717434000-1717437600@epworth.faith
SUMMARY:ALANON Newcomers (Bakers Lounge)
DESCRIPTION:
URL:https://epworth.faith/event/alanon-newcomers-bakers-lounge/2024-06-03/
LOCATION:Epworth United Methodist Church\, 19285 Holland Glade Road\, Rehoboth Beach\, DE\, 19971\, United States
CATEGORIES:Facility Rentals,Neighborhood/Community Groups
END:VEVENT
BEGIN:VEVENT
DTSTART;TZID=America/New_York:20240527T170000
DTEND;TZID=America/New_York:20240527T180000
DTSTAMP:20260424T073111
CREATED:20231211T172903Z
LAST-MODIFIED:20231211T172903Z
UID:10011213-1716829200-1716832800@epworth.faith
SUMMARY:ALANON Newcomers (Bakers Lounge)
DESCRIPTION:
URL:https://epworth.faith/event/alanon-newcomers-bakers-lounge/2024-05-27/
LOCATION:Epworth United Methodist Church\, 19285 Holland Glade Road\, Rehoboth Beach\, DE\, 19971\, United States
CATEGORIES:Facility Rentals,Neighborhood/Community Groups
END:VEVENT
BEGIN:VEVENT
DTSTART;TZID=America/New_York:20240520T170000
DTEND;TZID=America/New_York:20240520T180000
DTSTAMP:20260424T073111
CREATED:20231211T172903Z
LAST-MODIFIED:20231211T172903Z
UID:10011212-1716224400-1716228000@epworth.faith
SUMMARY:ALANON Newcomers (Bakers Lounge)
DESCRIPTION:
URL:https://epworth.faith/event/alanon-newcomers-bakers-lounge/2024-05-20/
LOCATION:Epworth United Methodist Church\, 19285 Holland Glade Road\, Rehoboth Beach\, DE\, 19971\, United States
CATEGORIES:Facility Rentals,Neighborhood/Community Groups
END:VEVENT
BEGIN:VEVENT
DTSTART;TZID=America/New_York:20240513T170000
DTEND;TZID=America/New_York:20240513T180000
DTSTAMP:20260424T073111
CREATED:20231211T172903Z
LAST-MODIFIED:20231211T172903Z
UID:10011211-1715619600-1715623200@epworth.faith
SUMMARY:ALANON Newcomers (Bakers Lounge)
DESCRIPTION:
URL:https://epworth.faith/event/alanon-newcomers-bakers-lounge/2024-05-13/
LOCATION:Epworth United Methodist Church\, 19285 Holland Glade Road\, Rehoboth Beach\, DE\, 19971\, United States
CATEGORIES:Facility Rentals,Neighborhood/Community Groups
END:VEVENT
BEGIN:VEVENT
DTSTART;TZID=America/New_York:20240506T170000
DTEND;TZID=America/New_York:20240506T180000
DTSTAMP:20260424T073111
CREATED:20231211T172903Z
LAST-MODIFIED:20231211T172903Z
UID:10011210-1715014800-1715018400@epworth.faith
SUMMARY:ALANON Newcomers (Bakers Lounge)
DESCRIPTION:
URL:https://epworth.faith/event/alanon-newcomers-bakers-lounge/2024-05-06/
LOCATION:Epworth United Methodist Church\, 19285 Holland Glade Road\, Rehoboth Beach\, DE\, 19971\, United States
CATEGORIES:Facility Rentals,Neighborhood/Community Groups
END:VEVENT
BEGIN:VEVENT
DTSTART;TZID=America/New_York:20240429T170000
DTEND;TZID=America/New_York:20240429T180000
DTSTAMP:20260424T073111
CREATED:20231211T172903Z
LAST-MODIFIED:20231211T172903Z
UID:10011209-1714410000-1714413600@epworth.faith
SUMMARY:ALANON Newcomers (Bakers Lounge)
DESCRIPTION:
URL:https://epworth.faith/event/alanon-newcomers-bakers-lounge/2024-04-29/
LOCATION:Epworth United Methodist Church\, 19285 Holland Glade Road\, Rehoboth Beach\, DE\, 19971\, United States
CATEGORIES:Facility Rentals,Neighborhood/Community Groups
END:VEVENT
BEGIN:VEVENT
DTSTART;TZID=America/New_York:20240422T170000
DTEND;TZID=America/New_York:20240422T180000
DTSTAMP:20260424T073111
CREATED:20231211T172903Z
LAST-MODIFIED:20231211T172903Z
UID:10011208-1713805200-1713808800@epworth.faith
SUMMARY:ALANON Newcomers (Bakers Lounge)
DESCRIPTION:
URL:https://epworth.faith/event/alanon-newcomers-bakers-lounge/2024-04-22/
LOCATION:Epworth United Methodist Church\, 19285 Holland Glade Road\, Rehoboth Beach\, DE\, 19971\, United States
CATEGORIES:Facility Rentals,Neighborhood/Community Groups
END:VEVENT
BEGIN:VEVENT
DTSTART;TZID=America/New_York:20240415T170000
DTEND;TZID=America/New_York:20240415T180000
DTSTAMP:20260424T073111
CREATED:20231211T172903Z
LAST-MODIFIED:20231211T172903Z
UID:10011207-1713200400-1713204000@epworth.faith
SUMMARY:ALANON Newcomers (Bakers Lounge)
DESCRIPTION:
URL:https://epworth.faith/event/alanon-newcomers-bakers-lounge/2024-04-15/
LOCATION:Epworth United Methodist Church\, 19285 Holland Glade Road\, Rehoboth Beach\, DE\, 19971\, United States
CATEGORIES:Facility Rentals,Neighborhood/Community Groups
END:VEVENT
BEGIN:VEVENT
DTSTART;TZID=America/New_York:20240408T170000
DTEND;TZID=America/New_York:20240408T180000
DTSTAMP:20260424T073111
CREATED:20231211T172903Z
LAST-MODIFIED:20231211T172903Z
UID:10011206-1712595600-1712599200@epworth.faith
SUMMARY:ALANON Newcomers (Bakers Lounge)
DESCRIPTION:
URL:https://epworth.faith/event/alanon-newcomers-bakers-lounge/2024-04-08/
LOCATION:Epworth United Methodist Church\, 19285 Holland Glade Road\, Rehoboth Beach\, DE\, 19971\, United States
CATEGORIES:Facility Rentals,Neighborhood/Community Groups
END:VEVENT
BEGIN:VEVENT
DTSTART;TZID=America/New_York:20240401T170000
DTEND;TZID=America/New_York:20240401T180000
DTSTAMP:20260424T073111
CREATED:20231211T172903Z
LAST-MODIFIED:20231211T172903Z
UID:10011205-1711990800-1711994400@epworth.faith
SUMMARY:ALANON Newcomers (Bakers Lounge)
DESCRIPTION:
URL:https://epworth.faith/event/alanon-newcomers-bakers-lounge/2024-04-01/
LOCATION:Epworth United Methodist Church\, 19285 Holland Glade Road\, Rehoboth Beach\, DE\, 19971\, United States
CATEGORIES:Facility Rentals,Neighborhood/Community Groups
END:VEVENT
BEGIN:VEVENT
DTSTART;TZID=America/New_York:20240325T170000
DTEND;TZID=America/New_York:20240325T180000
DTSTAMP:20260424T073111
CREATED:20231211T172903Z
LAST-MODIFIED:20231211T172903Z
UID:10011204-1711386000-1711389600@epworth.faith
SUMMARY:ALANON Newcomers (Bakers Lounge)
DESCRIPTION:
URL:https://epworth.faith/event/alanon-newcomers-bakers-lounge/2024-03-25/
LOCATION:Epworth United Methodist Church\, 19285 Holland Glade Road\, Rehoboth Beach\, DE\, 19971\, United States
CATEGORIES:Facility Rentals,Neighborhood/Community Groups
END:VEVENT
BEGIN:VEVENT
DTSTART;TZID=America/New_York:20240318T170000
DTEND;TZID=America/New_York:20240318T180000
DTSTAMP:20260424T073111
CREATED:20231211T172903Z
LAST-MODIFIED:20231211T172903Z
UID:10011203-1710781200-1710784800@epworth.faith
SUMMARY:ALANON Newcomers (Bakers Lounge)
DESCRIPTION:
URL:https://epworth.faith/event/alanon-newcomers-bakers-lounge/2024-03-18/
LOCATION:Epworth United Methodist Church\, 19285 Holland Glade Road\, Rehoboth Beach\, DE\, 19971\, United States
CATEGORIES:Facility Rentals,Neighborhood/Community Groups
END:VEVENT
END:VCALENDAR