BEGIN:VCALENDAR
VERSION:2.0
PRODID:-//Epworth UMC - ECPv6.15.20//NONSGML v1.0//EN
CALSCALE:GREGORIAN
METHOD:PUBLISH
X-WR-CALNAME:Epworth UMC
X-ORIGINAL-URL:https://epworth.faith
X-WR-CALDESC:Events for Epworth UMC
REFRESH-INTERVAL;VALUE=DURATION:PT1H
X-Robots-Tag:noindex
X-PUBLISHED-TTL:PT1H
BEGIN:VTIMEZONE
TZID:America/New_York
BEGIN:DAYLIGHT
TZOFFSETFROM:-0500
TZOFFSETTO:-0400
TZNAME:EDT
DTSTART:20230312T070000
END:DAYLIGHT
BEGIN:STANDARD
TZOFFSETFROM:-0400
TZOFFSETTO:-0500
TZNAME:EST
DTSTART:20231105T060000
END:STANDARD
BEGIN:DAYLIGHT
TZOFFSETFROM:-0500
TZOFFSETTO:-0400
TZNAME:EDT
DTSTART:20240310T070000
END:DAYLIGHT
BEGIN:STANDARD
TZOFFSETFROM:-0400
TZOFFSETTO:-0500
TZNAME:EST
DTSTART:20241103T060000
END:STANDARD
BEGIN:DAYLIGHT
TZOFFSETFROM:-0500
TZOFFSETTO:-0400
TZNAME:EDT
DTSTART:20250309T070000
END:DAYLIGHT
BEGIN:STANDARD
TZOFFSETFROM:-0400
TZOFFSETTO:-0500
TZNAME:EST
DTSTART:20251102T060000
END:STANDARD
END:VTIMEZONE
BEGIN:VEVENT
DTSTART;TZID=America/New_York:20240127T180000
DTEND;TZID=America/New_York:20240127T190000
DTSTAMP:20260425T123350
CREATED:20231211T225009Z
LAST-MODIFIED:20231211T225009Z
UID:10011762-1706378400-1706382000@epworth.faith
SUMMARY:ALANON (Bakers' Lounge)
DESCRIPTION:
URL:https://epworth.faith/event/alanon-bakers-lounge/2024-01-27/
LOCATION:Epworth United Methodist Church\, 19285 Holland Glade Road\, Rehoboth Beach\, DE\, 19971\, United States
CATEGORIES:Facility Rentals,Neighborhood/Community Groups
END:VEVENT
BEGIN:VEVENT
DTSTART;TZID=America/New_York:20240120T180000
DTEND;TZID=America/New_York:20240120T190000
DTSTAMP:20260425T123350
CREATED:20231211T225009Z
LAST-MODIFIED:20231211T225009Z
UID:10011761-1705773600-1705777200@epworth.faith
SUMMARY:ALANON (Bakers' Lounge)
DESCRIPTION:
URL:https://epworth.faith/event/alanon-bakers-lounge/2024-01-20/
LOCATION:Epworth United Methodist Church\, 19285 Holland Glade Road\, Rehoboth Beach\, DE\, 19971\, United States
CATEGORIES:Facility Rentals,Neighborhood/Community Groups
END:VEVENT
BEGIN:VEVENT
DTSTART;TZID=America/New_York:20240113T180000
DTEND;TZID=America/New_York:20240113T190000
DTSTAMP:20260425T123350
CREATED:20231211T225009Z
LAST-MODIFIED:20231211T225009Z
UID:10011760-1705168800-1705172400@epworth.faith
SUMMARY:ALANON (Bakers' Lounge)
DESCRIPTION:
URL:https://epworth.faith/event/alanon-bakers-lounge/2024-01-13/
LOCATION:Epworth United Methodist Church\, 19285 Holland Glade Road\, Rehoboth Beach\, DE\, 19971\, United States
CATEGORIES:Facility Rentals,Neighborhood/Community Groups
END:VEVENT
BEGIN:VEVENT
DTSTART;TZID=America/New_York:20240106T180000
DTEND;TZID=America/New_York:20240106T190000
DTSTAMP:20260425T123350
CREATED:20231211T225009Z
LAST-MODIFIED:20231211T225009Z
UID:10011759-1704564000-1704567600@epworth.faith
SUMMARY:ALANON (Bakers' Lounge)
DESCRIPTION:
URL:https://epworth.faith/event/alanon-bakers-lounge/2024-01-06/
LOCATION:Epworth United Methodist Church\, 19285 Holland Glade Road\, Rehoboth Beach\, DE\, 19971\, United States
CATEGORIES:Facility Rentals,Neighborhood/Community Groups
END:VEVENT
END:VCALENDAR