BEGIN:VCALENDAR
VERSION:2.0
PRODID:-//Epworth UMC - ECPv6.15.20//NONSGML v1.0//EN
CALSCALE:GREGORIAN
METHOD:PUBLISH
X-ORIGINAL-URL:https://epworth.faith
X-WR-CALDESC:Events for Epworth UMC
REFRESH-INTERVAL;VALUE=DURATION:PT1H
X-Robots-Tag:noindex
X-PUBLISHED-TTL:PT1H
BEGIN:VTIMEZONE
TZID:America/New_York
BEGIN:DAYLIGHT
TZOFFSETFROM:-0500
TZOFFSETTO:-0400
TZNAME:EDT
DTSTART:20200308T070000
END:DAYLIGHT
BEGIN:STANDARD
TZOFFSETFROM:-0400
TZOFFSETTO:-0500
TZNAME:EST
DTSTART:20201101T060000
END:STANDARD
BEGIN:DAYLIGHT
TZOFFSETFROM:-0500
TZOFFSETTO:-0400
TZNAME:EDT
DTSTART:20210314T070000
END:DAYLIGHT
BEGIN:STANDARD
TZOFFSETFROM:-0400
TZOFFSETTO:-0500
TZNAME:EST
DTSTART:20211107T060000
END:STANDARD
BEGIN:DAYLIGHT
TZOFFSETFROM:-0500
TZOFFSETTO:-0400
TZNAME:EDT
DTSTART:20220313T070000
END:DAYLIGHT
BEGIN:STANDARD
TZOFFSETFROM:-0400
TZOFFSETTO:-0500
TZNAME:EST
DTSTART:20221106T060000
END:STANDARD
BEGIN:DAYLIGHT
TZOFFSETFROM:-0500
TZOFFSETTO:-0400
TZNAME:EDT
DTSTART:20230312T070000
END:DAYLIGHT
BEGIN:STANDARD
TZOFFSETFROM:-0400
TZOFFSETTO:-0500
TZNAME:EST
DTSTART:20231105T060000
END:STANDARD
END:VTIMEZONE
BEGIN:VEVENT
DTSTART;TZID=America/New_York:20221218T150000
DTEND;TZID=America/New_York:20221218T170000
DTSTAMP:20260425T170129
CREATED:20220223T194338Z
LAST-MODIFIED:20220223T194338Z
UID:10006142-1671375600-1671382800@epworth.faith
SUMMARY:Rehoboth Concert Band (Sanctuary)
DESCRIPTION:
URL:https://epworth.faith/event/rehoboth-concert-band-sanctuary/
LOCATION:Epworth United Methodist Church\, 19285 Holland Glade Road\, Rehoboth Beach\, DE\, 19971\, United States
CATEGORIES:Concerts
ORGANIZER;CN="Michelle Bozievich":MAILTO:mbozievich@gmail.com
END:VEVENT
BEGIN:VEVENT
DTSTART;TZID=America/New_York:20211219T150000
DTEND;TZID=America/New_York:20211219T170000
DTSTAMP:20260425T170129
CREATED:20211008T145635Z
LAST-MODIFIED:20211118T155619Z
UID:10005053-1639926000-1639933200@epworth.faith
SUMMARY:Rehoboth Concert Band Holiday Peace Concert
DESCRIPTION:Rehoboth Concert Band presents its popular Holiday Peace Concert featuring a diverse program of traditional carols\, holiday and seasonal medleys with surprising twists\, and songs of international peace. Tickets may be purchased online or at the door\, as available (cash only at the door\, please). Cost is $20/adult; youth 18 & under are FREE!
URL:https://epworth.faith/event/rehoboth-concert-band-2/
LOCATION:Epworth United Methodist Church\, 19285 Holland Glade Road\, Rehoboth Beach\, DE\, 19971\, United States
CATEGORIES:Concerts
ATTACH;FMTTYPE=image/jpeg:https://epworth.faith/wp-content/uploads/2021/10/Rehoboth-Concert-Band.jpg
ORGANIZER;CN="Michelle Bozievich":MAILTO:mbozievich@gmail.com
END:VEVENT
END:VCALENDAR