BEGIN:VCALENDAR
VERSION:2.0
PRODID:-//Epworth UMC - ECPv6.15.20//NONSGML v1.0//EN
CALSCALE:GREGORIAN
METHOD:PUBLISH
X-WR-CALNAME:Epworth UMC
X-ORIGINAL-URL:https://epworth.faith
X-WR-CALDESC:Events for Epworth UMC
REFRESH-INTERVAL;VALUE=DURATION:PT1H
X-Robots-Tag:noindex
X-PUBLISHED-TTL:PT1H
BEGIN:VTIMEZONE
TZID:America/New_York
BEGIN:DAYLIGHT
TZOFFSETFROM:-0500
TZOFFSETTO:-0400
TZNAME:EDT
DTSTART:20230312T070000
END:DAYLIGHT
BEGIN:STANDARD
TZOFFSETFROM:-0400
TZOFFSETTO:-0500
TZNAME:EST
DTSTART:20231105T060000
END:STANDARD
BEGIN:DAYLIGHT
TZOFFSETFROM:-0500
TZOFFSETTO:-0400
TZNAME:EDT
DTSTART:20240310T070000
END:DAYLIGHT
BEGIN:STANDARD
TZOFFSETFROM:-0400
TZOFFSETTO:-0500
TZNAME:EST
DTSTART:20241103T060000
END:STANDARD
BEGIN:DAYLIGHT
TZOFFSETFROM:-0500
TZOFFSETTO:-0400
TZNAME:EDT
DTSTART:20250309T070000
END:DAYLIGHT
BEGIN:STANDARD
TZOFFSETFROM:-0400
TZOFFSETTO:-0500
TZNAME:EST
DTSTART:20251102T060000
END:STANDARD
END:VTIMEZONE
BEGIN:VEVENT
DTSTART;TZID=America/New_York:20241124T113000
DTEND;TZID=America/New_York:20241124T123000
DTSTAMP:20260424T103910
CREATED:20240826T184533Z
LAST-MODIFIED:20240826T184533Z
UID:10014038-1732447800-1732451400@epworth.faith
SUMMARY:Meet Me @ Epworth Group Bible Study (Branford Lounge)
DESCRIPTION:
URL:https://epworth.faith/event/meet-me-epworth-group-bible-study-branford-lounge/2024-11-24/
LOCATION:Epworth United Methodist Church\, 19285 Holland Glade Road\, Rehoboth Beach\, DE\, 19971\, United States
CATEGORIES:Church,Groups
ORGANIZER;CN="Mickie McManamon":MAILTO:mmcmanamon@epworth.faith
END:VEVENT
BEGIN:VEVENT
DTSTART;TZID=America/New_York:20241117T113000
DTEND;TZID=America/New_York:20241117T123000
DTSTAMP:20260424T103910
CREATED:20240826T184533Z
LAST-MODIFIED:20240826T184533Z
UID:10014037-1731843000-1731846600@epworth.faith
SUMMARY:Meet Me @ Epworth Group Bible Study (Branford Lounge)
DESCRIPTION:
URL:https://epworth.faith/event/meet-me-epworth-group-bible-study-branford-lounge/2024-11-17/
LOCATION:Epworth United Methodist Church\, 19285 Holland Glade Road\, Rehoboth Beach\, DE\, 19971\, United States
CATEGORIES:Church,Groups
ORGANIZER;CN="Mickie McManamon":MAILTO:mmcmanamon@epworth.faith
END:VEVENT
BEGIN:VEVENT
DTSTART;TZID=America/New_York:20241115T190000
DTEND;TZID=America/New_York:20241115T210000
DTSTAMP:20260424T103910
CREATED:20240826T185749Z
LAST-MODIFIED:20240826T185749Z
UID:10014067-1731697200-1731704400@epworth.faith
SUMMARY:Meet Me @ Epworth - Thanksgiving Dance (Fellowship Hall)
DESCRIPTION:
URL:https://epworth.faith/event/meet-me-epworth-thanksgiving-dance-fellowship-hall/
LOCATION:Epworth United Methodist Church\, 19285 Holland Glade Road\, Rehoboth Beach\, DE\, 19971\, United States
CATEGORIES:Church,Groups
ORGANIZER;CN="Mickie McManamon":MAILTO:mmcmanamon@epworth.faith
END:VEVENT
BEGIN:VEVENT
DTSTART;TZID=America/New_York:20241113T130000
DTEND;TZID=America/New_York:20241113T150000
DTSTAMP:20260424T103910
CREATED:20240228T155026Z
LAST-MODIFIED:20240228T155026Z
UID:10012339-1731502800-1731510000@epworth.faith
SUMMARY:Card Making Group (Branford Lounge)
DESCRIPTION:
URL:https://epworth.faith/event/card-making-group-branford-lounge-17/
LOCATION:Epworth United Methodist Church\, 19285 Holland Glade Road\, Rehoboth Beach\, DE\, 19971\, United States
CATEGORIES:Church,Groups
ORGANIZER;CN="Mickie McManamon":MAILTO:mmcmanamon@epworth.faith
END:VEVENT
BEGIN:VEVENT
DTSTART;TZID=America/New_York:20241110T113000
DTEND;TZID=America/New_York:20241110T123000
DTSTAMP:20260424T103910
CREATED:20240826T184533Z
LAST-MODIFIED:20240826T184533Z
UID:10014036-1731238200-1731241800@epworth.faith
SUMMARY:Meet Me @ Epworth Group Bible Study (Branford Lounge)
DESCRIPTION:
URL:https://epworth.faith/event/meet-me-epworth-group-bible-study-branford-lounge/2024-11-10/
LOCATION:Epworth United Methodist Church\, 19285 Holland Glade Road\, Rehoboth Beach\, DE\, 19971\, United States
CATEGORIES:Church,Groups
ORGANIZER;CN="Mickie McManamon":MAILTO:mmcmanamon@epworth.faith
END:VEVENT
BEGIN:VEVENT
DTSTART;TZID=America/New_York:20241103T113000
DTEND;TZID=America/New_York:20241103T123000
DTSTAMP:20260424T103910
CREATED:20240826T184533Z
LAST-MODIFIED:20240826T184533Z
UID:10014035-1730633400-1730637000@epworth.faith
SUMMARY:Meet Me @ Epworth Group Bible Study (Branford Lounge)
DESCRIPTION:
URL:https://epworth.faith/event/meet-me-epworth-group-bible-study-branford-lounge/2024-11-03/
LOCATION:Epworth United Methodist Church\, 19285 Holland Glade Road\, Rehoboth Beach\, DE\, 19971\, United States
CATEGORIES:Church,Groups
ORGANIZER;CN="Mickie McManamon":MAILTO:mmcmanamon@epworth.faith
END:VEVENT
BEGIN:VEVENT
DTSTART;TZID=America/New_York:20241027T113000
DTEND;TZID=America/New_York:20241027T123000
DTSTAMP:20260424T103910
CREATED:20240826T184533Z
LAST-MODIFIED:20240826T184533Z
UID:10014034-1730028600-1730032200@epworth.faith
SUMMARY:Meet Me @ Epworth Group Bible Study (Branford Lounge)
DESCRIPTION:
URL:https://epworth.faith/event/meet-me-epworth-group-bible-study-branford-lounge/2024-10-27/
LOCATION:Epworth United Methodist Church\, 19285 Holland Glade Road\, Rehoboth Beach\, DE\, 19971\, United States
CATEGORIES:Church,Groups
ORGANIZER;CN="Mickie McManamon":MAILTO:mmcmanamon@epworth.faith
END:VEVENT
BEGIN:VEVENT
DTSTART;TZID=America/New_York:20241027T080000
DTEND;TZID=America/New_York:20241027T130000
DTSTAMP:20260424T103910
CREATED:20240422T142246Z
LAST-MODIFIED:20240422T151948Z
UID:10013400-1730016000-1730034000@epworth.faith
SUMMARY:Delmarva Blood Bank Donations (Fellowship Hall)
DESCRIPTION:
URL:https://epworth.faith/event/delmarva-blood-bank-donations-fellowship-hall-2/
LOCATION:Epworth United Methodist Church\, 19285 Holland Glade Road\, Rehoboth Beach\, DE\, 19971\, United States
CATEGORIES:Church,Groups
ORGANIZER;CN="Mickie McManamon":MAILTO:mmcmanamon@epworth.faith
END:VEVENT
BEGIN:VEVENT
DTSTART;TZID=America/New_York:20241025T190000
DTEND;TZID=America/New_York:20241025T210000
DTSTAMP:20260424T103910
CREATED:20240826T185423Z
LAST-MODIFIED:20240826T185423Z
UID:10014066-1729882800-1729890000@epworth.faith
SUMMARY:Meet Me @ Epworth - Halloween Costume Dance (Fellowship Hall)
DESCRIPTION:
URL:https://epworth.faith/event/meet-me-epworth-halloween-costume-dance-fellowship-hall-2/
LOCATION:Epworth United Methodist Church\, 19285 Holland Glade Road\, Rehoboth Beach\, DE\, 19971\, United States
CATEGORIES:Church,Groups
ORGANIZER;CN="Mickie McManamon":MAILTO:mmcmanamon@epworth.faith
END:VEVENT
BEGIN:VEVENT
DTSTART;TZID=America/New_York:20241023T130000
DTEND;TZID=America/New_York:20241023T150000
DTSTAMP:20260424T103910
CREATED:20240228T154738Z
LAST-MODIFIED:20240228T154738Z
UID:10012338-1729688400-1729695600@epworth.faith
SUMMARY:Card Making Group (Branford Lounge)
DESCRIPTION:
URL:https://epworth.faith/event/card-making-group-branford-lounge-16/
LOCATION:Epworth United Methodist Church\, 19285 Holland Glade Road\, Rehoboth Beach\, DE\, 19971\, United States
CATEGORIES:Church,Groups
ORGANIZER;CN="Mickie McManamon":MAILTO:mmcmanamon@epworth.faith
END:VEVENT
BEGIN:VEVENT
DTSTART;TZID=America/New_York:20241020T113000
DTEND;TZID=America/New_York:20241020T123000
DTSTAMP:20260424T103910
CREATED:20240826T184533Z
LAST-MODIFIED:20240826T184533Z
UID:10014033-1729423800-1729427400@epworth.faith
SUMMARY:Meet Me @ Epworth Group Bible Study (Branford Lounge)
DESCRIPTION:
URL:https://epworth.faith/event/meet-me-epworth-group-bible-study-branford-lounge/2024-10-20/
LOCATION:Epworth United Methodist Church\, 19285 Holland Glade Road\, Rehoboth Beach\, DE\, 19971\, United States
CATEGORIES:Church,Groups
ORGANIZER;CN="Mickie McManamon":MAILTO:mmcmanamon@epworth.faith
END:VEVENT
BEGIN:VEVENT
DTSTART;TZID=America/New_York:20241020T110000
DTEND;TZID=America/New_York:20241020T130000
DTSTAMP:20260424T103910
CREATED:20241014T185315Z
LAST-MODIFIED:20241014T185315Z
UID:10015044-1729422000-1729429200@epworth.faith
SUMMARY:Beebe Flu Shots (Fellowship Hall)
DESCRIPTION:
URL:https://epworth.faith/event/beebe-flu-shots-fellowship-hall/
LOCATION:Epworth United Methodist Church\, 19285 Holland Glade Road\, Rehoboth Beach\, DE\, 19971\, United States
CATEGORIES:Neighborhood/Community Groups
ORGANIZER;CN="Mickie McManamon":MAILTO:mmcmanamon@epworth.faith
END:VEVENT
BEGIN:VEVENT
DTSTART;TZID=America/New_York:20241013T113000
DTEND;TZID=America/New_York:20241013T123000
DTSTAMP:20260424T103910
CREATED:20240826T184533Z
LAST-MODIFIED:20240826T184533Z
UID:10014032-1728819000-1728822600@epworth.faith
SUMMARY:Meet Me @ Epworth Group Bible Study (Branford Lounge)
DESCRIPTION:
URL:https://epworth.faith/event/meet-me-epworth-group-bible-study-branford-lounge/2024-10-13/
LOCATION:Epworth United Methodist Church\, 19285 Holland Glade Road\, Rehoboth Beach\, DE\, 19971\, United States
CATEGORIES:Church,Groups
ORGANIZER;CN="Mickie McManamon":MAILTO:mmcmanamon@epworth.faith
END:VEVENT
BEGIN:VEVENT
DTSTART;TZID=America/New_York:20241009T130000
DTEND;TZID=America/New_York:20241009T150000
DTSTAMP:20260424T103910
CREATED:20240228T154706Z
LAST-MODIFIED:20240228T154706Z
UID:10012337-1728478800-1728486000@epworth.faith
SUMMARY:Card Making Group (Branford Lounge)
DESCRIPTION:
URL:https://epworth.faith/event/card-making-group-branford-lounge-15/
LOCATION:Epworth United Methodist Church\, 19285 Holland Glade Road\, Rehoboth Beach\, DE\, 19971\, United States
CATEGORIES:Church,Groups
ORGANIZER;CN="Mickie McManamon":MAILTO:mmcmanamon@epworth.faith
END:VEVENT
BEGIN:VEVENT
DTSTART;TZID=America/New_York:20241006T113000
DTEND;TZID=America/New_York:20241006T123000
DTSTAMP:20260424T103910
CREATED:20240826T184533Z
LAST-MODIFIED:20240826T184533Z
UID:10014031-1728214200-1728217800@epworth.faith
SUMMARY:Meet Me @ Epworth Group Bible Study (Branford Lounge)
DESCRIPTION:
URL:https://epworth.faith/event/meet-me-epworth-group-bible-study-branford-lounge/2024-10-06/
LOCATION:Epworth United Methodist Church\, 19285 Holland Glade Road\, Rehoboth Beach\, DE\, 19971\, United States
CATEGORIES:Church,Groups
ORGANIZER;CN="Mickie McManamon":MAILTO:mmcmanamon@epworth.faith
END:VEVENT
BEGIN:VEVENT
DTSTART;TZID=America/New_York:20240925T130000
DTEND;TZID=America/New_York:20240925T150000
DTSTAMP:20260424T103910
CREATED:20240228T154636Z
LAST-MODIFIED:20240228T154636Z
UID:10012336-1727269200-1727276400@epworth.faith
SUMMARY:Card Making Group (Branford Lounge)
DESCRIPTION:
URL:https://epworth.faith/event/card-making-group-branford-lounge-14/
LOCATION:Epworth United Methodist Church\, 19285 Holland Glade Road\, Rehoboth Beach\, DE\, 19971\, United States
CATEGORIES:Church,Groups
ORGANIZER;CN="Mickie McManamon":MAILTO:mmcmanamon@epworth.faith
END:VEVENT
BEGIN:VEVENT
DTSTART;TZID=America/New_York:20240914T180000
DTEND;TZID=America/New_York:20240914T200000
DTSTAMP:20260424T103910
CREATED:20240826T185122Z
LAST-MODIFIED:20240826T185122Z
UID:10014065-1726336800-1726344000@epworth.faith
SUMMARY:Meet Me @ Epworth - Bonfire Cookout (Epworth Lawn)
DESCRIPTION:
URL:https://epworth.faith/event/meet-me-epworth-bonfire-cookout-epworth-lawn/
LOCATION:Epworth United Methodist Church\, 19285 Holland Glade Road\, Rehoboth Beach\, DE\, 19971\, United States
CATEGORIES:Church,Groups
ORGANIZER;CN="Mickie McManamon":MAILTO:mmcmanamon@epworth.faith
END:VEVENT
BEGIN:VEVENT
DTSTART;TZID=America/New_York:20240911T130000
DTEND;TZID=America/New_York:20240911T150000
DTSTAMP:20260424T103910
CREATED:20240228T154525Z
LAST-MODIFIED:20240228T154608Z
UID:10012335-1726059600-1726066800@epworth.faith
SUMMARY:Card Making Group (Branford Lounge)
DESCRIPTION:
URL:https://epworth.faith/event/card-making-group-branford-lounge-13/
LOCATION:Epworth United Methodist Church\, 19285 Holland Glade Road\, Rehoboth Beach\, DE\, 19971\, United States
CATEGORIES:Church,Groups
ORGANIZER;CN="Mickie McManamon":MAILTO:mmcmanamon@epworth.faith
END:VEVENT
BEGIN:VEVENT
DTSTART;TZID=America/New_York:20240911T100000
DTEND;TZID=America/New_York:20240911T120000
DTSTAMP:20260424T103910
CREATED:20240820T160023Z
LAST-MODIFIED:20240820T160023Z
UID:10014024-1726048800-1726056000@epworth.faith
SUMMARY:Caring Ministry Meeting (Office Conference Room)
DESCRIPTION:
URL:https://epworth.faith/event/caring-ministry-meeting-office-conference-room-2/
LOCATION:Epworth United Methodist Church\, 19285 Holland Glade Road\, Rehoboth Beach\, DE\, 19971\, United States
CATEGORIES:Church,Groups
ORGANIZER;CN="Mickie McManamon":MAILTO:mmcmanamon@epworth.faith
END:VEVENT
BEGIN:VEVENT
DTSTART;TZID=America/New_York:20240828T130000
DTEND;TZID=America/New_York:20240828T150000
DTSTAMP:20260424T103910
CREATED:20240228T154236Z
LAST-MODIFIED:20240228T154236Z
UID:10012334-1724850000-1724857200@epworth.faith
SUMMARY:Card Making Group (Branford Lounge)
DESCRIPTION:
URL:https://epworth.faith/event/card-making-group-branford-lounge-12/
LOCATION:Epworth United Methodist Church\, 19285 Holland Glade Road\, Rehoboth Beach\, DE\, 19971\, United States
CATEGORIES:Church,Groups
ORGANIZER;CN="Mickie McManamon":MAILTO:mmcmanamon@epworth.faith
END:VEVENT
BEGIN:VEVENT
DTSTART;TZID=America/New_York:20240820T100000
DTEND;TZID=America/New_York:20240820T120000
DTSTAMP:20260424T103910
CREATED:20240808T162010Z
LAST-MODIFIED:20240808T162010Z
UID:10014009-1724148000-1724155200@epworth.faith
SUMMARY:Caring Ministry Meeting (Office Conference Room)
DESCRIPTION:
URL:https://epworth.faith/event/caring-ministry-meeting-office-conference-room/
LOCATION:Epworth United Methodist Church\, 19285 Holland Glade Road\, Rehoboth Beach\, DE\, 19971\, United States
CATEGORIES:Church,Groups
ORGANIZER;CN="Mickie McManamon":MAILTO:mmcmanamon@epworth.faith
END:VEVENT
BEGIN:VEVENT
DTSTART;TZID=America/New_York:20240814T130000
DTEND;TZID=America/New_York:20240814T150000
DTSTAMP:20260424T103910
CREATED:20240228T154212Z
LAST-MODIFIED:20240228T154212Z
UID:10012333-1723640400-1723647600@epworth.faith
SUMMARY:Card Making Group (Branford Lounge)
DESCRIPTION:
URL:https://epworth.faith/event/card-making-group-branford-lounge-11/
LOCATION:Epworth United Methodist Church\, 19285 Holland Glade Road\, Rehoboth Beach\, DE\, 19971\, United States
CATEGORIES:Church,Groups
ORGANIZER;CN="Mickie McManamon":MAILTO:mmcmanamon@epworth.faith
END:VEVENT
BEGIN:VEVENT
DTSTART;TZID=America/New_York:20240808T100000
DTEND;TZID=America/New_York:20240808T120000
DTSTAMP:20260424T103910
CREATED:20240725T125943Z
LAST-MODIFIED:20240725T125943Z
UID:10013986-1723111200-1723118400@epworth.faith
SUMMARY:Caring Meeting (Office Conference Room)
DESCRIPTION:
URL:https://epworth.faith/event/caring-meeting-office-conference-room/
LOCATION:Epworth United Methodist Church\, 19285 Holland Glade Road\, Rehoboth Beach\, DE\, 19971\, United States
CATEGORIES:Church,Groups
ORGANIZER;CN="Mickie McManamon":MAILTO:mmcmanamon@epworth.faith
END:VEVENT
BEGIN:VEVENT
DTSTART;TZID=America/New_York:20240724T130000
DTEND;TZID=America/New_York:20240724T150000
DTSTAMP:20260424T103910
CREATED:20240228T154118Z
LAST-MODIFIED:20240228T154118Z
UID:10012332-1721826000-1721833200@epworth.faith
SUMMARY:Card Making Group (Branford Lounge)
DESCRIPTION:
URL:https://epworth.faith/event/card-making-group-branford-lounge-10/
LOCATION:Epworth United Methodist Church\, 19285 Holland Glade Road\, Rehoboth Beach\, DE\, 19971\, United States
CATEGORIES:Church,Groups
ORGANIZER;CN="Mickie McManamon":MAILTO:mmcmanamon@epworth.faith
END:VEVENT
BEGIN:VEVENT
DTSTART;TZID=America/New_York:20240718T100000
DTEND;TZID=America/New_York:20240718T120000
DTSTAMP:20260424T103910
CREATED:20240715T132143Z
LAST-MODIFIED:20240715T132143Z
UID:10013607-1721296800-1721304000@epworth.faith
SUMMARY:Caring Congregation Meeting
DESCRIPTION:
URL:https://epworth.faith/event/caring-congregation-meeting/
LOCATION:Epworth United Methodist Church\, 19285 Holland Glade Road\, Rehoboth Beach\, DE\, 19971\, United States
CATEGORIES:Church,Groups
ORGANIZER;CN="Mickie McManamon":MAILTO:mmcmanamon@epworth.faith
END:VEVENT
BEGIN:VEVENT
DTSTART;TZID=America/New_York:20240710T130000
DTEND;TZID=America/New_York:20240710T150000
DTSTAMP:20260424T103910
CREATED:20240228T154056Z
LAST-MODIFIED:20240228T154056Z
UID:10012331-1720616400-1720623600@epworth.faith
SUMMARY:Card Making Group (Branford Lounge)
DESCRIPTION:
URL:https://epworth.faith/event/card-making-group-branford-lounge-9/
LOCATION:Epworth United Methodist Church\, 19285 Holland Glade Road\, Rehoboth Beach\, DE\, 19971\, United States
CATEGORIES:Church,Groups
ORGANIZER;CN="Mickie McManamon":MAILTO:mmcmanamon@epworth.faith
END:VEVENT
BEGIN:VEVENT
DTSTART;TZID=America/New_York:20240626T130000
DTEND;TZID=America/New_York:20240626T150000
DTSTAMP:20260424T103910
CREATED:20240228T153735Z
LAST-MODIFIED:20240228T153735Z
UID:10012330-1719406800-1719414000@epworth.faith
SUMMARY:Card Making Group (Branford Lounge)
DESCRIPTION:
URL:https://epworth.faith/event/card-making-group-branford-lounge-8/
LOCATION:Epworth United Methodist Church\, 19285 Holland Glade Road\, Rehoboth Beach\, DE\, 19971\, United States
CATEGORIES:Church,Groups
ORGANIZER;CN="Mickie McManamon":MAILTO:mmcmanamon@epworth.faith
END:VEVENT
BEGIN:VEVENT
DTSTART;TZID=America/New_York:20240612T130000
DTEND;TZID=America/New_York:20240612T150000
DTSTAMP:20260424T103910
CREATED:20240228T153703Z
LAST-MODIFIED:20240228T153703Z
UID:10012329-1718197200-1718204400@epworth.faith
SUMMARY:Card Making Group (Branford Lounge)
DESCRIPTION:
URL:https://epworth.faith/event/card-making-group-branford-lounge-7/
LOCATION:Epworth United Methodist Church\, 19285 Holland Glade Road\, Rehoboth Beach\, DE\, 19971\, United States
CATEGORIES:Church,Groups
ORGANIZER;CN="Mickie McManamon":MAILTO:mmcmanamon@epworth.faith
END:VEVENT
BEGIN:VEVENT
DTSTART;TZID=America/New_York:20240528T100000
DTEND;TZID=America/New_York:20240528T110000
DTSTAMP:20260424T103910
CREATED:20240521T134651Z
LAST-MODIFIED:20240521T134651Z
UID:10013519-1716890400-1716894000@epworth.faith
SUMMARY:Walk to Emmaus Meeting (Office Conference Room)
DESCRIPTION:
URL:https://epworth.faith/event/walk-to-emmaus-meeting-office-conference-room/
LOCATION:Epworth United Methodist Church\, 19285 Holland Glade Road\, Rehoboth Beach\, DE\, 19971\, United States
CATEGORIES:Church,Groups
ORGANIZER;CN="Mickie McManamon":MAILTO:mmcmanamon@epworth.faith
END:VEVENT
BEGIN:VEVENT
DTSTART;TZID=America/New_York:20240522T130000
DTEND;TZID=America/New_York:20240522T150000
DTSTAMP:20260424T103910
CREATED:20240228T153613Z
LAST-MODIFIED:20240228T153613Z
UID:10012328-1716382800-1716390000@epworth.faith
SUMMARY:Card Making Group (Branford Lounge)
DESCRIPTION:
URL:https://epworth.faith/event/card-making-group-branford-lounge-6/
LOCATION:Epworth United Methodist Church\, 19285 Holland Glade Road\, Rehoboth Beach\, DE\, 19971\, United States
CATEGORIES:Church,Groups
ORGANIZER;CN="Mickie McManamon":MAILTO:mmcmanamon@epworth.faith
END:VEVENT
END:VCALENDAR