BEGIN:VCALENDAR
VERSION:2.0
PRODID:-//Epworth UMC - ECPv6.15.20//NONSGML v1.0//EN
CALSCALE:GREGORIAN
METHOD:PUBLISH
X-ORIGINAL-URL:https://epworth.faith
X-WR-CALDESC:Events for Epworth UMC
REFRESH-INTERVAL;VALUE=DURATION:PT1H
X-Robots-Tag:noindex
X-PUBLISHED-TTL:PT1H
BEGIN:VTIMEZONE
TZID:America/New_York
BEGIN:DAYLIGHT
TZOFFSETFROM:-0500
TZOFFSETTO:-0400
TZNAME:EDT
DTSTART:20220313T070000
END:DAYLIGHT
BEGIN:STANDARD
TZOFFSETFROM:-0400
TZOFFSETTO:-0500
TZNAME:EST
DTSTART:20221106T060000
END:STANDARD
BEGIN:DAYLIGHT
TZOFFSETFROM:-0500
TZOFFSETTO:-0400
TZNAME:EDT
DTSTART:20230312T070000
END:DAYLIGHT
BEGIN:STANDARD
TZOFFSETFROM:-0400
TZOFFSETTO:-0500
TZNAME:EST
DTSTART:20231105T060000
END:STANDARD
BEGIN:DAYLIGHT
TZOFFSETFROM:-0500
TZOFFSETTO:-0400
TZNAME:EDT
DTSTART:20240310T070000
END:DAYLIGHT
BEGIN:STANDARD
TZOFFSETFROM:-0400
TZOFFSETTO:-0500
TZNAME:EST
DTSTART:20241103T060000
END:STANDARD
BEGIN:DAYLIGHT
TZOFFSETFROM:-0500
TZOFFSETTO:-0400
TZNAME:EDT
DTSTART:20250309T070000
END:DAYLIGHT
BEGIN:STANDARD
TZOFFSETFROM:-0400
TZOFFSETTO:-0500
TZNAME:EST
DTSTART:20251102T060000
END:STANDARD
END:VTIMEZONE
BEGIN:VEVENT
DTSTART;TZID=America/New_York:20240718T100000
DTEND;TZID=America/New_York:20240718T120000
DTSTAMP:20260424T163447
CREATED:20240715T132143Z
LAST-MODIFIED:20240715T132143Z
UID:10013607-1721296800-1721304000@epworth.faith
SUMMARY:Caring Congregation Meeting
DESCRIPTION:
URL:https://epworth.faith/event/caring-congregation-meeting/
LOCATION:Epworth United Methodist Church\, 19285 Holland Glade Road\, Rehoboth Beach\, DE\, 19971\, United States
CATEGORIES:Church,Groups
ORGANIZER;CN="Mickie McManamon":MAILTO:mmcmanamon@epworth.faith
END:VEVENT
BEGIN:VEVENT
DTSTART;TZID=America/New_York:20240710T130000
DTEND;TZID=America/New_York:20240710T150000
DTSTAMP:20260424T163447
CREATED:20240228T154056Z
LAST-MODIFIED:20240228T154056Z
UID:10012331-1720616400-1720623600@epworth.faith
SUMMARY:Card Making Group (Branford Lounge)
DESCRIPTION:
URL:https://epworth.faith/event/card-making-group-branford-lounge-9/
LOCATION:Epworth United Methodist Church\, 19285 Holland Glade Road\, Rehoboth Beach\, DE\, 19971\, United States
CATEGORIES:Church,Groups
ORGANIZER;CN="Mickie McManamon":MAILTO:mmcmanamon@epworth.faith
END:VEVENT
BEGIN:VEVENT
DTSTART;TZID=America/New_York:20240626T130000
DTEND;TZID=America/New_York:20240626T150000
DTSTAMP:20260424T163447
CREATED:20240228T153735Z
LAST-MODIFIED:20240228T153735Z
UID:10012330-1719406800-1719414000@epworth.faith
SUMMARY:Card Making Group (Branford Lounge)
DESCRIPTION:
URL:https://epworth.faith/event/card-making-group-branford-lounge-8/
LOCATION:Epworth United Methodist Church\, 19285 Holland Glade Road\, Rehoboth Beach\, DE\, 19971\, United States
CATEGORIES:Church,Groups
ORGANIZER;CN="Mickie McManamon":MAILTO:mmcmanamon@epworth.faith
END:VEVENT
BEGIN:VEVENT
DTSTART;TZID=America/New_York:20240612T130000
DTEND;TZID=America/New_York:20240612T150000
DTSTAMP:20260424T163447
CREATED:20240228T153703Z
LAST-MODIFIED:20240228T153703Z
UID:10012329-1718197200-1718204400@epworth.faith
SUMMARY:Card Making Group (Branford Lounge)
DESCRIPTION:
URL:https://epworth.faith/event/card-making-group-branford-lounge-7/
LOCATION:Epworth United Methodist Church\, 19285 Holland Glade Road\, Rehoboth Beach\, DE\, 19971\, United States
CATEGORIES:Church,Groups
ORGANIZER;CN="Mickie McManamon":MAILTO:mmcmanamon@epworth.faith
END:VEVENT
BEGIN:VEVENT
DTSTART;TZID=America/New_York:20240528T100000
DTEND;TZID=America/New_York:20240528T110000
DTSTAMP:20260424T163447
CREATED:20240521T134651Z
LAST-MODIFIED:20240521T134651Z
UID:10013519-1716890400-1716894000@epworth.faith
SUMMARY:Walk to Emmaus Meeting (Office Conference Room)
DESCRIPTION:
URL:https://epworth.faith/event/walk-to-emmaus-meeting-office-conference-room/
LOCATION:Epworth United Methodist Church\, 19285 Holland Glade Road\, Rehoboth Beach\, DE\, 19971\, United States
CATEGORIES:Church,Groups
ORGANIZER;CN="Mickie McManamon":MAILTO:mmcmanamon@epworth.faith
END:VEVENT
BEGIN:VEVENT
DTSTART;TZID=America/New_York:20240522T130000
DTEND;TZID=America/New_York:20240522T150000
DTSTAMP:20260424T163447
CREATED:20240228T153613Z
LAST-MODIFIED:20240228T153613Z
UID:10012328-1716382800-1716390000@epworth.faith
SUMMARY:Card Making Group (Branford Lounge)
DESCRIPTION:
URL:https://epworth.faith/event/card-making-group-branford-lounge-6/
LOCATION:Epworth United Methodist Church\, 19285 Holland Glade Road\, Rehoboth Beach\, DE\, 19971\, United States
CATEGORIES:Church,Groups
ORGANIZER;CN="Mickie McManamon":MAILTO:mmcmanamon@epworth.faith
END:VEVENT
BEGIN:VEVENT
DTSTART;TZID=America/New_York:20240511T170000
DTEND;TZID=America/New_York:20240511T200000
DTSTAMP:20260424T163447
CREATED:20240325T144530Z
LAST-MODIFIED:20240325T144531Z
UID:10012633-1715446800-1715457600@epworth.faith
SUMMARY:Meet Me Picnic (Outside)
DESCRIPTION:
URL:https://epworth.faith/event/meet-me-picnic-outside/
LOCATION:Epworth United Methodist Church\, 19285 Holland Glade Road\, Rehoboth Beach\, DE\, 19971\, United States
CATEGORIES:Church,Groups
ORGANIZER;CN="Mickie McManamon":MAILTO:mmcmanamon@epworth.faith
END:VEVENT
BEGIN:VEVENT
DTSTART;TZID=America/New_York:20240508T130000
DTEND;TZID=America/New_York:20240508T150000
DTSTAMP:20260424T163447
CREATED:20240228T153541Z
LAST-MODIFIED:20240228T153541Z
UID:10012327-1715173200-1715180400@epworth.faith
SUMMARY:Card Making Group (Branford Lounge)
DESCRIPTION:
URL:https://epworth.faith/event/card-making-group-branford-lounge-5/
LOCATION:Epworth United Methodist Church\, 19285 Holland Glade Road\, Rehoboth Beach\, DE\, 19971\, United States
CATEGORIES:Church,Groups
ORGANIZER;CN="Mickie McManamon":MAILTO:mmcmanamon@epworth.faith
END:VEVENT
BEGIN:VEVENT
DTSTART;TZID=America/New_York:20240424T130000
DTEND;TZID=America/New_York:20240424T150000
DTSTAMP:20260424T163447
CREATED:20240228T153311Z
LAST-MODIFIED:20240228T153311Z
UID:10012326-1713963600-1713970800@epworth.faith
SUMMARY:Card Making Group (Branford Lounge)
DESCRIPTION:
URL:https://epworth.faith/event/card-making-group-branford-lounge-4/
LOCATION:Epworth United Methodist Church\, 19285 Holland Glade Road\, Rehoboth Beach\, DE\, 19971\, United States
CATEGORIES:Church,Groups
ORGANIZER;CN="Mickie McManamon":MAILTO:mmcmanamon@epworth.faith
END:VEVENT
BEGIN:VEVENT
DTSTART;TZID=America/New_York:20240421T090000
DTEND;TZID=America/New_York:20240421T130000
DTSTAMP:20260424T163447
CREATED:20240212T190109Z
LAST-MODIFIED:20240212T190304Z
UID:10012300-1713690000-1713704400@epworth.faith
SUMMARY:Delmarva Blood Bank Donations (Fellowship Hall)
DESCRIPTION:
URL:https://epworth.faith/event/delmarva-blood-bank-donations-fellowship-hall/
LOCATION:Epworth United Methodist Church\, 19285 Holland Glade Road\, Rehoboth Beach\, DE\, 19971\, United States
CATEGORIES:Church,Groups
ORGANIZER;CN="Mickie McManamon":MAILTO:mmcmanamon@epworth.faith
END:VEVENT
BEGIN:VEVENT
DTSTART;TZID=America/New_York:20240410T130000
DTEND;TZID=America/New_York:20240410T150000
DTSTAMP:20260424T163447
CREATED:20240228T153244Z
LAST-MODIFIED:20240228T153244Z
UID:10012325-1712754000-1712761200@epworth.faith
SUMMARY:Card Making Group (Branford Lounge)
DESCRIPTION:
URL:https://epworth.faith/event/card-making-group-branford-lounge-3/
LOCATION:Epworth United Methodist Church\, 19285 Holland Glade Road\, Rehoboth Beach\, DE\, 19971\, United States
CATEGORIES:Church,Groups
ORGANIZER;CN="Mickie McManamon":MAILTO:mmcmanamon@epworth.faith
END:VEVENT
BEGIN:VEVENT
DTSTART;TZID=America/New_York:20240327T130000
DTEND;TZID=America/New_York:20240327T150000
DTSTAMP:20260424T163447
CREATED:20240228T153028Z
LAST-MODIFIED:20240228T153028Z
UID:10012324-1711544400-1711551600@epworth.faith
SUMMARY:Card Making Group (Branford Lounge)
DESCRIPTION:
URL:https://epworth.faith/event/card-making-group-branford-lounge-2/
LOCATION:Epworth United Methodist Church\, 19285 Holland Glade Road\, Rehoboth Beach\, DE\, 19971\, United States
CATEGORIES:Church,Groups
ORGANIZER;CN="Mickie McManamon":MAILTO:mmcmanamon@epworth.faith
END:VEVENT
BEGIN:VEVENT
DTSTART;TZID=America/New_York:20240316T190000
DTEND;TZID=America/New_York:20240316T210000
DTSTAMP:20260424T163447
CREATED:20230815T152619Z
LAST-MODIFIED:20230815T152619Z
UID:10008976-1710615600-1710622800@epworth.faith
SUMMARY:Meet Me @ Epworth (Fellowship Hall) St. Patrick's Day Dance
DESCRIPTION:
URL:https://epworth.faith/event/meet-me-epworth-fellowship-hall-st-patricks-day-dance/
LOCATION:Epworth United Methodist Church\, 19285 Holland Glade Road\, Rehoboth Beach\, DE\, 19971\, United States
CATEGORIES:Church,Groups
ORGANIZER;CN="Mickie McManamon":MAILTO:mmcmanamon@epworth.faith
END:VEVENT
BEGIN:VEVENT
DTSTART;TZID=America/New_York:20240313T130000
DTEND;TZID=America/New_York:20240313T150000
DTSTAMP:20260424T163447
CREATED:20240228T152941Z
LAST-MODIFIED:20240228T152941Z
UID:10012323-1710334800-1710342000@epworth.faith
SUMMARY:Card Making Group (Branford Lounge)
DESCRIPTION:
URL:https://epworth.faith/event/card-making-group-branford-lounge/
LOCATION:Epworth United Methodist Church\, 19285 Holland Glade Road\, Rehoboth Beach\, DE\, 19971\, United States
CATEGORIES:Church,Groups
ORGANIZER;CN="Mickie McManamon":MAILTO:mmcmanamon@epworth.faith
END:VEVENT
BEGIN:VEVENT
DTSTART;TZID=America/New_York:20240229T120000
DTEND;TZID=America/New_York:20240302T170000
DTSTAMP:20260424T163447
CREATED:20240227T165606Z
LAST-MODIFIED:20240227T165606Z
UID:10012322-1709208000-1709398800@epworth.faith
SUMMARY:Cornhole Tournament Staging (Starnes Room)
DESCRIPTION:
URL:https://epworth.faith/event/cornhole-tournament-staging-starnes-room/
LOCATION:Epworth United Methodist Church\, 19285 Holland Glade Road\, Rehoboth Beach\, DE\, 19971\, United States
CATEGORIES:Facility Rentals,Neighborhood/Community Groups
ORGANIZER;CN="Mickie McManamon":MAILTO:mmcmanamon@epworth.faith
END:VEVENT
BEGIN:VEVENT
DTSTART;TZID=America/New_York:20240223T100000
DTEND;TZID=America/New_York:20240223T130000
DTSTAMP:20260424T163447
CREATED:20240119T171807Z
LAST-MODIFIED:20240119T171807Z
UID:10012264-1708682400-1708693200@epworth.faith
SUMMARY:Celebration of Life - Gwendolyn Lemly Summey (Sanctuary)
DESCRIPTION:“Gwen”\, mother of Dow Juliano.
URL:https://epworth.faith/event/celebration-of-life-gwendolyn-lemly-summey-sanctuary/
LOCATION:Epworth United Methodist Church\, 19285 Holland Glade Road\, Rehoboth Beach\, DE\, 19971\, United States
CATEGORIES:Church,Funerals
ORGANIZER;CN="Mickie McManamon":MAILTO:mmcmanamon@epworth.faith
END:VEVENT
BEGIN:VEVENT
DTSTART;TZID=America/New_York:20231227T130000
DTEND;TZID=America/New_York:20231227T150000
DTSTAMP:20260424T163447
CREATED:20221214T155459Z
LAST-MODIFIED:20221214T155459Z
UID:10007740-1703682000-1703689200@epworth.faith
SUMMARY:Card Making (Branford Lounge)
DESCRIPTION:
URL:https://epworth.faith/event/card-making-branford-lounge-4/2023-12-27/
LOCATION:Epworth United Methodist Church\, 19285 Holland Glade Road\, Rehoboth Beach\, DE\, 19971\, United States
CATEGORIES:Groups
ORGANIZER;CN="Mickie McManamon":MAILTO:mmcmanamon@epworth.faith
END:VEVENT
BEGIN:VEVENT
DTSTART;TZID=America/New_York:20231213T130000
DTEND;TZID=America/New_York:20231213T150000
DTSTAMP:20260424T163447
CREATED:20221214T155341Z
LAST-MODIFIED:20221214T155341Z
UID:10007728-1702472400-1702479600@epworth.faith
SUMMARY:Card Making (Branford Lounge)
DESCRIPTION:
URL:https://epworth.faith/event/card-making-branford-lounge-3/2023-12-13/
LOCATION:Epworth United Methodist Church\, 19285 Holland Glade Road\, Rehoboth Beach\, DE\, 19971\, United States
CATEGORIES:Groups
ORGANIZER;CN="Mickie McManamon":MAILTO:mmcmanamon@epworth.faith
END:VEVENT
BEGIN:VEVENT
DTSTART;TZID=America/New_York:20231213T100000
DTEND;TZID=America/New_York:20231213T140000
DTSTAMP:20260424T163447
CREATED:20231116T202501Z
LAST-MODIFIED:20231116T202501Z
UID:10011103-1702461600-1702476000@epworth.faith
SUMMARY:Celebration of Life - Barbara G. Rowe (Sanctuary & Fellowship Hall)
DESCRIPTION:
URL:https://epworth.faith/event/celebration-of-life-barbara-g-rowe-sanctuary-fellowship-hall/
LOCATION:Epworth United Methodist Church\, 19285 Holland Glade Road\, Rehoboth Beach\, DE\, 19971\, United States
CATEGORIES:Church,Funerals
ORGANIZER;CN="Mickie McManamon":MAILTO:mmcmanamon@epworth.faith
END:VEVENT
BEGIN:VEVENT
DTSTART;TZID=America/New_York:20231209T124500
DTEND;TZID=America/New_York:20231209T150000
DTSTAMP:20260424T163447
CREATED:20231031T152718Z
LAST-MODIFIED:20231031T161715Z
UID:10010189-1702125900-1702134000@epworth.faith
SUMMARY:Celebration of Life - Donald Derrickson (Sanctuary)
DESCRIPTION:Celebration of Life Service – Begins at 2:00 p.m.
URL:https://epworth.faith/event/celebration-of-life-donald-derrickson-sanctuary/
LOCATION:Epworth United Methodist Church\, 19285 Holland Glade Road\, Rehoboth Beach\, DE\, 19971\, United States
ORGANIZER;CN="Mickie McManamon":MAILTO:mmcmanamon@epworth.faith
END:VEVENT
BEGIN:VEVENT
DTSTART;TZID=America/New_York:20231204T100000
DTEND;TZID=America/New_York:20231204T110000
DTSTAMP:20260424T163447
CREATED:20230427T151228Z
LAST-MODIFIED:20230427T151228Z
UID:10008591-1701684000-1701687600@epworth.faith
SUMMARY:Stitchers of Love (Branford Lounge)
DESCRIPTION:
URL:https://epworth.faith/event/stitchers-of-love-branford-lounge/2023-12-04/
LOCATION:Epworth United Methodist Church\, 19285 Holland Glade Road\, Rehoboth Beach\, DE\, 19971\, United States
CATEGORIES:Groups
ORGANIZER;CN="Mickie McManamon":MAILTO:mmcmanamon@epworth.faith
END:VEVENT
BEGIN:VEVENT
DTSTART;TZID=America/New_York:20231202T100000
DTEND;TZID=America/New_York:20231202T134500
DTSTAMP:20260424T163447
CREATED:20231109T235410Z
LAST-MODIFIED:20231109T235411Z
UID:10011096-1701511200-1701524700@epworth.faith
SUMMARY:Celebration of Life - John Fisher (Sanctuary)
DESCRIPTION:
URL:https://epworth.faith/event/celebration-of-life-john-fisher-sanctuary/
LOCATION:Epworth United Methodist Church\, 19285 Holland Glade Road\, Rehoboth Beach\, DE\, 19971\, United States
CATEGORIES:Church,Funerals
ORGANIZER;CN="Mickie McManamon":MAILTO:mmcmanamon@epworth.faith
END:VEVENT
BEGIN:VEVENT
DTSTART;TZID=America/New_York:20231127T103000
DTEND;TZID=America/New_York:20231127T120000
DTSTAMP:20260424T163447
CREATED:20231115T143945Z
LAST-MODIFIED:20231115T145219Z
UID:10011098-1701081000-1701086400@epworth.faith
SUMMARY:Caring Ministry (Admin Conference Room)
DESCRIPTION:
URL:https://epworth.faith/event/caring-ministry-admin-conference-room/
LOCATION:Epworth United Methodist Church\, 19285 Holland Glade Road\, Rehoboth Beach\, DE\, 19971\, United States
CATEGORIES:Church,Groups
ORGANIZER;CN="Mickie McManamon":MAILTO:mmcmanamon@epworth.faith
END:VEVENT
BEGIN:VEVENT
DTSTART;TZID=America/New_York:20231122T130000
DTEND;TZID=America/New_York:20231122T150000
DTSTAMP:20260424T163447
CREATED:20221214T155459Z
LAST-MODIFIED:20221214T155459Z
UID:10007739-1700658000-1700665200@epworth.faith
SUMMARY:Card Making (Branford Lounge)
DESCRIPTION:
URL:https://epworth.faith/event/card-making-branford-lounge-4/2023-11-22/
LOCATION:Epworth United Methodist Church\, 19285 Holland Glade Road\, Rehoboth Beach\, DE\, 19971\, United States
CATEGORIES:Groups
ORGANIZER;CN="Mickie McManamon":MAILTO:mmcmanamon@epworth.faith
END:VEVENT
BEGIN:VEVENT
DTSTART;TZID=America/New_York:20231108T130000
DTEND;TZID=America/New_York:20231108T150000
DTSTAMP:20260424T163447
CREATED:20221214T155341Z
LAST-MODIFIED:20221214T155341Z
UID:10007727-1699448400-1699455600@epworth.faith
SUMMARY:Card Making (Branford Lounge)
DESCRIPTION:
URL:https://epworth.faith/event/card-making-branford-lounge-3/2023-11-08/
LOCATION:Epworth United Methodist Church\, 19285 Holland Glade Road\, Rehoboth Beach\, DE\, 19971\, United States
CATEGORIES:Groups
ORGANIZER;CN="Mickie McManamon":MAILTO:mmcmanamon@epworth.faith
END:VEVENT
BEGIN:VEVENT
DTSTART;TZID=America/New_York:20231106T100000
DTEND;TZID=America/New_York:20231106T110000
DTSTAMP:20260424T163447
CREATED:20230427T151228Z
LAST-MODIFIED:20230427T151228Z
UID:10008590-1699264800-1699268400@epworth.faith
SUMMARY:Stitchers of Love (Branford Lounge)
DESCRIPTION:
URL:https://epworth.faith/event/stitchers-of-love-branford-lounge/2023-11-06/
LOCATION:Epworth United Methodist Church\, 19285 Holland Glade Road\, Rehoboth Beach\, DE\, 19971\, United States
CATEGORIES:Groups
ORGANIZER;CN="Mickie McManamon":MAILTO:mmcmanamon@epworth.faith
END:VEVENT
BEGIN:VEVENT
DTSTART;TZID=America/New_York:20231025T130000
DTEND;TZID=America/New_York:20231025T150000
DTSTAMP:20260424T163447
CREATED:20221214T155459Z
LAST-MODIFIED:20221214T155459Z
UID:10007738-1698238800-1698246000@epworth.faith
SUMMARY:Card Making (Branford Lounge)
DESCRIPTION:
URL:https://epworth.faith/event/card-making-branford-lounge-4/2023-10-25/
LOCATION:Epworth United Methodist Church\, 19285 Holland Glade Road\, Rehoboth Beach\, DE\, 19971\, United States
CATEGORIES:Groups
ORGANIZER;CN="Mickie McManamon":MAILTO:mmcmanamon@epworth.faith
END:VEVENT
BEGIN:VEVENT
DTSTART;TZID=America/New_York:20231011T130000
DTEND;TZID=America/New_York:20231011T150000
DTSTAMP:20260424T163447
CREATED:20221214T155341Z
LAST-MODIFIED:20221214T155341Z
UID:10007726-1697029200-1697036400@epworth.faith
SUMMARY:Card Making (Branford Lounge)
DESCRIPTION:
URL:https://epworth.faith/event/card-making-branford-lounge-3/2023-10-11/
LOCATION:Epworth United Methodist Church\, 19285 Holland Glade Road\, Rehoboth Beach\, DE\, 19971\, United States
CATEGORIES:Groups
ORGANIZER;CN="Mickie McManamon":MAILTO:mmcmanamon@epworth.faith
END:VEVENT
BEGIN:VEVENT
DTSTART;TZID=America/New_York:20231002T100000
DTEND;TZID=America/New_York:20231002T110000
DTSTAMP:20260424T163447
CREATED:20230427T151228Z
LAST-MODIFIED:20230427T151228Z
UID:10008589-1696240800-1696244400@epworth.faith
SUMMARY:Stitchers of Love (Branford Lounge)
DESCRIPTION:
URL:https://epworth.faith/event/stitchers-of-love-branford-lounge/2023-10-02/
LOCATION:Epworth United Methodist Church\, 19285 Holland Glade Road\, Rehoboth Beach\, DE\, 19971\, United States
CATEGORIES:Groups
ORGANIZER;CN="Mickie McManamon":MAILTO:mmcmanamon@epworth.faith
END:VEVENT
BEGIN:VEVENT
DTSTART;TZID=America/New_York:20230927T130000
DTEND;TZID=America/New_York:20230927T150000
DTSTAMP:20260424T163447
CREATED:20221214T155459Z
LAST-MODIFIED:20221214T155459Z
UID:10007737-1695819600-1695826800@epworth.faith
SUMMARY:Card Making (Branford Lounge)
DESCRIPTION:
URL:https://epworth.faith/event/card-making-branford-lounge-4/2023-09-27/
LOCATION:Epworth United Methodist Church\, 19285 Holland Glade Road\, Rehoboth Beach\, DE\, 19971\, United States
CATEGORIES:Groups
ORGANIZER;CN="Mickie McManamon":MAILTO:mmcmanamon@epworth.faith
END:VEVENT
END:VCALENDAR