BEGIN:VCALENDAR
VERSION:2.0
PRODID:-//Epworth UMC - ECPv6.15.20//NONSGML v1.0//EN
CALSCALE:GREGORIAN
METHOD:PUBLISH
X-ORIGINAL-URL:https://epworth.faith
X-WR-CALDESC:Events for Epworth UMC
REFRESH-INTERVAL;VALUE=DURATION:PT1H
X-Robots-Tag:noindex
X-PUBLISHED-TTL:PT1H
BEGIN:VTIMEZONE
TZID:America/New_York
BEGIN:DAYLIGHT
TZOFFSETFROM:-0500
TZOFFSETTO:-0400
TZNAME:EDT
DTSTART:20210314T070000
END:DAYLIGHT
BEGIN:STANDARD
TZOFFSETFROM:-0400
TZOFFSETTO:-0500
TZNAME:EST
DTSTART:20211107T060000
END:STANDARD
BEGIN:DAYLIGHT
TZOFFSETFROM:-0500
TZOFFSETTO:-0400
TZNAME:EDT
DTSTART:20220313T070000
END:DAYLIGHT
BEGIN:STANDARD
TZOFFSETFROM:-0400
TZOFFSETTO:-0500
TZNAME:EST
DTSTART:20221106T060000
END:STANDARD
BEGIN:DAYLIGHT
TZOFFSETFROM:-0500
TZOFFSETTO:-0400
TZNAME:EDT
DTSTART:20230312T070000
END:DAYLIGHT
BEGIN:STANDARD
TZOFFSETFROM:-0400
TZOFFSETTO:-0500
TZNAME:EST
DTSTART:20231105T060000
END:STANDARD
BEGIN:DAYLIGHT
TZOFFSETFROM:-0500
TZOFFSETTO:-0400
TZNAME:EDT
DTSTART:20240310T070000
END:DAYLIGHT
BEGIN:STANDARD
TZOFFSETFROM:-0400
TZOFFSETTO:-0500
TZNAME:EST
DTSTART:20241103T060000
END:STANDARD
BEGIN:DAYLIGHT
TZOFFSETFROM:-0500
TZOFFSETTO:-0400
TZNAME:EDT
DTSTART:20250309T070000
END:DAYLIGHT
BEGIN:STANDARD
TZOFFSETFROM:-0400
TZOFFSETTO:-0500
TZNAME:EST
DTSTART:20251102T060000
END:STANDARD
BEGIN:DAYLIGHT
TZOFFSETFROM:-0500
TZOFFSETTO:-0400
TZNAME:EDT
DTSTART:20260308T070000
END:DAYLIGHT
BEGIN:STANDARD
TZOFFSETFROM:-0400
TZOFFSETTO:-0500
TZNAME:EST
DTSTART:20261101T060000
END:STANDARD
END:VTIMEZONE
BEGIN:VEVENT
DTSTART;VALUE=DATE:20250512
DTEND;VALUE=DATE:20250513
DTSTAMP:20260424T033731
CREATED:20250508T203056Z
LAST-MODIFIED:20250520T144042Z
UID:10016048-1747008000-1747094399@epworth.faith
SUMMARY:Storage Space for Kitchen (Starnes Room)
DESCRIPTION:
URL:https://epworth.faith/event/storage-space-for-kitchen-starnes-room/2025-05-12/
LOCATION:Epworth United Methodist Church\, 19285 Holland Glade Road\, Rehoboth Beach\, DE\, 19971\, United States
CATEGORIES:Church,Groups
ORGANIZER;CN="Mike Tyler":MAILTO:miketylerde@gmail.com
END:VEVENT
BEGIN:VEVENT
DTSTART;VALUE=DATE:20250511
DTEND;VALUE=DATE:20250512
DTSTAMP:20260424T033731
CREATED:20250508T203056Z
LAST-MODIFIED:20250520T144042Z
UID:10016047-1746921600-1747007999@epworth.faith
SUMMARY:Storage Space for Kitchen (Starnes Room)
DESCRIPTION:
URL:https://epworth.faith/event/storage-space-for-kitchen-starnes-room/2025-05-11/
LOCATION:Epworth United Methodist Church\, 19285 Holland Glade Road\, Rehoboth Beach\, DE\, 19971\, United States
CATEGORIES:Church,Groups
ORGANIZER;CN="Mike Tyler":MAILTO:miketylerde@gmail.com
END:VEVENT
BEGIN:VEVENT
DTSTART;VALUE=DATE:20250510
DTEND;VALUE=DATE:20250511
DTSTAMP:20260424T033731
CREATED:20250508T203056Z
LAST-MODIFIED:20250520T144042Z
UID:10016046-1746835200-1746921599@epworth.faith
SUMMARY:Storage Space for Kitchen (Starnes Room)
DESCRIPTION:
URL:https://epworth.faith/event/storage-space-for-kitchen-starnes-room/2025-05-10/
LOCATION:Epworth United Methodist Church\, 19285 Holland Glade Road\, Rehoboth Beach\, DE\, 19971\, United States
CATEGORIES:Church,Groups
ORGANIZER;CN="Mike Tyler":MAILTO:miketylerde@gmail.com
END:VEVENT
BEGIN:VEVENT
DTSTART;VALUE=DATE:20250509
DTEND;VALUE=DATE:20250510
DTSTAMP:20260424T033731
CREATED:20250508T203056Z
LAST-MODIFIED:20250520T144042Z
UID:10016045-1746748800-1746835199@epworth.faith
SUMMARY:Storage Space for Kitchen (Starnes Room)
DESCRIPTION:
URL:https://epworth.faith/event/storage-space-for-kitchen-starnes-room/2025-05-09/
LOCATION:Epworth United Methodist Church\, 19285 Holland Glade Road\, Rehoboth Beach\, DE\, 19971\, United States
CATEGORIES:Church,Groups
ORGANIZER;CN="Mike Tyler":MAILTO:miketylerde@gmail.com
END:VEVENT
BEGIN:VEVENT
DTSTART;TZID=America/New_York:20250501T123000
DTEND;TZID=America/New_York:20250501T130000
DTSTAMP:20260424T033731
CREATED:20250501T142351Z
LAST-MODIFIED:20250501T142351Z
UID:10016024-1746102600-1746104400@epworth.faith
SUMMARY:Food Ministry Meeting (Office Conference Room)
DESCRIPTION:
URL:https://epworth.faith/event/food-ministry-meeting-office-conference-room-2/
LOCATION:Epworth United Methodist Church\, 19285 Holland Glade Road\, Rehoboth Beach\, DE\, 19971\, United States
CATEGORIES:Church,Groups
ORGANIZER;CN="Mike Tyler":MAILTO:miketylerde@gmail.com
END:VEVENT
BEGIN:VEVENT
DTSTART;TZID=America/New_York:20250410T123000
DTEND;TZID=America/New_York:20250410T143000
DTSTAMP:20260424T033731
CREATED:20250410T125732Z
LAST-MODIFIED:20250410T125732Z
UID:10016009-1744288200-1744295400@epworth.faith
SUMMARY:Food Ministry Meeting (Conference Room)
DESCRIPTION:
URL:https://epworth.faith/event/food-ministry-meeting-conference-room/
LOCATION:Epworth United Methodist Church\, 19285 Holland Glade Road\, Rehoboth Beach\, DE\, 19971\, United States
CATEGORIES:Church,Groups
ORGANIZER;CN="Mike Tyler":MAILTO:miketylerde@gmail.com
END:VEVENT
BEGIN:VEVENT
DTSTART;TZID=America/New_York:20250306T123000
DTEND;TZID=America/New_York:20250306T133000
DTSTAMP:20260424T033731
CREATED:20250213T165548Z
LAST-MODIFIED:20250213T170123Z
UID:10015508-1741264200-1741267800@epworth.faith
SUMMARY:Food Team Leads Meeting (Office Conference Room)
DESCRIPTION:
URL:https://epworth.faith/event/food-teram-leads-meeting-office-conference-room/
LOCATION:Epworth United Methodist Church\, 19285 Holland Glade Road\, Rehoboth Beach\, DE\, 19971\, United States
CATEGORIES:Church,Groups
ORGANIZER;CN="Mike Tyler":MAILTO:miketylerde@gmail.com
END:VEVENT
BEGIN:VEVENT
DTSTART;TZID=America/New_York:20250206T110000
DTEND;TZID=America/New_York:20250206T120000
DTSTAMP:20260424T033731
CREATED:20250109T185158Z
LAST-MODIFIED:20250109T185158Z
UID:10015353-1738839600-1738843200@epworth.faith
SUMMARY:Food Ministry Meeting (Office Conference Room)
DESCRIPTION:
URL:https://epworth.faith/event/food-ministry-meeting-office-conference-room/
LOCATION:Epworth United Methodist Church\, 19285 Holland Glade Road\, Rehoboth Beach\, DE\, 19971\, United States
CATEGORIES:Church,Groups
ORGANIZER;CN="Mike Tyler":MAILTO:miketylerde@gmail.com
END:VEVENT
BEGIN:VEVENT
DTSTART;TZID=America/New_York:20230506T090000
DTEND;TZID=America/New_York:20230506T130000
DTSTAMP:20260424T033731
CREATED:20230329T153041Z
LAST-MODIFIED:20230329T153041Z
UID:10008178-1683363600-1683378000@epworth.faith
SUMMARY:Belongings Class (Admin. Room)
DESCRIPTION:
URL:https://epworth.faith/event/belongings-class-admin-room/
LOCATION:Epworth United Methodist Church\, 19285 Holland Glade Road\, Rehoboth Beach\, DE\, 19971\, United States
CATEGORIES:Groups
ORGANIZER;CN="Mike Tyler":MAILTO:miketylerde@gmail.com
END:VEVENT
BEGIN:VEVENT
DTSTART;TZID=America/New_York:20221112T090000
DTEND;TZID=America/New_York:20221112T130000
DTSTAMP:20260424T033731
CREATED:20221011T161434Z
LAST-MODIFIED:20221011T161434Z
UID:10006124-1668243600-1668258000@epworth.faith
SUMMARY:Belongings Class (Administrative Conference Room)
DESCRIPTION:
URL:https://epworth.faith/event/belongings-class-administrative-conference-room/
LOCATION:Epworth United Methodist Church\, 19285 Holland Glade Road\, Rehoboth Beach\, DE\, 19971\, United States
CATEGORIES:Groups
ORGANIZER;CN="Mike Tyler":MAILTO:miketylerde@gmail.com
END:VEVENT
END:VCALENDAR