BEGIN:VCALENDAR
VERSION:2.0
PRODID:-//Epworth UMC - ECPv6.15.20//NONSGML v1.0//EN
CALSCALE:GREGORIAN
METHOD:PUBLISH
X-WR-CALNAME:Epworth UMC
X-ORIGINAL-URL:https://epworth.faith
X-WR-CALDESC:Events for Epworth UMC
REFRESH-INTERVAL;VALUE=DURATION:PT1H
X-Robots-Tag:noindex
X-PUBLISHED-TTL:PT1H
BEGIN:VTIMEZONE
TZID:America/New_York
BEGIN:DAYLIGHT
TZOFFSETFROM:-0500
TZOFFSETTO:-0400
TZNAME:EDT
DTSTART:20250309T070000
END:DAYLIGHT
BEGIN:STANDARD
TZOFFSETFROM:-0400
TZOFFSETTO:-0500
TZNAME:EST
DTSTART:20251102T060000
END:STANDARD
BEGIN:DAYLIGHT
TZOFFSETFROM:-0500
TZOFFSETTO:-0400
TZNAME:EDT
DTSTART:20260308T070000
END:DAYLIGHT
BEGIN:STANDARD
TZOFFSETFROM:-0400
TZOFFSETTO:-0500
TZNAME:EST
DTSTART:20261101T060000
END:STANDARD
BEGIN:DAYLIGHT
TZOFFSETFROM:-0500
TZOFFSETTO:-0400
TZNAME:EDT
DTSTART:20270314T070000
END:DAYLIGHT
BEGIN:STANDARD
TZOFFSETFROM:-0400
TZOFFSETTO:-0500
TZNAME:EST
DTSTART:20271107T060000
END:STANDARD
END:VTIMEZONE
BEGIN:VEVENT
DTSTART;TZID=America/New_York:20260511T130000
DTEND;TZID=America/New_York:20260511T150000
DTSTAMP:20260423T134915
CREATED:20250514T210154Z
LAST-MODIFIED:20251014T145413Z
UID:10016493-1778504400-1778511600@epworth.faith
SUMMARY:WINGS Meeting (Baker Lounge)
DESCRIPTION:
URL:https://epworth.faith/event/wings-meeting-baker-room-3/2026-05-11/
LOCATION:Epworth United Methodist Church\, 19285 Holland Glade Road\, Rehoboth Beach\, DE\, 19971\, United States
CATEGORIES:Church,Groups
ORGANIZER;CN="Nancy Almacy":MAILTO:nalmacy@gmail.com
END:VEVENT
BEGIN:VEVENT
DTSTART;TZID=America/New_York:20260608T130000
DTEND;TZID=America/New_York:20260608T150000
DTSTAMP:20260423T134915
CREATED:20250514T210154Z
LAST-MODIFIED:20251014T145413Z
UID:10016494-1780923600-1780930800@epworth.faith
SUMMARY:WINGS Meeting (Baker Lounge)
DESCRIPTION:
URL:https://epworth.faith/event/wings-meeting-baker-room-3/2026-06-08/
LOCATION:Epworth United Methodist Church\, 19285 Holland Glade Road\, Rehoboth Beach\, DE\, 19971\, United States
CATEGORIES:Church,Groups
ORGANIZER;CN="Nancy Almacy":MAILTO:nalmacy@gmail.com
END:VEVENT
BEGIN:VEVENT
DTSTART;TZID=America/New_York:20260713T130000
DTEND;TZID=America/New_York:20260713T150000
DTSTAMP:20260423T134915
CREATED:20250514T210154Z
LAST-MODIFIED:20251014T145413Z
UID:10016495-1783947600-1783954800@epworth.faith
SUMMARY:WINGS Meeting (Baker Lounge)
DESCRIPTION:
URL:https://epworth.faith/event/wings-meeting-baker-room-3/2026-07-13/
LOCATION:Epworth United Methodist Church\, 19285 Holland Glade Road\, Rehoboth Beach\, DE\, 19971\, United States
CATEGORIES:Church,Groups
ORGANIZER;CN="Nancy Almacy":MAILTO:nalmacy@gmail.com
END:VEVENT
BEGIN:VEVENT
DTSTART;TZID=America/New_York:20260810T130000
DTEND;TZID=America/New_York:20260810T150000
DTSTAMP:20260423T134915
CREATED:20250514T210154Z
LAST-MODIFIED:20251014T145413Z
UID:10016496-1786366800-1786374000@epworth.faith
SUMMARY:WINGS Meeting (Baker Lounge)
DESCRIPTION:
URL:https://epworth.faith/event/wings-meeting-baker-room-3/2026-08-10/
LOCATION:Epworth United Methodist Church\, 19285 Holland Glade Road\, Rehoboth Beach\, DE\, 19971\, United States
CATEGORIES:Church,Groups
ORGANIZER;CN="Nancy Almacy":MAILTO:nalmacy@gmail.com
END:VEVENT
BEGIN:VEVENT
DTSTART;TZID=America/New_York:20260914T130000
DTEND;TZID=America/New_York:20260914T150000
DTSTAMP:20260423T134915
CREATED:20250514T210154Z
LAST-MODIFIED:20251014T145413Z
UID:10016497-1789390800-1789398000@epworth.faith
SUMMARY:WINGS Meeting (Baker Lounge)
DESCRIPTION:
URL:https://epworth.faith/event/wings-meeting-baker-room-3/2026-09-14/
LOCATION:Epworth United Methodist Church\, 19285 Holland Glade Road\, Rehoboth Beach\, DE\, 19971\, United States
CATEGORIES:Church,Groups
ORGANIZER;CN="Nancy Almacy":MAILTO:nalmacy@gmail.com
END:VEVENT
BEGIN:VEVENT
DTSTART;TZID=America/New_York:20261012T130000
DTEND;TZID=America/New_York:20261012T150000
DTSTAMP:20260423T134915
CREATED:20250514T210154Z
LAST-MODIFIED:20251014T145413Z
UID:10016498-1791810000-1791817200@epworth.faith
SUMMARY:WINGS Meeting (Baker Lounge)
DESCRIPTION:
URL:https://epworth.faith/event/wings-meeting-baker-room-3/2026-10-12/
LOCATION:Epworth United Methodist Church\, 19285 Holland Glade Road\, Rehoboth Beach\, DE\, 19971\, United States
CATEGORIES:Church,Groups
ORGANIZER;CN="Nancy Almacy":MAILTO:nalmacy@gmail.com
END:VEVENT
BEGIN:VEVENT
DTSTART;TZID=America/New_York:20261109T130000
DTEND;TZID=America/New_York:20261109T150000
DTSTAMP:20260423T134915
CREATED:20250514T210154Z
LAST-MODIFIED:20251014T145413Z
UID:10016499-1794229200-1794236400@epworth.faith
SUMMARY:WINGS Meeting (Baker Lounge)
DESCRIPTION:
URL:https://epworth.faith/event/wings-meeting-baker-room-3/2026-11-09/
LOCATION:Epworth United Methodist Church\, 19285 Holland Glade Road\, Rehoboth Beach\, DE\, 19971\, United States
CATEGORIES:Church,Groups
ORGANIZER;CN="Nancy Almacy":MAILTO:nalmacy@gmail.com
END:VEVENT
BEGIN:VEVENT
DTSTART;TZID=America/New_York:20261214T130000
DTEND;TZID=America/New_York:20261214T150000
DTSTAMP:20260423T134915
CREATED:20250514T210154Z
LAST-MODIFIED:20251014T145413Z
UID:10016500-1797253200-1797260400@epworth.faith
SUMMARY:WINGS Meeting (Baker Lounge)
DESCRIPTION:
URL:https://epworth.faith/event/wings-meeting-baker-room-3/2026-12-14/
LOCATION:Epworth United Methodist Church\, 19285 Holland Glade Road\, Rehoboth Beach\, DE\, 19971\, United States
CATEGORIES:Church,Groups
ORGANIZER;CN="Nancy Almacy":MAILTO:nalmacy@gmail.com
END:VEVENT
END:VCALENDAR